BEGIN:VCALENDAR
VERSION:2.0
PRODID:-//In Gruna leben e.V. - ECPv6.8.3//NONSGML v1.0//EN
CALSCALE:GREGORIAN
METHOD:PUBLISH
X-ORIGINAL-URL:https://dresden-gruna.de
X-WR-CALDESC:Veranstaltungen für In Gruna leben e.V.
REFRESH-INTERVAL;VALUE=DURATION:PT1H
X-Robots-Tag:noindex
X-PUBLISHED-TTL:PT1H
BEGIN:VTIMEZONE
TZID:Europe/Berlin
BEGIN:DAYLIGHT
TZOFFSETFROM:+0100
TZOFFSETTO:+0200
TZNAME:CEST
DTSTART:20250330T010000
END:DAYLIGHT
BEGIN:STANDARD
TZOFFSETFROM:+0200
TZOFFSETTO:+0100
TZNAME:CET
DTSTART:20251026T010000
END:STANDARD
END:VTIMEZONE
BEGIN:VEVENT
DTSTART;TZID=Europe/Berlin:20250822T180000
DTEND;TZID=Europe/Berlin:20250822T203000
DTSTAMP:20260422T012749
CREATED:20230723T051107Z
LAST-MODIFIED:20250814T081111Z
UID:5516-1755885600-1755894600@dresden-gruna.de
SUMMARY:Dunstan-Babysprache Workshop
DESCRIPTION:Dein Baby weint. Was nun? Entdecke die Dunstan Babysprache und lerne die reflexbasierten Laute\, die alle Neugeborenen weltweit nutzen\, um ihre Grundbedürfnisse mitzuteilen. So weißt du ganz rasch\, was dein Baby gerade braucht!\nFür Babys & Eltern heißt dies: Weniger Weinen und weniger Stress. Mehr Schlaf\, mehr Selbstsicherheit & eine sichere Bindung von Anfang an.\nIm Workshop lernst du alle 5 Dunstan- Laute anhand von vielen verschiedenen Hörbeispielen intensiv kennen. Wir besprechen\, welche Möglichkeiten es gibt\, wenn du die Laute bei deinem Baby hörst und wie die erste Zeit mit deinem Kind entspannt verlaufen kann.\nDer Workshop ist für werdende Eltern und Eltern mit Babys bis etwa 4 Monate und Fachpersonal geeignet.\nEinmaliger Workshop\, Dauer etwa 2\,5h\, Rabatt für Studierende (es zählen alle Hochschulen\, die dem Studentenwerk Dresden angegliedert sind)\nAnmeldung unter www.mamutra.de
URL:https://dresden-gruna.de/event/dunstan-babysprache-workshop/
LOCATION:Eltern-Kind-Büro\, Rosenbergstr. 10\, Dresden\, 01277\, Deutschland
CATEGORIES:Treffen und Kurse
ATTACH;FMTTYPE=image/png:https://dresden-gruna.de/wp-content/uploads/2023/07/Mamutra-FB-Event-Wordpress.png
ORGANIZER;CN="Mamutra":MAILTO:info@mamutra.de
END:VEVENT
END:VCALENDAR