BEGIN:VCALENDAR
VERSION:2.0
PRODID:-//In Gruna leben e.V. - ECPv6.8.3//NONSGML v1.0//EN
CALSCALE:GREGORIAN
METHOD:PUBLISH
X-ORIGINAL-URL:https://dresden-gruna.de
X-WR-CALDESC:Veranstaltungen für In Gruna leben e.V.
REFRESH-INTERVAL;VALUE=DURATION:PT1H
X-Robots-Tag:noindex
X-PUBLISHED-TTL:PT1H
BEGIN:VTIMEZONE
TZID:Europe/Berlin
BEGIN:DAYLIGHT
TZOFFSETFROM:+0100
TZOFFSETTO:+0200
TZNAME:CEST
DTSTART:20250330T010000
END:DAYLIGHT
BEGIN:STANDARD
TZOFFSETFROM:+0200
TZOFFSETTO:+0100
TZNAME:CET
DTSTART:20251026T010000
END:STANDARD
END:VTIMEZONE
BEGIN:VEVENT
DTSTART;TZID=Europe/Berlin:20250523T090000
DTEND;TZID=Europe/Berlin:20250523T120000
DTSTAMP:20260422T061605
CREATED:20250521T143743Z
LAST-MODIFIED:20250521T143743Z
UID:9537-1747990800-1748001600@dresden-gruna.de
SUMMARY:Tag der offenen Tür im Eltern-Kind-Büro
DESCRIPTION:Tag der offenen Tür im Eltern-Kind-Büro! \n\n\nDiesen Freitag von 9-12 Uhr öffnen wir die Türen unseres Eltern-Kind-Büros! Seid ihr neugierig\, wie Arbeiten mit Kind bei uns aussieht? Oder sucht ihr einfach einen Ort\, um private Projekte voranzutreiben oder etwas Selbstfürsorge zu betreiben\, während euer Nachwuchs gut aufgehoben ist? Dann kommt vorbei!\n\n\nWir laden euch herzlich ein\, unsere kinderfreundliche Umgebung kennenzulernen. Schaut euch um\, stellt Fragen und lasst uns gemeinsam einen Tee trinken. Perfekt für alle\, die Familie\, Karriere und persönliche Bedürfnisse unter einen Hut bringen möchten!\n\n\nWir freuen uns auf euch!\n\n\n#ElternKindBüro #TagDerOffenenTür #WorkLifeBalance #Familienfreundlich #NewWork #KommtVorbei #BüroMitKind #Selbstfürsorge #PrivateProjekte
URL:https://dresden-gruna.de/event/tag-der-offenen-tuer-im-eltern-kind-buero/
LOCATION:Eltern-Kind-Büro\, Rosenbergstr. 10\, Dresden\, 01277\, Deutschland
CATEGORIES:Treffen und Kurse
ATTACH;FMTTYPE=image/png:https://dresden-gruna.de/wp-content/uploads/2025/05/EKB_WP-.png
END:VEVENT
END:VCALENDAR