BEGIN:VCALENDAR
VERSION:2.0
PRODID:-//In Gruna leben e.V. - ECPv6.8.3//NONSGML v1.0//EN
CALSCALE:GREGORIAN
METHOD:PUBLISH
X-ORIGINAL-URL:https://dresden-gruna.de
X-WR-CALDESC:Veranstaltungen für In Gruna leben e.V.
REFRESH-INTERVAL;VALUE=DURATION:PT1H
X-Robots-Tag:noindex
X-PUBLISHED-TTL:PT1H
BEGIN:VTIMEZONE
TZID:Europe/Berlin
BEGIN:DAYLIGHT
TZOFFSETFROM:+0100
TZOFFSETTO:+0200
TZNAME:CEST
DTSTART:20250330T010000
END:DAYLIGHT
BEGIN:STANDARD
TZOFFSETFROM:+0200
TZOFFSETTO:+0100
TZNAME:CET
DTSTART:20251026T010000
END:STANDARD
END:VTIMEZONE
BEGIN:VEVENT
DTSTART;TZID=Europe/Berlin:20250916T150000
DTEND;TZID=Europe/Berlin:20250916T173000
DTSTAMP:20260421T110540
CREATED:20230723T054934Z
LAST-MODIFIED:20250815T100314Z
UID:5519-1758034800-1758043800@dresden-gruna.de
SUMMARY:Babyzeichensprache Workshop
DESCRIPTION:Mit Babys auf dem Weg zur Sprache!\nKommunikation ist schon sehr früh ein grundlegendes menschliches Bedürfnis. Bis zur verständlichen Lautsprache ermöglichen Babyzeichen Deinem Kind Bedürfnisse und Gedanken leichter auszudrücken.\nDer Workshop dauert ca 2\,5 Stunden und kostet 40 Euro; für Paare 60 Euro inklusive Handout. Rabatt für Studierende\nDieser Kurs ist für Eltern\, Großeltern aber auch Fachpersonal geeignet.\nMehr Infos unter www.mamutra.de
URL:https://dresden-gruna.de/event/babyzeichensprache-workshop/
LOCATION:Eltern-Kind-Büro\, Rosenbergstr. 10\, Dresden\, 01277\, Deutschland
CATEGORIES:Treffen und Kurse
ATTACH;FMTTYPE=image/png:https://dresden-gruna.de/wp-content/uploads/2023/07/FB-Event-Wordpress-4.png
ORGANIZER;CN="Mamutra":MAILTO:info@mamutra.de
END:VEVENT
BEGIN:VEVENT
DTSTART;TZID=Europe/Berlin:20250926T160000
DTEND;TZID=Europe/Berlin:20250926T170000
DTSTAMP:20260421T110540
CREATED:20240909T072704Z
LAST-MODIFIED:20250925T080550Z
UID:8336-1758902400-1758906000@dresden-gruna.de
SUMMARY:Märchen für die Kleinsten mit Musik & Babyzeichen
DESCRIPTION:Ausfall der Veranstaltung auf Grund von Krankheit \nTauche ein in bunte Geschichten untermalt mit Musik & Babyzeichen! Beim Erzähltheater können Eltern mit Kindern bis etwa 3 Jahren lauschen\, staunen & mitmachen. \nDiese Veranstaltung ist Teil der Nachbarschaftstage
URL:https://dresden-gruna.de/event/maerchen-fuer-die-kleinsten-mit-musik-babyzeichen/
LOCATION:Eltern-Kind-Büro\, Rosenbergstr. 10\, Dresden\, 01277\, Deutschland
CATEGORIES:Nachbarschaftstage,Projekte und Aktionen
ATTACH;FMTTYPE=image/png:https://dresden-gruna.de/wp-content/uploads/2024/09/FB-Event-Wordpress-1.png
END:VEVENT
END:VCALENDAR