BEGIN:VCALENDAR
VERSION:2.0
PRODID:-//In Gruna leben e.V. - ECPv6.8.3//NONSGML v1.0//EN
CALSCALE:GREGORIAN
METHOD:PUBLISH
X-ORIGINAL-URL:https://dresden-gruna.de
X-WR-CALDESC:Veranstaltungen für In Gruna leben e.V.
REFRESH-INTERVAL;VALUE=DURATION:PT1H
X-Robots-Tag:noindex
X-PUBLISHED-TTL:PT1H
BEGIN:VTIMEZONE
TZID:Europe/Berlin
BEGIN:DAYLIGHT
TZOFFSETFROM:+0100
TZOFFSETTO:+0200
TZNAME:CEST
DTSTART:20230326T010000
END:DAYLIGHT
BEGIN:STANDARD
TZOFFSETFROM:+0200
TZOFFSETTO:+0100
TZNAME:CET
DTSTART:20231029T010000
END:STANDARD
END:VTIMEZONE
BEGIN:VEVENT
DTSTART;TZID=Europe/Berlin:20230602T093000
DTEND;TZID=Europe/Berlin:20230602T103000
DTSTAMP:20260422T142145
CREATED:20230502T042724Z
LAST-MODIFIED:20230503T034208Z
UID:5165-1685698200-1685701800@dresden-gruna.de
SUMMARY:Baby-& Bauch - Der Treff für werdende und frischgebackene Eltern
DESCRIPTION:Wir laden alle werdenden und frischgebackenen Eltern zum Baby-& Bauch-Treff ins Eltern-Kind-Büro Gruna ein. Für die Kinder gibt es erste Lieder\, Fingerspiele\, Babyzeichen und anregendes Spielzeug zu entdecken. Für Mütter und Väter bietet die Gruppe die Möglichkeit\, sich auszutauschen\, Kontakte zu knüpfen und Informationen zu wichtigen Themen im Leben mit Baby und Kleinkind zu bekommen.\nDie Veranstaltung ist kostenfrei\, wir bitten um eine Spende.\nDer Treff findet immer am ersten Freitag im Monat statt.
URL:https://dresden-gruna.de/event/baby-bauch-der-treff-fuer-werdende-und-frischgebackene-eltern-3/
CATEGORIES:Treffen und Kurse
ATTACH;FMTTYPE=image/jpeg:https://dresden-gruna.de/wp-content/uploads/2022/09/resize.jpg
END:VEVENT
BEGIN:VEVENT
DTSTART;TZID=Europe/Berlin:20230621T153000
DTEND;TZID=Europe/Berlin:20230621T173000
DTSTAMP:20260422T142145
CREATED:20230601T101701Z
LAST-MODIFIED:20230601T101701Z
UID:5338-1687361400-1687368600@dresden-gruna.de
SUMMARY:Workshop Tragen auf dem Rücken
DESCRIPTION:Im Kurs erlernt ihr das Tragen eures Babys auf dem Rücken mit Tragehilfe (1) oder Tragetuch (2). Ihr solltet bereits Erfahrung mit dem Tragen haben und das Baby sollte den Kopf sicher halten können. Der Kurs wird in 2 Teile aufgeteilt und ihr könnt einen oder beide Teile buchen. \nWenn ihr nur einen Teil des Workshops (Tragetuch oder Tragehilfe) belegen wollt\, dann kostet ein Workshop-Teil 20€ . \nBringt gern eure vorhanden Tücher und Tragehilfen zum Workshop mit.
URL:https://dresden-gruna.de/event/workshop-tragen-auf-dem-ruecken/
LOCATION:Eltern-Kind-Büro\, Rosenbergstr. 10\, Dresden\, 01277\, Deutschland
CATEGORIES:Treffen und Kurse
ATTACH;FMTTYPE=image/png:https://dresden-gruna.de/wp-content/uploads/2023/06/EKB_FB-WP-5.png
END:VEVENT
END:VCALENDAR