BEGIN:VCALENDAR
VERSION:2.0
PRODID:-//In Gruna leben e.V. - ECPv6.8.3//NONSGML v1.0//EN
CALSCALE:GREGORIAN
METHOD:PUBLISH
X-ORIGINAL-URL:https://dresden-gruna.de
X-WR-CALDESC:Veranstaltungen für In Gruna leben e.V.
REFRESH-INTERVAL;VALUE=DURATION:PT1H
X-Robots-Tag:noindex
X-PUBLISHED-TTL:PT1H
BEGIN:VTIMEZONE
TZID:Europe/Berlin
BEGIN:DAYLIGHT
TZOFFSETFROM:+0100
TZOFFSETTO:+0200
TZNAME:CEST
DTSTART:20240331T010000
END:DAYLIGHT
BEGIN:STANDARD
TZOFFSETFROM:+0200
TZOFFSETTO:+0100
TZNAME:CET
DTSTART:20241027T010000
END:STANDARD
END:VTIMEZONE
BEGIN:VEVENT
DTSTART;TZID=Europe/Berlin:20240501T173000
DTEND;TZID=Europe/Berlin:20240501T190000
DTSTAMP:20260421T164820
CREATED:20240425T081715Z
LAST-MODIFIED:20240425T081715Z
UID:7054-1714584600-1714590000@dresden-gruna.de
SUMMARY:Ausstellung " Zeitlos "
DESCRIPTION:Eröffnung der Ausstellung von der Malgruppe ZEICHNEN+MALEN mit Gerda Stender
URL:https://dresden-gruna.de/event/ausstellung-zeitlos/
LOCATION:Bürger-Treff „Grunaer Aue“ Winterbergstr.31c\, 01277 Dresden\, Winterbergstraße 31c\, Dresden\, 01277\, Deutschland
ATTACH;FMTTYPE=image/jpeg:https://dresden-gruna.de/wp-content/uploads/2023/02/blumen-1.jpg
ORGANIZER;CN="'In Gruna leben' e.V.":MAILTO:post@dresden-gruna.de
END:VEVENT
BEGIN:VEVENT
DTSTART;TZID=Europe/Berlin:20240501T190000
DTEND;TZID=Europe/Berlin:20240501T210000
DTSTAMP:20260421T164820
CREATED:20240425T081836Z
LAST-MODIFIED:20240425T081836Z
UID:7056-1714590000-1714597200@dresden-gruna.de
SUMMARY:Selbsthilfegruppe Eltern für Kinder
DESCRIPTION:
URL:https://dresden-gruna.de/event/selbsthilfegruppe-eltern-fuer-kinder-9/
LOCATION:Bürger-Treff „Grunaer Aue“ Winterbergstr.31c\, 01277 Dresden\, Winterbergstraße 31c\, Dresden\, 01277\, Deutschland
ORGANIZER;CN="'In Gruna leben' e.V.":MAILTO:post@dresden-gruna.de
END:VEVENT
BEGIN:VEVENT
DTSTART;TZID=Europe/Berlin:20240502T130000
DTEND;TZID=Europe/Berlin:20240502T180000
DTSTAMP:20260421T164820
CREATED:20240425T082101Z
LAST-MODIFIED:20240425T082101Z
UID:7058-1714654800-1714672800@dresden-gruna.de
SUMMARY:Sprechzeit im Bürgertreff
DESCRIPTION:Sie können persönlich Kontakt zu uns aufnehmen und Anregungen\, Ideen & Wünsche äußern\, Fragen stellen oder Dich über unsere Aktionen und Mitmach-Möglichkeiten informieren. \nSie können aber auch gern einen Termin außerhalb der Sprechzeit  vereinbaren.  Telefon:    0351 26552063   oder  015227717854  vielen Dank \noder schreiben Sie eine Mail an steffi.mueller-effenberger@dresden-gruna.de vielen Dank.
URL:https://dresden-gruna.de/event/sprechzeit-im-buergertreff-96/
LOCATION:Bürger-Treff „Grunaer Aue“ Winterbergstr.31c\, 01277 Dresden\, Winterbergstraße 31c\, Dresden\, 01277\, Deutschland
ORGANIZER;CN="'In Gruna leben' e.V.":MAILTO:post@dresden-gruna.de
END:VEVENT
BEGIN:VEVENT
DTSTART;TZID=Europe/Berlin:20240503T140000
DTEND;TZID=Europe/Berlin:20240503T160000
DTSTAMP:20260421T164820
CREATED:20240425T104202Z
LAST-MODIFIED:20240429T121156Z
UID:7110-1714744800-1714752000@dresden-gruna.de
SUMMARY:Nächster Halt Akazienhof - Jane´s Walk durch Gruna
DESCRIPTION:Fr.\, 03.05.\, 14 bis 16 Uhr: \n“Nächster Halt Akazienhof” \nIm Rahmen des Jane’s Walk-Festivals 2024 erkunden wir Gruna mit den Lastenrad von der Zwinglistraße\, durch Altgruna bis zum Akazienhof. \nStart 14 Uhr an Stadtteilbibliothek Gruna\, Bielatalweg\, Haltestelle Zwinglistraße \nDas weltweite Janes Walk-festival findet vom 3. bis 5. Mai 2024 auch in anderen Dresdner Stadttteilen statt. Ihr dürft auf interessante Entdeckungen sowie ein interessantes Rahmenprogramm gespannt sein. Bis dahin: bleibt gesund und gut zu Fuß! \nhttps://www.janeswalk-dresden.de/ \n 
URL:https://dresden-gruna.de/event/janes-walk-durch-gruna/
ATTACH;FMTTYPE=image/jpeg:https://dresden-gruna.de/wp-content/uploads/2024/04/Janes-Walk_Lastenrad.jpg
END:VEVENT
BEGIN:VEVENT
DTSTART;TZID=Europe/Berlin:20240504T100000
DTEND;TZID=Europe/Berlin:20240504T120000
DTSTAMP:20260421T164825
CREATED:20240421T223534Z
LAST-MODIFIED:20240504T071414Z
UID:7042-1714816800-1714824000@dresden-gruna.de
SUMMARY:Spielplatz-Planung mit Kindern
DESCRIPTION:Hä? Ein Spielplatz? \nLiebe Kinder!\nAuf >>> diesem Platz soll bald eine kleine\nSpiel-Landschaft für euch entstehen.\nUnd für die Erwachsenen ein schöner\nOrt zum Zugucken.\nAm 4. Mai 2024 \nbeginnt die Planung. Mit euch!\nZeigt uns\, was ihr euch hierher wünscht. Malt Bilder\, baut kleine Modelle oder\nschreibt einfach auf\, was ihr an diesem Ort erleben wollt.\nAuch alle Erwachsenen sind dazu eingeladen\, schließlich waren sie auch mal Kinder\nund können uns bestimmt erzählen\, was alles so wichtig ist.\nWir treffen uns von 10-12:00Uhr am Eingangstor Bärensteiner Straße/\nFrauensteiner Platz. \nBis dahin\, ich freue mich auf euch und eure Ideen!\nLandschaftsarchitekt Matthias Mohring \n24-05-04 Aushang Kinderworkshop 2 \nWann ? Am 4. Mai 2024 Samstag – 10 – 12:00Uhr \nWo ? Eingangstor Bärensteiner Straße / Frauensteiner Platz. \nKGV Alte Elbe – Frauensteiner Platz e.V.
URL:https://dresden-gruna.de/event/spielplatz-planung-mit-kindern/
LOCATION:Eingangstor Bärensteiner Straße/ Frauensteiner Platz\, Bärensteiner Straße/ Frauensteiner Platz\, Dresden\, 01277
CATEGORIES:Planungs- und Absprachetreffen
ATTACH;FMTTYPE=image/jpeg:https://dresden-gruna.de/wp-content/uploads/2024/05/Kinderworkshop_Baerensteiner-Frauensteinerplatz.jpg
END:VEVENT
BEGIN:VEVENT
DTSTART;TZID=Europe/Berlin:20240505T110000
DTEND;TZID=Europe/Berlin:20240505T170000
DTSTAMP:20260421T164825
CREATED:20240502T111046Z
LAST-MODIFIED:20240504T155719Z
UID:7213-1714906800-1714928400@dresden-gruna.de
SUMMARY:Nachbarschaftsbrunch in Pieschen
DESCRIPTION:Konkordien isst bunt… \nAm 5. Mai ab 11 Uhr laden wir gemeinsam mit unseren Stadtteilpartnern in Pieschen und der Lebenshilfe e.V. zu einem inklusiven Nachbarschaftsbrunch auf dem Konkordienplatz ein.  Wir sind mit Lastenrad\, Tafel und Infos aus dem Stadtteil vor Ort. \n5min Fußweg von der Haltestelle Oschatzerstraße (Linie 4)  und Bürgerstraße (Linie 4\, 9\, 13 ) \nStände finden sich am Konkordienplatz\, 01127 Neustadt \n5.Mai – Konkordien-isst-bunt  Herunterladen\n\nZur Veranstaltung auf Facebook
URL:https://dresden-gruna.de/event/nachbarschaftsbrunch-in-pieschen/
ATTACH;FMTTYPE=image/jpeg:https://dresden-gruna.de/wp-content/uploads/2024/05/Konkorien-isst-bunt_Logo.jpg
END:VEVENT
BEGIN:VEVENT
DTSTART;TZID=Europe/Berlin:20240506T160000
DTEND;TZID=Europe/Berlin:20240506T180000
DTSTAMP:20260421T164825
CREATED:20230828T085840Z
LAST-MODIFIED:20240505T195623Z
UID:5692-1715011200-1715018400@dresden-gruna.de
SUMMARY:Malraum am Akazienhof verschoben
DESCRIPTION:Der Malraum Termin wird verschoben. \nNächesten Montag gibt es wieder die Möglichkeit seine Kreativität im Malraum auszudrücken. Jeweils eine Stunde von 16-17 Uhr und 17-18 Uhr im Grünen Pavillon am Akazienhof. \nBitte meldet euch bei Malraumleiterin Juliane Franke\n01520 1969994\, juliane.franke77@gmail.com
URL:https://dresden-gruna.de/event/malraum-am-gruenen-akazienhof-pavillon/
CATEGORIES:Treffen und Kurse
ATTACH;FMTTYPE=image/jpeg:https://dresden-gruna.de/wp-content/uploads/2023/06/images.jpg
ORGANIZER;CN="'In Gruna leben' e.V.":MAILTO:post@dresden-gruna.de
END:VEVENT
BEGIN:VEVENT
DTSTART;TZID=Europe/Berlin:20240507T130000
DTEND;TZID=Europe/Berlin:20240507T180000
DTSTAMP:20260421T164825
CREATED:20240425T091715Z
LAST-MODIFIED:20240425T091715Z
UID:7092-1715086800-1715104800@dresden-gruna.de
SUMMARY:Sprechzeit im Bürgertreff
DESCRIPTION:Sie können persönlich Kontakt zu uns aufnehmen und Anregungen\, Ideen & Wünsche äußern\, Fragen stellen oder Dich über unsere Aktionen und Mitmach-Möglichkeiten informieren. \nSie können aber auch gern einen Termin außerhalb der Sprechzeit  vereinbaren.  Telefon:    0351 26552063   oder  015227717854  vielen Dank \noder schreiben Sie eine Mail an steffi.mueller-effenberger@dresden-gruna.de vielen Dank.
URL:https://dresden-gruna.de/event/sprechzeit-im-buergertreff-97/
LOCATION:Bürger-Treff „Grunaer Aue“ Winterbergstr.31c\, 01277 Dresden\, Winterbergstraße 31c\, Dresden\, 01277\, Deutschland
ORGANIZER;CN="'In Gruna leben' e.V.":MAILTO:post@dresden-gruna.de
END:VEVENT
BEGIN:VEVENT
DTSTART;TZID=Europe/Berlin:20240508T190000
DTEND;TZID=Europe/Berlin:20240508T220000
DTSTAMP:20260421T164825
CREATED:20240425T083339Z
LAST-MODIFIED:20240425T083339Z
UID:7064-1715194800-1715205600@dresden-gruna.de
SUMMARY:Koordinierungskreis Solidarische Landwirtschaft Gruna
DESCRIPTION:
URL:https://dresden-gruna.de/event/koordinierungskreis-solidarische-landwirtschaft-gruna-17/
LOCATION:Bürger-Treff „Grunaer Aue“ Winterbergstr.31c\, 01277 Dresden\, Winterbergstraße 31c\, Dresden\, 01277\, Deutschland
ORGANIZER;CN="'In Gruna leben' e.V.":MAILTO:post@dresden-gruna.de
END:VEVENT
BEGIN:VEVENT
DTSTART;TZID=Europe/Berlin:20240510T100000
DTEND;TZID=Europe/Berlin:20240510T140000
DTSTAMP:20260421T164825
CREATED:20240425T083631Z
LAST-MODIFIED:20240425T083631Z
UID:7066-1715335200-1715349600@dresden-gruna.de
SUMMARY:Frühstück für Männer ( Frauen )
DESCRIPTION:Den Brückentag gemütlich bei einem guten Frühstück genießen und ein kleines Skatspiel wagen…..
URL:https://dresden-gruna.de/event/fruehstueck-fuer-maenner-frauen/
LOCATION:Bürger-Treff „Grunaer Aue“ Winterbergstr.31c\, 01277 Dresden\, Winterbergstraße 31c\, Dresden\, 01277\, Deutschland
ATTACH;FMTTYPE=image/jpeg:https://dresden-gruna.de/wp-content/uploads/2024/01/fondo-comida-acuarela_777576-4896.jpg
ORGANIZER;CN="'In Gruna leben' e.V.":MAILTO:post@dresden-gruna.de
END:VEVENT
BEGIN:VEVENT
DTSTART;TZID=Europe/Berlin:20240513T100000
DTEND;TZID=Europe/Berlin:20240513T120000
DTSTAMP:20260421T164825
CREATED:20240425T083857Z
LAST-MODIFIED:20240425T083857Z
UID:7068-1715594400-1715601600@dresden-gruna.de
SUMMARY:DigitalCafé\, die Sprechstunde zu Smartphone & Co.
DESCRIPTION:Das DigitalCafé findet als Sprechstunde ausgebildeter Technikbotschafter zu Fragen im Umgang mit Smartphone & Co.\nimmer am 2. Montag in der Zeit zwischen 10 und 12 Uhr im Bürgertreff „Grunaer Aue“\,\nWinterbergstr. 31c\, 10277 Dresden statt. \nWeitere Informationen  auf der WEB-Seite DigitalCafe!
URL:https://dresden-gruna.de/event/digitalcafe-die-sprechstunde-zu-smartphone-co-13/
LOCATION:Bürger-Treff „Grunaer Aue“ Winterbergstr.31c\, 01277 Dresden\, Winterbergstraße 31c\, Dresden\, 01277\, Deutschland
ATTACH;FMTTYPE=image/jpeg:https://dresden-gruna.de/wp-content/uploads/2022/12/images.jpg
ORGANIZER;CN="'In Gruna leben' e.V.":MAILTO:post@dresden-gruna.de
END:VEVENT
BEGIN:VEVENT
DTSTART;TZID=Europe/Berlin:20240513T160000
DTEND;TZID=Europe/Berlin:20240513T180000
DTSTAMP:20260421T164825
CREATED:20240510T152252Z
LAST-MODIFIED:20240510T152327Z
UID:7262-1715616000-1715623200@dresden-gruna.de
SUMMARY:Malraum am Akazienhof
DESCRIPTION:Malraum am Akazienhof \nNächesten Montag gibt es wieder die Möglichkeit seine Kreativität im Malraum auszudrücken. Jeweils eine Stunde von 16-17 Uhr und 17-18 Uhr im Grünen Pavillon am Akazienhof. \nBitte meldet euch bei Malraumleiterin Juliane Franke\n01520 1969994\, juliane.franke77@gmail.com
URL:https://dresden-gruna.de/event/malraum-am-akazienhof-2/
LOCATION:Villa Akazienhof\, Schneebergstraße 16\, Schneebergstr. 16\, Dresden\, Sachsen\, 01277\, Deutschland
CATEGORIES:Akazienhof,Projekte und Aktionen
ATTACH;FMTTYPE=image/jpeg:https://dresden-gruna.de/wp-content/uploads/2023/06/images.jpg
ORGANIZER;CN="'In Gruna leben' e.V.":MAILTO:post@dresden-gruna.de
END:VEVENT
BEGIN:VEVENT
DTSTART;TZID=Europe/Berlin:20240514T130000
DTEND;TZID=Europe/Berlin:20240514T180000
DTSTAMP:20260421T164825
CREATED:20240425T092035Z
LAST-MODIFIED:20240425T092035Z
UID:7096-1715691600-1715709600@dresden-gruna.de
SUMMARY:Sprechzeit im Bürgertreff
DESCRIPTION:Sie können persönlich Kontakt zu uns aufnehmen und Anregungen\, Ideen & Wünsche äußern\, Fragen stellen oder Dich über unsere Aktionen und Mitmach-Möglichkeiten informieren. \nSie können aber auch gern einen Termin außerhalb der Sprechzeit  vereinbaren.  Telefon:    0351 26552063   oder  015227717854  vielen Dank \noder schreiben Sie eine Mail an steffi.mueller-effenberger@dresden-gruna.de vielen Dank.
URL:https://dresden-gruna.de/event/sprechzeit-im-buergertreff-99/
LOCATION:Bürger-Treff „Grunaer Aue“ Winterbergstr.31c\, 01277 Dresden\, Winterbergstraße 31c\, Dresden\, 01277\, Deutschland
ORGANIZER;CN="'In Gruna leben' e.V.":MAILTO:post@dresden-gruna.de
END:VEVENT
BEGIN:VEVENT
DTSTART;TZID=Europe/Berlin:20240514T193000
DTEND;TZID=Europe/Berlin:20240514T213000
DTSTAMP:20260421T164825
CREATED:20240425T084130Z
LAST-MODIFIED:20240425T084130Z
UID:7070-1715715000-1715722200@dresden-gruna.de
SUMMARY:Mandala -Mal- Abend
DESCRIPTION:Genieße Entspannung und erlebe Freude und Harmonie erwecke deine eigene Schöpferkraft \nBei Interesse bitte unter folgender Telefonnummer 015201969994 oder per Mail Juliane.Franke77@gmail.com anmelden. \nTeilnahmebetrag  10\,00 €
URL:https://dresden-gruna.de/event/mandala-mal-abend-7/
LOCATION:Bürger-Treff „Grunaer Aue“ Winterbergstr.31c\, 01277 Dresden\, Winterbergstraße 31c\, Dresden\, 01277\, Deutschland
ATTACH;FMTTYPE=image/png:https://dresden-gruna.de/wp-content/uploads/2023/10/mandala-fuer-erwachsene3.png
ORGANIZER;CN="'In Gruna leben' e.V.":MAILTO:post@dresden-gruna.de
END:VEVENT
BEGIN:VEVENT
DTSTART;TZID=Europe/Berlin:20240515T100000
DTEND;TZID=Europe/Berlin:20240515T113000
DTSTAMP:20260421T164825
CREATED:20240425T084351Z
LAST-MODIFIED:20240425T084351Z
UID:7072-1715767200-1715772600@dresden-gruna.de
SUMMARY:Biografie-und Schreibkreis
DESCRIPTION:Wir erzählen\, schreiben und lesen Geschichten aus unserem Leben – \nANMELDUNG ERFORDERLICH  unter 0351 2632138
URL:https://dresden-gruna.de/event/biografie-und-schreibkreis-25/
LOCATION:Bürger-Treff „Grunaer Aue“ Winterbergstr.31c\, 01277 Dresden\, Winterbergstraße 31c\, Dresden\, 01277\, Deutschland
ATTACH;FMTTYPE=image/png:https://dresden-gruna.de/wp-content/uploads/2023/01/Buch-1.png
ORGANIZER;CN="Sigus e.V.":MAILTO:sigus-dd@t-online.de
END:VEVENT
BEGIN:VEVENT
DTSTART;TZID=Europe/Berlin:20240516T100000
DTEND;TZID=Europe/Berlin:20240516T120000
DTSTAMP:20260421T164825
CREATED:20240425T084747Z
LAST-MODIFIED:20240425T103947Z
UID:7074-1715853600-1715860800@dresden-gruna.de
SUMMARY:Koordinierungsverbund "Nachbarn helfen Nachbarn in Gruna"
DESCRIPTION:Achtung anderer Ort:  Akazienhof\, Alternative bei schlechten Wetter Lebendiger Leben   Rosenbergstraße 10
URL:https://dresden-gruna.de/event/koordinierungsverband-nachbarn-helfen-nachbarn-in-gruna/
LOCATION:Bürger-Treff „Grunaer Aue“ Winterbergstr.31c\, 01277 Dresden\, Winterbergstraße 31c\, Dresden\, 01277\, Deutschland
ORGANIZER;CN="Sigus e.V.":MAILTO:sigus-dd@t-online.de
END:VEVENT
BEGIN:VEVENT
DTSTART;TZID=Europe/Berlin:20240516T130000
DTEND;TZID=Europe/Berlin:20240516T180000
DTSTAMP:20260421T164825
CREATED:20240425T092128Z
LAST-MODIFIED:20240425T092128Z
UID:7098-1715864400-1715882400@dresden-gruna.de
SUMMARY:Sprechzeit im Bürgertreff
DESCRIPTION:Sie können persönlich Kontakt zu uns aufnehmen und Anregungen\, Ideen & Wünsche äußern\, Fragen stellen oder Dich über unsere Aktionen und Mitmach-Möglichkeiten informieren. \nSie können aber auch gern einen Termin außerhalb der Sprechzeit  vereinbaren.  Telefon:    0351 26552063   oder  015227717854  vielen Dank \noder schreiben Sie eine Mail an steffi.mueller-effenberger@dresden-gruna.de vielen Dank.
URL:https://dresden-gruna.de/event/sprechzeit-im-buergertreff-100/
LOCATION:Bürger-Treff „Grunaer Aue“ Winterbergstr.31c\, 01277 Dresden\, Winterbergstraße 31c\, Dresden\, 01277\, Deutschland
ORGANIZER;CN="'In Gruna leben' e.V.":MAILTO:post@dresden-gruna.de
END:VEVENT
BEGIN:VEVENT
DTSTART;TZID=Europe/Berlin:20240519T100000
DTEND;TZID=Europe/Berlin:20240519T120000
DTSTAMP:20260421T164825
CREATED:20240516T231517Z
LAST-MODIFIED:20240516T231517Z
UID:7306-1716112800-1716120000@dresden-gruna.de
SUMMARY:Arbeitseinsatz Akazienhof: Wege frei machen
DESCRIPTION:Sonntag-Morgen-Workout im Freien? Gemeinsam wollen wir mit Ast- und Gartenschere\, Spaten und Hacke die Pfade im Akazienhof wieder sicher begehbar machen. Bringt gern arbeitstaugliche Kleidung mit. An Werkzeugen haben wir einiges vor Ort.
URL:https://dresden-gruna.de/event/arbeitseinsatz-akazienhof-wege-frei-machen/
LOCATION:Villa Akazienhof\, Schneebergstraße 16\, Schneebergstr. 16\, Dresden\, Sachsen\, 01277\, Deutschland
CATEGORIES:Akazienhof,Arbeitsgruppen,Projekte und Aktionen
ATTACH;FMTTYPE=image/png:https://dresden-gruna.de/wp-content/uploads/2024/05/aitubo.png
ORGANIZER;CN="'In Gruna leben' e.V.":MAILTO:post@dresden-gruna.de
END:VEVENT
BEGIN:VEVENT
DTSTART;TZID=Europe/Berlin:20240521T130000
DTEND;TZID=Europe/Berlin:20240521T180000
DTSTAMP:20260421T164825
CREATED:20240425T092220Z
LAST-MODIFIED:20240425T092233Z
UID:7100-1716296400-1716314400@dresden-gruna.de
SUMMARY:Sprechzeit im Bürgertreff
DESCRIPTION:Sie können persönlich Kontakt zu uns aufnehmen und Anregungen\, Ideen & Wünsche äußern\, Fragen stellen oder Dich über unsere Aktionen und Mitmach-Möglichkeiten informieren. \nSie können aber auch gern einen Termin außerhalb der Sprechzeit  vereinbaren.  Telefon:    0351 26552063   oder  015227717854  vielen Dank \noder schreiben Sie eine Mail an steffi.mueller-effenberger@dresden-gruna.de vielen Dank.
URL:https://dresden-gruna.de/event/sprechzeit-im-buergertreff-101/
LOCATION:Bürger-Treff „Grunaer Aue“ Winterbergstr.31c\, 01277 Dresden\, Winterbergstraße 31c\, Dresden\, 01277\, Deutschland
ORGANIZER;CN="'In Gruna leben' e.V.":MAILTO:post@dresden-gruna.de
END:VEVENT
BEGIN:VEVENT
DTSTART;TZID=Europe/Berlin:20240522T160000
DTEND;TZID=Europe/Berlin:20240522T170000
DTSTAMP:20260421T164825
CREATED:20240119T055413Z
LAST-MODIFIED:20240516T130816Z
UID:6562-1716393600-1716397200@dresden-gruna.de
SUMMARY:Minimusic
DESCRIPTION:Early childhood music classes für babies and their parents.\nCome and join us to make music\, sing and dance.\nThe course will be in English and the songs are from around the world. Course instructors Deepa and Monika are professional musicians and educators.\n16:00 for toddlers from 1 Year old\n\nEntering the course is possible at any time after registration. \nRegistration: minimusic.dresden@gmail.com
URL:https://dresden-gruna.de/event/minimusic/
LOCATION:Eltern-Kind-Büro\, Rosenbergstr. 10\, Dresden\, 01277\, Deutschland
CATEGORIES:Treffen und Kurse
END:VEVENT
BEGIN:VEVENT
DTSTART;TZID=Europe/Berlin:20240522T190000
DTEND;TZID=Europe/Berlin:20240522T220000
DTSTAMP:20260421T164825
CREATED:20240425T084857Z
LAST-MODIFIED:20240425T084857Z
UID:7076-1716404400-1716415200@dresden-gruna.de
SUMMARY:Koordinierungskreis Solidarische Landwirtschaft Gruna
DESCRIPTION:
URL:https://dresden-gruna.de/event/koordinierungskreis-solidarische-landwirtschaft-gruna-18/
LOCATION:Bürger-Treff „Grunaer Aue“ Winterbergstr.31c\, 01277 Dresden\, Winterbergstraße 31c\, Dresden\, 01277\, Deutschland
ORGANIZER;CN="'In Gruna leben' e.V.":MAILTO:post@dresden-gruna.de
END:VEVENT
BEGIN:VEVENT
DTSTART;TZID=Europe/Berlin:20240523T130000
DTEND;TZID=Europe/Berlin:20240523T180000
DTSTAMP:20260421T164825
CREATED:20240425T092404Z
LAST-MODIFIED:20240425T092404Z
UID:7102-1716469200-1716487200@dresden-gruna.de
SUMMARY:Sprechzeit im Bürgertreff
DESCRIPTION:Sie können persönlich Kontakt zu uns aufnehmen und Anregungen\, Ideen & Wünsche äußern\, Fragen stellen oder Dich über unsere Aktionen und Mitmach-Möglichkeiten informieren. \nSie können aber auch gern einen Termin außerhalb der Sprechzeit  vereinbaren.  Telefon:    0351 26552063   oder  015227717854  vielen Dank \noder schreiben Sie eine Mail an steffi.mueller-effenberger@dresden-gruna.de vielen Dank.
URL:https://dresden-gruna.de/event/sprechzeit-im-buergertreff-102/
LOCATION:Bürger-Treff „Grunaer Aue“ Winterbergstr.31c\, 01277 Dresden\, Winterbergstraße 31c\, Dresden\, 01277\, Deutschland
ORGANIZER;CN="'In Gruna leben' e.V.":MAILTO:post@dresden-gruna.de
END:VEVENT
BEGIN:VEVENT
DTSTART;TZID=Europe/Berlin:20240523T160000
DTEND;TZID=Europe/Berlin:20240523T180000
DTSTAMP:20260421T164825
CREATED:20240425T085610Z
LAST-MODIFIED:20240515T052739Z
UID:7078-1716480000-1716487200@dresden-gruna.de
SUMMARY:Insektenhotel bauen - Fällt leider aus
DESCRIPTION:Aus Gesundheitlichen Gründen fällt die Veranstaltung leider aus. \nEin Ersatztermin wird gesucht.
URL:https://dresden-gruna.de/event/wir-bauen-insektenhotels-fuer-den-akazienhof/
LOCATION:Bürger-Treff „Grunaer Aue“ Winterbergstr.31c\, 01277 Dresden\, Winterbergstraße 31c\, Dresden\, 01277\, Deutschland
ATTACH;FMTTYPE=image/jpeg:https://dresden-gruna.de/wp-content/uploads/2024/04/insektenhotel-befuellen.jpg
ORGANIZER;CN="'In Gruna leben' e.V.":MAILTO:post@dresden-gruna.de
END:VEVENT
BEGIN:VEVENT
DTSTART;TZID=Europe/Berlin:20240523T210000
DTEND;TZID=Europe/Berlin:20240523T223000
DTSTAMP:20260421T164825
CREATED:20240425T085915Z
LAST-MODIFIED:20240516T124703Z
UID:7081-1716498000-1716503400@dresden-gruna.de
SUMMARY:Vollmondfeuer im Akazienhof
DESCRIPTION:Schwatzend oder Schweigend gemeinsam ins Lagerfeuer schauen und die Energie genießen
URL:https://dresden-gruna.de/event/vollmondfeuer-im-akazienhof-2/
LOCATION:Villa Akazienhof\, Schneebergstraße 16\, Schneebergstr. 16\, Dresden\, Sachsen\, 01277\, Deutschland
CATEGORIES:Akazienhof
ATTACH;FMTTYPE=image/jpeg:https://dresden-gruna.de/wp-content/uploads/2023/03/20220713_202557-scaled.jpg
ORGANIZER;CN="'In Gruna leben' e.V.":MAILTO:post@dresden-gruna.de
END:VEVENT
BEGIN:VEVENT
DTSTART;TZID=Europe/Berlin:20240527T160000
DTEND;TZID=Europe/Berlin:20240527T180000
DTSTAMP:20260421T164825
CREATED:20240526T155022Z
LAST-MODIFIED:20240526T155022Z
UID:7334-1716825600-1716832800@dresden-gruna.de
SUMMARY:Malraum am Akazienhof
DESCRIPTION:„Male was in dir ist!“ \nJeden Montag gibt es die Möglichkeit im Grünen Pavillon des Akazienhofgartens der eigenen Kreativität freien Lauf zu lassen. \nJeweils eine Stunde intuitives Malen von 16-17 Uhr und 17-18 Uhr im Akazienhof. \nAnmeldung bei der Malraumleiterin Juliane Franke\nTel.: 01520 1969994\nE-Mail: juliane.franke77@gmail.com\nwww.JulianesTraumbilderwelten.de
URL:https://dresden-gruna.de/event/malraum/
LOCATION:Villa Akazienhof\, Schneebergstraße 16\, Schneebergstr. 16\, Dresden\, Sachsen\, 01277\, Deutschland
CATEGORIES:Akazienhof
ATTACH;FMTTYPE=image/jpeg:https://dresden-gruna.de/wp-content/uploads/2024/05/Malraum.jpg
END:VEVENT
BEGIN:VEVENT
DTSTART;TZID=Europe/Berlin:20240527T163000
DTEND;TZID=Europe/Berlin:20240527T180000
DTSTAMP:20260421T164825
CREATED:20240425T090323Z
LAST-MODIFIED:20240425T090323Z
UID:7083-1716827400-1716832800@dresden-gruna.de
SUMMARY:ErzählCafé
DESCRIPTION:Wir ha(tt)en die Wahl                                                                                                                     Erzählcafé in der Reihe „Auferstanden und der Zukunft  zugewandt ?“
URL:https://dresden-gruna.de/event/erzaehlcafe-15/
LOCATION:Bürger-Treff „Grunaer Aue“ Winterbergstr.31c\, 01277 Dresden\, Winterbergstraße 31c\, Dresden\, 01277\, Deutschland
ATTACH;FMTTYPE=image/jpeg:https://dresden-gruna.de/wp-content/uploads/2020/03/beverage-book-cafe-caffeine-433124.jpg
ORGANIZER;CN="Sigus e.V.":MAILTO:sigus-dd@t-online.de
END:VEVENT
BEGIN:VEVENT
DTSTART;TZID=Europe/Berlin:20240528T080000
DTEND;TZID=Europe/Berlin:20240528T170000
DTSTAMP:20260421T164825
CREATED:20240528T103144Z
LAST-MODIFIED:20240528T103144Z
UID:7387-1716883200-1716915600@dresden-gruna.de
SUMMARY:Frauenfrühstück
DESCRIPTION:mal anders \, wir gehe zu Waffels
URL:https://dresden-gruna.de/event/frauenfruehstueck-2/
END:VEVENT
BEGIN:VEVENT
DTSTART;TZID=Europe/Berlin:20240528T100000
DTEND;TZID=Europe/Berlin:20240528T110000
DTSTAMP:20260421T164825
CREATED:20240527T150034Z
LAST-MODIFIED:20240527T150034Z
UID:7360-1716890400-1716894000@dresden-gruna.de
SUMMARY:Fit im Park - Ganzkörperübungen
DESCRIPTION:Ein Workout\, das den gesamten Körper anspricht und Kraft\, Ausdauer und Flexibilität verbessert\, um die allgemeine Fitness zu steigern und das Wohlbefinden zu fördern. \nBitte bringe zu diesem Kurs ein Handtuch oder eine Matte mit!
URL:https://dresden-gruna.de/event/fit-im-park-ganzkoerperuebungen/
LOCATION:Rothermundpark\, Dresden\, 01277
ATTACH;FMTTYPE=image/png:https://dresden-gruna.de/wp-content/uploads/2024/05/Fit-im-Park.png
END:VEVENT
BEGIN:VEVENT
DTSTART;TZID=Europe/Berlin:20240528T100000
DTEND;TZID=Europe/Berlin:20240528T130000
DTSTAMP:20260421T164825
CREATED:20240425T090950Z
LAST-MODIFIED:20240425T090950Z
UID:7087-1716890400-1716901200@dresden-gruna.de
SUMMARY:Frauenfrühstück im Grünen
DESCRIPTION:diesmal ist ein Mitbring – Frühstück im großen Garten geplant und noch eine Überraschung.   Bei schlechten Wetter im Bürgertreff.
URL:https://dresden-gruna.de/event/frauenfruehstueck-im-gruenen/
LOCATION:Bürger-Treff „Grunaer Aue“ Winterbergstr.31c\, 01277 Dresden\, Winterbergstraße 31c\, Dresden\, 01277\, Deutschland
ATTACH;FMTTYPE=image/jpeg:https://dresden-gruna.de/wp-content/uploads/2023/01/frauen.jpg
ORGANIZER;CN="'In Gruna leben' e.V.":MAILTO:post@dresden-gruna.de
END:VEVENT
BEGIN:VEVENT
DTSTART;TZID=Europe/Berlin:20240528T150000
DTEND;TZID=Europe/Berlin:20240528T170000
DTSTAMP:20260421T164825
CREATED:20240425T093002Z
LAST-MODIFIED:20240425T112422Z
UID:7104-1716908400-1716915600@dresden-gruna.de
SUMMARY:Sprechzeit im Bürgertreff
DESCRIPTION:Sie können persönlich Kontakt zu uns aufnehmen und Anregungen\, Ideen & Wünsche äußern\, Fragen stellen oder Dich über unsere Aktionen und Mitmach-Möglichkeiten informieren. \nSie können aber auch gern einen Termin außerhalb der Sprechzeit  vereinbaren.  Telefon:    0351 26552063   oder  015227717854  vielen Dank \noder schreiben Sie eine Mail an steffi.mueller-effenberger@dresden-gruna.de vielen Dank.
URL:https://dresden-gruna.de/event/sprechzeit-im-buergertreff-103/
LOCATION:Bürger-Treff „Grunaer Aue“ Winterbergstr.31c\, 01277 Dresden\, Winterbergstraße 31c\, Dresden\, 01277\, Deutschland
ORGANIZER;CN="'In Gruna leben' e.V.":MAILTO:post@dresden-gruna.de
END:VEVENT
END:VCALENDAR