BEGIN:VCALENDAR
VERSION:2.0
PRODID:-//In Gruna leben e.V. - ECPv6.8.3//NONSGML v1.0//EN
CALSCALE:GREGORIAN
METHOD:PUBLISH
X-ORIGINAL-URL:https://dresden-gruna.de
X-WR-CALDESC:Veranstaltungen für In Gruna leben e.V.
REFRESH-INTERVAL;VALUE=DURATION:PT1H
X-Robots-Tag:noindex
X-PUBLISHED-TTL:PT1H
BEGIN:VTIMEZONE
TZID:Europe/Berlin
BEGIN:DAYLIGHT
TZOFFSETFROM:+0100
TZOFFSETTO:+0200
TZNAME:CEST
DTSTART:20240331T010000
END:DAYLIGHT
BEGIN:STANDARD
TZOFFSETFROM:+0200
TZOFFSETTO:+0100
TZNAME:CET
DTSTART:20241027T010000
END:STANDARD
END:VTIMEZONE
BEGIN:VEVENT
DTSTART;TZID=Europe/Berlin:20240401T140000
DTEND;TZID=Europe/Berlin:20240401T170000
DTSTAMP:20260421T182121
CREATED:20240319T143141Z
LAST-MODIFIED:20240319T143141Z
UID:6885-1711980000-1711990800@dresden-gruna.de
SUMMARY:Ostermontag\, den 01.04.24
DESCRIPTION:Osterspaziergang im Großen Garten\, mit anschließenden Kaffee trinken im Bürgertreff \nAnmeldung bitte unter: 015227717854 \n 
URL:https://dresden-gruna.de/event/ostermontag-den-01-04-24/
LOCATION:Bürger-Treff „Grunaer Aue“ Winterbergstr.31c\, 01277 Dresden\, Winterbergstraße 31c\, Dresden\, 01277\, Deutschland
ATTACH;FMTTYPE=image/jpeg:https://dresden-gruna.de/wp-content/uploads/2023/03/ostern-2.jpg
ORGANIZER;CN="'In Gruna leben' e.V.":MAILTO:post@dresden-gruna.de
END:VEVENT
BEGIN:VEVENT
DTSTART;TZID=Europe/Berlin:20240401T150000
DTEND;TZID=Europe/Berlin:20240401T160000
DTSTAMP:20260421T182121
CREATED:20240319T143452Z
LAST-MODIFIED:20240319T143452Z
UID:6888-1711983600-1711987200@dresden-gruna.de
SUMMARY:Bitte beachten !
DESCRIPTION:Am 01.04.24 findet kein Nachbarschaftskreis statt.
URL:https://dresden-gruna.de/event/bitte-beachten/
LOCATION:Bürger-Treff „Grunaer Aue“ Winterbergstr.31c\, 01277 Dresden\, Winterbergstraße 31c\, Dresden\, 01277\, Deutschland
ORGANIZER;CN="Sigus e.V.":MAILTO:sigus-dd@t-online.de
END:VEVENT
BEGIN:VEVENT
DTSTART;TZID=Europe/Berlin:20240403T190000
DTEND;TZID=Europe/Berlin:20240403T210000
DTSTAMP:20260421T182121
CREATED:20240319T143647Z
LAST-MODIFIED:20240319T143647Z
UID:6890-1712170800-1712178000@dresden-gruna.de
SUMMARY:Selbsthilfegruppe Eltern für Kinder
DESCRIPTION:
URL:https://dresden-gruna.de/event/selbsthilfegruppe-eltern-fuer-kinder-8/
LOCATION:Bürger-Treff „Grunaer Aue“ Winterbergstr.31c\, 01277 Dresden\, Winterbergstraße 31c\, Dresden\, 01277\, Deutschland
ORGANIZER;CN="'In Gruna leben' e.V.":MAILTO:post@dresden-gruna.de
END:VEVENT
BEGIN:VEVENT
DTSTART;TZID=Europe/Berlin:20240408T100000
DTEND;TZID=Europe/Berlin:20240408T120000
DTSTAMP:20260421T182121
CREATED:20240319T143907Z
LAST-MODIFIED:20240319T143907Z
UID:6892-1712570400-1712577600@dresden-gruna.de
SUMMARY:DigitalCafé\, die Sprechstunde zu Smartphone & Co.
DESCRIPTION:Das DigitalCafé findet als Sprechstunde ausgebildeter Technikbotschafter zu Fragen im Umgang mit Smartphone & Co.\nimmer am 2. Montag in der Zeit zwischen 10 und 12 Uhr im Bürgertreff „Grunaer Aue“\,\nWinterbergstr. 31c\, 10277 Dresden statt. \nWeitere Informationen  auf der WEB-Seite DigitalCafe!
URL:https://dresden-gruna.de/event/digitalcafe-die-sprechstunde-zu-smartphone-co-12/
LOCATION:Bürger-Treff „Grunaer Aue“ Winterbergstr.31c\, 01277 Dresden\, Winterbergstraße 31c\, Dresden\, 01277\, Deutschland
ATTACH;FMTTYPE=image/jpeg:https://dresden-gruna.de/wp-content/uploads/2022/12/images.jpg
ORGANIZER;CN="'In Gruna leben' e.V.":MAILTO:post@dresden-gruna.de
END:VEVENT
BEGIN:VEVENT
DTSTART;TZID=Europe/Berlin:20240408T160000
DTEND;TZID=Europe/Berlin:20240408T180000
DTSTAMP:20260421T182121
CREATED:20240407T100820Z
LAST-MODIFIED:20240407T100820Z
UID:6963-1712592000-1712599200@dresden-gruna.de
SUMMARY:Malraum im Akazienhof
DESCRIPTION:Endlich wieder Malen im Grünen Pavillon! Ab April findet das Freie Malen wieder im Akazienhof im Grünen Pavillon statt. Alle\, die sich mit Farbe und Pinsel kreativ ausdrücken wollen\, sind herzlich eingeladen\, ab Montag\, den 8.4. aller zwei Wochen in den Akazienhof in die Schneebergstr. 16 zu kommen. Wir malen dort von 16-17 Uhr und von 17-18 Uhr. \nEin Energieausgleich von 10 Euro wird erbeten. \nAnmeldung bei: Juliane Franke\, 015201969994 \nJuliane.Franke77@gmail.com
URL:https://dresden-gruna.de/event/malraum-im-akazienhof-3/
LOCATION:Villa Akazienhof\, Schneebergstraße 16\, Schneebergstr. 16\, Dresden\, Sachsen\, 01277\, Deutschland
CATEGORIES:Akazienhof
ATTACH;FMTTYPE=image/jpeg:https://dresden-gruna.de/wp-content/uploads/2023/06/images.jpg
ORGANIZER;CN="'In Gruna leben' e.V.":MAILTO:post@dresden-gruna.de
END:VEVENT
BEGIN:VEVENT
DTSTART;TZID=Europe/Berlin:20240409T193000
DTEND;TZID=Europe/Berlin:20240409T210000
DTSTAMP:20260421T182121
CREATED:20240319T145201Z
LAST-MODIFIED:20240319T145201Z
UID:6894-1712691000-1712696400@dresden-gruna.de
SUMMARY:Mandala -Mal- Abend
DESCRIPTION:Genieße Entspannung und erlebe Freude und Harmonie erwecke deine eigene Schöpferkraft  Teilnahmebeitrag 10\,00 € \nBei Interesse bitte unter folgender Telefonnummer 015201969994 oder per Mail Juliane.Franke77@gmail.com anmelden.
URL:https://dresden-gruna.de/event/mandala-mal-abend-6/
LOCATION:Bürger-Treff „Grunaer Aue“ Winterbergstr.31c\, 01277 Dresden\, Winterbergstraße 31c\, Dresden\, 01277\, Deutschland
ATTACH;FMTTYPE=image/png:https://dresden-gruna.de/wp-content/uploads/2023/10/mandala-fuer-erwachsene3.png
ORGANIZER;CN="'In Gruna leben' e.V.":MAILTO:post@dresden-gruna.de
END:VEVENT
BEGIN:VEVENT
DTSTART;TZID=Europe/Berlin:20240410T100000
DTEND;TZID=Europe/Berlin:20240410T113000
DTSTAMP:20260421T182121
CREATED:20240319T145412Z
LAST-MODIFIED:20240319T145412Z
UID:6896-1712743200-1712748600@dresden-gruna.de
SUMMARY:Biografie-und Schreibkreis
DESCRIPTION:Wir erzählen\, schreiben und lesen Geschichten aus unserem Leben – \nANMELDUNG ERFORDERLICH  unter 0351 2632138
URL:https://dresden-gruna.de/event/biografie-und-schreibkreis-23/
LOCATION:Bürger-Treff „Grunaer Aue“ Winterbergstr.31c\, 01277 Dresden\, Winterbergstraße 31c\, Dresden\, 01277\, Deutschland
ATTACH;FMTTYPE=image/png:https://dresden-gruna.de/wp-content/uploads/2023/01/Buch-1.png
ORGANIZER;CN="Sigus e.V.":MAILTO:sigus-dd@t-online.de
END:VEVENT
BEGIN:VEVENT
DTSTART;TZID=Europe/Berlin:20240410T190000
DTEND;TZID=Europe/Berlin:20240410T220000
DTSTAMP:20260421T182121
CREATED:20240319T145631Z
LAST-MODIFIED:20240319T145631Z
UID:6898-1712775600-1712786400@dresden-gruna.de
SUMMARY:Koordinierungskreis Solidarische Landwirtschaft Gruna
DESCRIPTION:
URL:https://dresden-gruna.de/event/koordinierungskreis-solidarische-landwirtschaft-gruna-15/
LOCATION:Bürger-Treff „Grunaer Aue“ Winterbergstr.31c\, 01277 Dresden\, Winterbergstraße 31c\, Dresden\, 01277\, Deutschland
ORGANIZER;CN="'In Gruna leben' e.V.":MAILTO:post@dresden-gruna.de
END:VEVENT
BEGIN:VEVENT
DTSTART;TZID=Europe/Berlin:20240415T163000
DTEND;TZID=Europe/Berlin:20240415T180000
DTSTAMP:20260421T182121
CREATED:20240319T150010Z
LAST-MODIFIED:20240319T150010Z
UID:6900-1713198600-1713204000@dresden-gruna.de
SUMMARY:ErzählCafé
DESCRIPTION:in der Reihe  „Auferstanden und der Zukunft zugewandt ?“ Wohnen – ein menschliches Grundbedürfnis
URL:https://dresden-gruna.de/event/erzaehlcafe-14/
LOCATION:Bürger-Treff „Grunaer Aue“ Winterbergstr.31c\, 01277 Dresden\, Winterbergstraße 31c\, Dresden\, 01277\, Deutschland
ATTACH;FMTTYPE=image/jpeg:https://dresden-gruna.de/wp-content/uploads/2020/03/beverage-book-cafe-caffeine-433124.jpg
ORGANIZER;CN="Sigus e.V.":MAILTO:sigus-dd@t-online.de
END:VEVENT
BEGIN:VEVENT
DTSTART;TZID=Europe/Berlin:20240420T170000
DTEND;TZID=Europe/Berlin:20240420T200000
DTSTAMP:20260421T182121
CREATED:20240319T150333Z
LAST-MODIFIED:20240319T150407Z
UID:6902-1713632400-1713643200@dresden-gruna.de
SUMMARY:Wir kochen gut
DESCRIPTION:gemeinsames ausprobieren und kochen von alten und neuen Rezepten. Kosten 5\,00 € \nAnmeldung bitte unter: 015227717854
URL:https://dresden-gruna.de/event/wir-kochen-gut/
LOCATION:Bürger-Treff „Grunaer Aue“ Winterbergstr.31c\, 01277 Dresden\, Winterbergstraße 31c\, Dresden\, 01277\, Deutschland
ATTACH;FMTTYPE=image/jpeg:https://dresden-gruna.de/wp-content/uploads/2023/01/kochen.jpg
ORGANIZER;CN="'In Gruna leben' e.V.":MAILTO:post@dresden-gruna.de
END:VEVENT
BEGIN:VEVENT
DTSTART;TZID=Europe/Berlin:20240422T150000
DTEND;TZID=Europe/Berlin:20240422T163000
DTSTAMP:20260421T182121
CREATED:20240319T150935Z
LAST-MODIFIED:20240319T150935Z
UID:6906-1713798000-1713803400@dresden-gruna.de
SUMMARY:Literarische Telefonzelle „Müllex lässt lesen“
DESCRIPTION:Diesmal: Quell des Lebens\, Roman von Bergsveinn Birgisson\, Residenz- Verlag Salzburg / Wien 2020 Liebesgeschichte aus dem alten Island und zugleich eine leidenschaftliche Warnung vor Umweltzerstörung und kolonialem Hochmut \nAnmeldung zum Erhalt der Zugangsdaten bitte an 0351 2632138 oder \nsigus-dd@t-online
URL:https://dresden-gruna.de/event/literarische-telefonzelle-muellex-laesst-lesen-8/
LOCATION:Bürger-Treff „Grunaer Aue“ Winterbergstr.31c\, 01277 Dresden\, Winterbergstraße 31c\, Dresden\, 01277\, Deutschland
ATTACH;FMTTYPE=image/png:https://dresden-gruna.de/wp-content/uploads/2023/01/telefon.png
ORGANIZER;CN="Sigus e.V.":MAILTO:sigus-dd@t-online.de
END:VEVENT
BEGIN:VEVENT
DTSTART;TZID=Europe/Berlin:20240423T200000
DTEND;TZID=Europe/Berlin:20240423T220000
DTSTAMP:20260421T182121
CREATED:20240319T151219Z
LAST-MODIFIED:20240410T042956Z
UID:6908-1713902400-1713909600@dresden-gruna.de
SUMMARY:Vollmondfeuer im Akazienhof
DESCRIPTION:Schwatzend oder Schweigend gemeinsam ins Lagerfeuer schauen und die Energie genießen
URL:https://dresden-gruna.de/event/vollmondfeuer-im-akazienhof/
LOCATION:Villa Akazienhof\, Schneebergstraße 16\, Schneebergstr. 16\, Dresden\, Sachsen\, 01277\, Deutschland
CATEGORIES:Akazienhof
ATTACH;FMTTYPE=image/jpeg:https://dresden-gruna.de/wp-content/uploads/2023/03/20220713_202557-scaled.jpg
ORGANIZER;CN="'In Gruna leben' e.V.":MAILTO:post@dresden-gruna.de
END:VEVENT
BEGIN:VEVENT
DTSTART;TZID=Europe/Berlin:20240424T100000
DTEND;TZID=Europe/Berlin:20240424T113000
DTSTAMP:20260421T182121
CREATED:20240319T151646Z
LAST-MODIFIED:20240319T151646Z
UID:6910-1713952800-1713958200@dresden-gruna.de
SUMMARY:Biografie-und Schreibkreis
DESCRIPTION:Wir erzählen\, schreiben und lesen Geschichten aus unserem Leben – \nANMELDUNG ERFORDERLICH  unter 0351 2632138
URL:https://dresden-gruna.de/event/biografie-und-schreibkreis-24/
LOCATION:Bürger-Treff „Grunaer Aue“ Winterbergstr.31c\, 01277 Dresden\, Winterbergstraße 31c\, Dresden\, 01277\, Deutschland
ATTACH;FMTTYPE=image/png:https://dresden-gruna.de/wp-content/uploads/2023/01/Buch-1.png
ORGANIZER;CN="Sigus e.V.":MAILTO:sigus-dd@t-online.de
END:VEVENT
BEGIN:VEVENT
DTSTART;TZID=Europe/Berlin:20240424T153000
DTEND;TZID=Europe/Berlin:20240424T163000
DTSTAMP:20260421T182121
CREATED:20240420T084651Z
LAST-MODIFIED:20251030T064104Z
UID:7037-1713972600-1713976200@dresden-gruna.de
SUMMARY:Offener Redaktionstreff zur Vorbereitung einer Fotoausstellung über Gruna
DESCRIPTION:Einladung zum Offenen Redaktionstreff\nzur Vorbereitung einer Fotoausstellung über Gruna \nEs gibt bereits eine kleine Redaktion\, doch wir benötigen noch weitere engagierte Mitmachende. Weitere intereressierte Mitmacherinen und Mitmacher gesucht! Je bunter unsere Redaktion wird umso besser! \nEin gemeinsames Projekt die Begegnungsstätte „fidelio“ und dem Verein „In Gruna leben e.V. \nWann:  24.April 2024 von 15:30 bis 16:30 Uhr \nBei Interesse oder Fragen einfach eine Mail an StudioGruna@magenta.de oder im Begegnungs- und Beratungszentrum „Fidelio“\, Papstdorfer Str. 25\, 01277 Dresden nachfragen.
URL:https://dresden-gruna.de/event/offener-redaktionstreff-zur-vorbereitung-einer-fotoausstellung-ueber-gruna/
LOCATION:fidelio\, Papstdorfer Str. 25\, Dresden\, 01277\, Deutschland
CATEGORIES:Arbeitsgruppen,Projekte und Aktionen
ATTACH;FMTTYPE=image/jpeg:https://dresden-gruna.de/wp-content/uploads/2023/10/IG_Bild-und-Film_IGL-Media.jpg
END:VEVENT
BEGIN:VEVENT
DTSTART;TZID=Europe/Berlin:20240424T190000
DTEND;TZID=Europe/Berlin:20240424T220000
DTSTAMP:20260421T182121
CREATED:20240319T151808Z
LAST-MODIFIED:20240319T151808Z
UID:6912-1713985200-1713996000@dresden-gruna.de
SUMMARY:Koordinierungskreis Solidarische Landwirtschaft Gruna
DESCRIPTION:
URL:https://dresden-gruna.de/event/koordinierungskreis-solidarische-landwirtschaft-gruna-16/
LOCATION:Bürger-Treff „Grunaer Aue“ Winterbergstr.31c\, 01277 Dresden\, Winterbergstraße 31c\, Dresden\, 01277\, Deutschland
ORGANIZER;CN="'In Gruna leben' e.V.":MAILTO:post@dresden-gruna.de
END:VEVENT
BEGIN:VEVENT
DTSTART;TZID=Europe/Berlin:20240425T170000
DTEND;TZID=Europe/Berlin:20240425T183000
DTSTAMP:20260421T182121
CREATED:20240319T153249Z
LAST-MODIFIED:20240319T153249Z
UID:6914-1714064400-1714069800@dresden-gruna.de
SUMMARY:"Neu" Handarbeitszirkel
DESCRIPTION:Wer gerne in Gesellschaft nähen\, stricken\, häkeln oder sticken möchte\, oder seine Erfahrungen einbringen kann\, ist  herzlich willkommen. \nAnmeldung bitte unter: 015227717854 \n 
URL:https://dresden-gruna.de/event/neu-handarbeitszirkel/
LOCATION:Bürger-Treff „Grunaer Aue“ Winterbergstr.31c\, 01277 Dresden\, Winterbergstraße 31c\, Dresden\, 01277\, Deutschland
ORGANIZER;CN="'In Gruna leben' e.V.":MAILTO:post@dresden-gruna.de
END:VEVENT
BEGIN:VEVENT
DTSTART;TZID=Europe/Berlin:20240427T110000
DTEND;TZID=Europe/Berlin:20240427T180000
DTSTAMP:20260421T182121
CREATED:20240423T104907Z
LAST-MODIFIED:20240423T104907Z
UID:7046-1714215600-1714240800@dresden-gruna.de
SUMMARY:Gartenworkshop - artenreiche Gärten gestalten - am Akazienhof
DESCRIPTION:Seid bei unserem offenen Gartenworkshop zum Thema Artenreiche Gartengestaltung dabei! \nDer Workshop läuft von 11 bis 18 Uhr und bietet Zeit & Raum zum Austausch\, sowie Wissenswertes zu Pflanzen & Garten Rund um die Villa. \nWir wollen gemeinsam Ideen sammeln und daraus einen Plan für die Gestaltung des Akazienhofgartens entwickeln. \nBringt gerne Ideen\, Skizzen\, Fotos o.ä. rund um das Thema „artenreiche Gärten“ und eine kleine Spende für eure Teilnahme mit. \nWir freuen uns auf eine schönen Tag mit Euch im Garten ! \n\n\n\nWorkshoptag am Akazienhof \nANMELDUNG UNTER:  \nMail : jan.minack@dresden-gruna.de  \nTelefon: 0157 51514692\n\n\n\nAkazienhof_Gartenworkshop_27-04-2024
URL:https://dresden-gruna.de/event/gartenworkshop-artenreiche-gaerten-gestalten-am-akazienhof/
LOCATION:Villa Akazienhof\, Schneebergstraße 16\, Schneebergstr. 16\, Dresden\, Sachsen\, 01277\, Deutschland
CATEGORIES:Akazienhof,Projekte und Aktionen
ATTACH;FMTTYPE=image/jpeg:https://dresden-gruna.de/wp-content/uploads/2024/04/Gartenworkshop.jpg
END:VEVENT
BEGIN:VEVENT
DTSTART;TZID=Europe/Berlin:20240429T160000
DTEND;TZID=Europe/Berlin:20240429T180000
DTSTAMP:20260421T182121
CREATED:20240429T121956Z
LAST-MODIFIED:20240429T122027Z
UID:7142-1714406400-1714413600@dresden-gruna.de
SUMMARY:Malraum am Akazienhof
DESCRIPTION:„Male was in dir ist!“\nAm Montag gibt es wieder die Möglichkeit seine Kreativität im Malraum auszudrücken. \nJeweils eine Stunde von 16-17 Uhr und 17-18 Uhr im Grünen Pavillon am Akazienhof. \nAnmeldung bei Malraumleiterin Juliane Franke\n01520 1969994\, juliane.franke77@gmail.com \n \n 
URL:https://dresden-gruna.de/event/malraum-am-akazienhof/
CATEGORIES:Akazienhof
ATTACH;FMTTYPE=image/jpeg:https://dresden-gruna.de/wp-content/uploads/2023/06/images.jpg
END:VEVENT
END:VCALENDAR