BEGIN:VCALENDAR
VERSION:2.0
PRODID:-//In Gruna leben e.V. - ECPv6.8.3//NONSGML v1.0//EN
CALSCALE:GREGORIAN
METHOD:PUBLISH
X-ORIGINAL-URL:https://dresden-gruna.de
X-WR-CALDESC:Veranstaltungen für In Gruna leben e.V.
REFRESH-INTERVAL;VALUE=DURATION:PT1H
X-Robots-Tag:noindex
X-PUBLISHED-TTL:PT1H
BEGIN:VTIMEZONE
TZID:Europe/Berlin
BEGIN:DAYLIGHT
TZOFFSETFROM:+0100
TZOFFSETTO:+0200
TZNAME:CEST
DTSTART:20240331T010000
END:DAYLIGHT
BEGIN:STANDARD
TZOFFSETFROM:+0200
TZOFFSETTO:+0100
TZNAME:CET
DTSTART:20241027T010000
END:STANDARD
END:VTIMEZONE
BEGIN:VEVENT
DTSTART;TZID=Europe/Berlin:20240201T100000
DTEND;TZID=Europe/Berlin:20240201T180000
DTSTAMP:20260421T213605
CREATED:20240106T121548Z
LAST-MODIFIED:20240106T121548Z
UID:6459-1706781600-1706810400@dresden-gruna.de
SUMMARY:Sprechzeit im Bürgertreff
DESCRIPTION:Sie können persönlich Kontakt zu uns aufnehmen und Anregungen\, Ideen & Wünsche äußern\, Fragen stellen oder Dich über unsere Aktionen und Mitmach-Möglichkeiten informieren. \nSie können aber auch gern einen Termin außerhalb der Sprechzeit  vereinbaren.  Telefon:    0351 26552063   oder  015227717854  vielen Dank \noder schreiben Sie eine Mail an steffi.mueller-effenberger@dresden-gruna.de vielen Dank.
URL:https://dresden-gruna.de/event/sprechzeit-im-buergertreff-83/
LOCATION:Bürger-Treff „Grunaer Aue“ Winterbergstr.31c\, 01277 Dresden\, Winterbergstraße 31c\, Dresden\, 01277\, Deutschland
ORGANIZER;CN="'In Gruna leben' e.V.":MAILTO:post@dresden-gruna.de
END:VEVENT
BEGIN:VEVENT
DTSTART;TZID=Europe/Berlin:20240206T130000
DTEND;TZID=Europe/Berlin:20240206T180000
DTSTAMP:20260421T213605
CREATED:20240201T095438Z
LAST-MODIFIED:20240201T095438Z
UID:6687-1707224400-1707242400@dresden-gruna.de
SUMMARY:Sprechzeit im Bürgertreff
DESCRIPTION:Sie können persönlich Kontakt zu uns aufnehmen und Anregungen\, Ideen & Wünsche äußern\, Fragen stellen oder Dich über unsere Aktionen und Mitmach-Möglichkeiten informieren. \nSie können aber auch gern einen Termin außerhalb der Sprechzeit  vereinbaren.  Telefon:    0351 26552063   oder  015227717854  vielen Dank \noder schreiben Sie eine Mail an steffi.mueller-effenberger@dresden-gruna.de vielen Dank.
URL:https://dresden-gruna.de/event/sprechzeit-im-buergertreff-84/
LOCATION:Bürger-Treff „Grunaer Aue“ Winterbergstr.31c\, 01277 Dresden\, Winterbergstraße 31c\, Dresden\, 01277\, Deutschland
ORGANIZER;CN="'In Gruna leben' e.V.":MAILTO:post@dresden-gruna.de
END:VEVENT
BEGIN:VEVENT
DTSTART;TZID=Europe/Berlin:20240207T100000
DTEND;TZID=Europe/Berlin:20240207T113000
DTSTAMP:20260421T213605
CREATED:20240130T131818Z
LAST-MODIFIED:20240130T131818Z
UID:6648-1707300000-1707305400@dresden-gruna.de
SUMMARY:Biografie-und Schreibkreis
DESCRIPTION:Wir erzählen\, schreiben und lesen Geschichten aus unserem Leben – \nANMELDUNG ERFORDERLICH  unter 0351 2632138
URL:https://dresden-gruna.de/event/biografie-und-schreibkreis-19/
LOCATION:Bürger-Treff „Grunaer Aue“ Winterbergstr.31c\, 01277 Dresden\, Winterbergstraße 31c\, Dresden\, 01277\, Deutschland
ATTACH;FMTTYPE=image/png:https://dresden-gruna.de/wp-content/uploads/2023/01/Buch-1.png
ORGANIZER;CN="Sigus e.V.":MAILTO:sigus-dd@t-online.de
END:VEVENT
BEGIN:VEVENT
DTSTART;TZID=Europe/Berlin:20240207T190000
DTEND;TZID=Europe/Berlin:20240207T220000
DTSTAMP:20260421T213605
CREATED:20240130T132341Z
LAST-MODIFIED:20240130T132341Z
UID:6650-1707332400-1707343200@dresden-gruna.de
SUMMARY:Selbsthilfegruppe Eltern für Kinder
DESCRIPTION:
URL:https://dresden-gruna.de/event/selbsthilfegruppe-eltern-fuer-kinder-6/
LOCATION:Bürger-Treff „Grunaer Aue“ Winterbergstr.31c\, 01277 Dresden\, Winterbergstraße 31c\, Dresden\, 01277\, Deutschland
ORGANIZER;CN="'In Gruna leben' e.V.":MAILTO:post@dresden-gruna.de
END:VEVENT
BEGIN:VEVENT
DTSTART;TZID=Europe/Berlin:20240208T100000
DTEND;TZID=Europe/Berlin:20240208T120000
DTSTAMP:20260421T213605
CREATED:20240130T132609Z
LAST-MODIFIED:20240130T132609Z
UID:6652-1707386400-1707393600@dresden-gruna.de
SUMMARY:Interessengruppe Bild und Film
DESCRIPTION:Miteinander entdecken wir die Möglichkeiten des Smartphones Bilder und Filme aufzunehmen und zu gestalten. \nDresden mit Gruna im Wandel der Zeiten erinnert in Bildern! Halten wir das Heute fest für morgen! \n\n\n\n\n Zum Kalender hinzufügen
URL:https://dresden-gruna.de/event/interessengruppe-bild-und-film-8/
LOCATION:Bürger-Treff „Grunaer Aue“ Winterbergstr.31c\, 01277 Dresden\, Winterbergstraße 31c\, Dresden\, 01277\, Deutschland
ORGANIZER;CN="'In Gruna leben' e.V.":MAILTO:post@dresden-gruna.de
END:VEVENT
BEGIN:VEVENT
DTSTART;TZID=Europe/Berlin:20240208T130000
DTEND;TZID=Europe/Berlin:20240208T180000
DTSTAMP:20260421T213605
CREATED:20240201T095629Z
LAST-MODIFIED:20240201T095629Z
UID:6689-1707397200-1707415200@dresden-gruna.de
SUMMARY:Sprechzeit im Bürgertreff
DESCRIPTION:Sie können persönlich Kontakt zu uns aufnehmen und Anregungen\, Ideen & Wünsche äußern\, Fragen stellen oder Dich über unsere Aktionen und Mitmach-Möglichkeiten informieren. \nSie können aber auch gern einen Termin außerhalb der Sprechzeit  vereinbaren.  Telefon:    0351 26552063   oder  015227717854  vielen Dank \noder schreiben Sie eine Mail an steffi.mueller-effenberger@dresden-gruna.de vielen Dank.
URL:https://dresden-gruna.de/event/sprechzeit-im-buergertreff-85/
LOCATION:Bürger-Treff „Grunaer Aue“ Winterbergstr.31c\, 01277 Dresden\, Winterbergstraße 31c\, Dresden\, 01277\, Deutschland
ORGANIZER;CN="'In Gruna leben' e.V.":MAILTO:post@dresden-gruna.de
END:VEVENT
BEGIN:VEVENT
DTSTART;TZID=Europe/Berlin:20240208T173000
DTEND;TZID=Europe/Berlin:20240208T190000
DTSTAMP:20260421T213605
CREATED:20240108T121037Z
LAST-MODIFIED:20240130T132901Z
UID:6520-1707413400-1707418800@dresden-gruna.de
SUMMARY:Gemeinsames Abendbrot
DESCRIPTION:Wir laden recht herzlich zu einem gemeinsamen Abendbrot ein. \nMal Zeit finden\, mit anderen Leuten ins Gespräch kommen\, den Alltag mal vor der Tür lassen.  Wir freuen uns auf Euch  und auf einen schönen Abend. \n5\,00 € \n 
URL:https://dresden-gruna.de/event/gemeinsames-abendbrot/
LOCATION:Bürger-Treff „Grunaer Aue“ Winterbergstr.31c\, 01277 Dresden\, Winterbergstraße 31c\, Dresden\, 01277\, Deutschland
ATTACH;FMTTYPE=image/jpeg:https://dresden-gruna.de/wp-content/uploads/2024/01/fondo-comida-acuarela_777576-4896.jpg
ORGANIZER;CN="'In Gruna leben' e.V.":MAILTO:post@dresden-gruna.de
END:VEVENT
BEGIN:VEVENT
DTSTART;TZID=Europe/Berlin:20240212T100000
DTEND;TZID=Europe/Berlin:20240212T120000
DTSTAMP:20260421T213605
CREATED:20240130T133222Z
LAST-MODIFIED:20240130T133222Z
UID:6659-1707732000-1707739200@dresden-gruna.de
SUMMARY:DigitalCafe\, die Sprechstunde zu Smartphone & Co.
DESCRIPTION:Das DigitalCafé findet als Sprechstunde ausgebildeter Technikbotschafter zu Fragen im Umgang mit Smartphone & Co.\nimmer am 2. Montag in der Zeit zwischen 10 und 12 Uhr im Bürgertreff „Grunaer Aue“\,\nWinterbergstr. 31c\, 10277 Dresden statt. \nWeitere Informationen  auf der WEB-Seite DigitalCafe!
URL:https://dresden-gruna.de/event/digitalcafe-die-sprechstunde-zu-smartphone-co-10/
LOCATION:Bürger-Treff „Grunaer Aue“ Winterbergstr.31c\, 01277 Dresden\, Winterbergstraße 31c\, Dresden\, 01277\, Deutschland
ATTACH;FMTTYPE=image/jpeg:https://dresden-gruna.de/wp-content/uploads/2022/12/images.jpg
ORGANIZER;CN="'In Gruna leben' e.V.":MAILTO:post@dresden-gruna.de
END:VEVENT
BEGIN:VEVENT
DTSTART;TZID=Europe/Berlin:20240212T150000
DTEND;TZID=Europe/Berlin:20240212T163000
DTSTAMP:20260421T213605
CREATED:20240130T133954Z
LAST-MODIFIED:20240130T133954Z
UID:6661-1707750000-1707755400@dresden-gruna.de
SUMMARY:Literarische Telefonzelle „Müllex lässt lesen“
DESCRIPTION:Dieses Mal:  “ Ein Wintermahl“ Roman des französischen Autors Hubert Mingarelli von 2020 \nAnmeldung zum Erhalt der Zugangsdaten bitte an 0351 2632138 oder \nsigus-dd@t-online
URL:https://dresden-gruna.de/event/literarische-telefonzelle-muellex-laesst-lesen-4/
LOCATION:Bürger-Treff „Grunaer Aue“ Winterbergstr.31c\, 01277 Dresden\, Winterbergstraße 31c\, Dresden\, 01277\, Deutschland
ATTACH;FMTTYPE=image/png:https://dresden-gruna.de/wp-content/uploads/2023/01/telefon.png
ORGANIZER;CN="Sigus e.V.":MAILTO:sigus-dd@t-online.de
END:VEVENT
BEGIN:VEVENT
DTSTART;TZID=Europe/Berlin:20240213T130000
DTEND;TZID=Europe/Berlin:20240213T180000
DTSTAMP:20260421T213605
CREATED:20240201T095724Z
LAST-MODIFIED:20240201T095724Z
UID:6691-1707829200-1707847200@dresden-gruna.de
SUMMARY:Sprechzeit im Bürgertreff
DESCRIPTION:Sie können persönlich Kontakt zu uns aufnehmen und Anregungen\, Ideen & Wünsche äußern\, Fragen stellen oder Dich über unsere Aktionen und Mitmach-Möglichkeiten informieren. \nSie können aber auch gern einen Termin außerhalb der Sprechzeit  vereinbaren.  Telefon:    0351 26552063   oder  015227717854  vielen Dank \noder schreiben Sie eine Mail an steffi.mueller-effenberger@dresden-gruna.de vielen Dank.
URL:https://dresden-gruna.de/event/sprechzeit-im-buergertreff-86/
LOCATION:Bürger-Treff „Grunaer Aue“ Winterbergstr.31c\, 01277 Dresden\, Winterbergstraße 31c\, Dresden\, 01277\, Deutschland
ORGANIZER;CN="'In Gruna leben' e.V.":MAILTO:post@dresden-gruna.de
END:VEVENT
BEGIN:VEVENT
DTSTART;TZID=Europe/Berlin:20240213T193000
DTEND;TZID=Europe/Berlin:20240213T213000
DTSTAMP:20260421T213605
CREATED:20240130T134332Z
LAST-MODIFIED:20240130T134615Z
UID:6663-1707852600-1707859800@dresden-gruna.de
SUMMARY:Mandala -Mal- Abend
DESCRIPTION:Genieße Entspannung und erlebe Freude und Harmonie erwecke deine eigene Schöpferkraft \nBei Interesse bitte unter folgender Telefonnummer 015201969994 oder per Mail Juliane.Franke77@gmail.com anmelden.
URL:https://dresden-gruna.de/event/mandala-mal-abend-4/
LOCATION:Bürger-Treff „Grunaer Aue“ Winterbergstr.31c\, 01277 Dresden\, Winterbergstraße 31c\, Dresden\, 01277\, Deutschland
ATTACH;FMTTYPE=image/png:https://dresden-gruna.de/wp-content/uploads/2023/10/mandala-fuer-erwachsene3.png
ORGANIZER;CN="'In Gruna leben' e.V.":MAILTO:post@dresden-gruna.de
END:VEVENT
BEGIN:VEVENT
DTSTART;TZID=Europe/Berlin:20240214T173000
DTEND;TZID=Europe/Berlin:20240214T190000
DTSTAMP:20260421T213605
CREATED:20240130T145241Z
LAST-MODIFIED:20240130T145241Z
UID:6667-1707931800-1707937200@dresden-gruna.de
SUMMARY:Vom Blauen Wunder über die Elbschlösser ins Zentrum
DESCRIPTION:Vernissage zur Ausstellung von Ingrid Borbé
URL:https://dresden-gruna.de/event/vom-blauen-wunder-ueber-die-elbschloesser-ins-zentrum/
LOCATION:Bürger-Treff „Grunaer Aue“ Winterbergstr.31c\, 01277 Dresden\, Winterbergstraße 31c\, Dresden\, 01277\, Deutschland
ORGANIZER;CN="'In Gruna leben' e.V.":MAILTO:post@dresden-gruna.de
END:VEVENT
BEGIN:VEVENT
DTSTART;TZID=Europe/Berlin:20240214T190000
DTEND;TZID=Europe/Berlin:20240214T213000
DTSTAMP:20260421T213605
CREATED:20240130T145414Z
LAST-MODIFIED:20240130T145414Z
UID:6669-1707937200-1707946200@dresden-gruna.de
SUMMARY:Koordinierungskreis Solidarische Landwirtschaft Gruna
DESCRIPTION:
URL:https://dresden-gruna.de/event/koordinierungskreis-solidarische-landwirtschaft-gruna-11/
LOCATION:Bürger-Treff „Grunaer Aue“ Winterbergstr.31c\, 01277 Dresden\, Winterbergstraße 31c\, Dresden\, 01277\, Deutschland
ORGANIZER;CN="'In Gruna leben' e.V.":MAILTO:post@dresden-gruna.de
END:VEVENT
BEGIN:VEVENT
DTSTART;TZID=Europe/Berlin:20240215T130000
DTEND;TZID=Europe/Berlin:20240215T180000
DTSTAMP:20260421T213605
CREATED:20240201T095830Z
LAST-MODIFIED:20240201T095830Z
UID:6693-1708002000-1708020000@dresden-gruna.de
SUMMARY:Sprechzeit im Bürgertreff
DESCRIPTION:Sie können persönlich Kontakt zu uns aufnehmen und Anregungen\, Ideen & Wünsche äußern\, Fragen stellen oder Dich über unsere Aktionen und Mitmach-Möglichkeiten informieren. \nSie können aber auch gern einen Termin außerhalb der Sprechzeit  vereinbaren.  Telefon:    0351 26552063   oder  015227717854  vielen Dank \noder schreiben Sie eine Mail an steffi.mueller-effenberger@dresden-gruna.de vielen Dank.
URL:https://dresden-gruna.de/event/sprechzeit-im-buergertreff-87/
LOCATION:Bürger-Treff „Grunaer Aue“ Winterbergstr.31c\, 01277 Dresden\, Winterbergstraße 31c\, Dresden\, 01277\, Deutschland
ORGANIZER;CN="'In Gruna leben' e.V.":MAILTO:post@dresden-gruna.de
END:VEVENT
BEGIN:VEVENT
DTSTART;TZID=Europe/Berlin:20240217T150000
DTEND;TZID=Europe/Berlin:20240217T183000
DTSTAMP:20260421T213605
CREATED:20240108T121923Z
LAST-MODIFIED:20240213T104642Z
UID:6523-1708182000-1708194600@dresden-gruna.de
SUMMARY:Familienfasching
DESCRIPTION:Kleine Faschingsfeier mit viel Musik und Spaß für Groß und Klein. Natürlich fehlen die Pfannkuchen nicht\, mal sehen wer den mit Senf bekommt.  Es werden auch kleine Überraschungen geboten. \n4\,00 € \n  \n  \n 
URL:https://dresden-gruna.de/event/fasching-mit-opa-oma-und-enkelkind/
LOCATION:Bürger-Treff „Grunaer Aue“ Winterbergstr.31c\, 01277 Dresden\, Winterbergstraße 31c\, Dresden\, 01277\, Deutschland
ATTACH;FMTTYPE=image/jpeg:https://dresden-gruna.de/wp-content/uploads/2024/01/istockphoto-676497918-612x612-1.jpg
ORGANIZER;CN="'In Gruna leben' e.V.":MAILTO:post@dresden-gruna.de
END:VEVENT
BEGIN:VEVENT
DTSTART;TZID=Europe/Berlin:20240219T163000
DTEND;TZID=Europe/Berlin:20240219T180000
DTSTAMP:20260421T213605
CREATED:20240130T145753Z
LAST-MODIFIED:20240130T145753Z
UID:6671-1708360200-1708365600@dresden-gruna.de
SUMMARY:ErzählCafé
DESCRIPTION:Auferstanden und der Zukunft zugewandt ? von Katzen mit grünen Punkten und weißen Tauben – Kunst in der DDR
URL:https://dresden-gruna.de/event/erzaehlcafe-12/
LOCATION:Bürger-Treff „Grunaer Aue“ Winterbergstr.31c\, 01277 Dresden\, Winterbergstraße 31c\, Dresden\, 01277\, Deutschland
ATTACH;FMTTYPE=image/jpeg:https://dresden-gruna.de/wp-content/uploads/2020/03/beverage-book-cafe-caffeine-433124.jpg
ORGANIZER;CN="Sigus e.V.":MAILTO:sigus-dd@t-online.de
END:VEVENT
BEGIN:VEVENT
DTSTART;TZID=Europe/Berlin:20240220T130000
DTEND;TZID=Europe/Berlin:20240220T180000
DTSTAMP:20260421T213605
CREATED:20240201T100017Z
LAST-MODIFIED:20240201T100017Z
UID:6697-1708434000-1708452000@dresden-gruna.de
SUMMARY:Sprechzeit im Bürgertreff
DESCRIPTION:Sie können persönlich Kontakt zu uns aufnehmen und Anregungen\, Ideen & Wünsche äußern\, Fragen stellen oder Dich über unsere Aktionen und Mitmach-Möglichkeiten informieren. \nSie können aber auch gern einen Termin außerhalb der Sprechzeit  vereinbaren.  Telefon:    0351 26552063   oder  015227717854  vielen Dank \noder schreiben Sie eine Mail an steffi.mueller-effenberger@dresden-gruna.de vielen Dank. \n\n\n\n\n Zum Kalender hinzufügen
URL:https://dresden-gruna.de/event/sprechzeit-im-buergertreff-89/
LOCATION:Bürger-Treff „Grunaer Aue“ Winterbergstr.31c\, 01277 Dresden\, Winterbergstraße 31c\, Dresden\, 01277\, Deutschland
ORGANIZER;CN="'In Gruna leben' e.V.":MAILTO:post@dresden-gruna.de
END:VEVENT
BEGIN:VEVENT
DTSTART;TZID=Europe/Berlin:20240221T100000
DTEND;TZID=Europe/Berlin:20240221T113000
DTSTAMP:20260421T213605
CREATED:20240130T145938Z
LAST-MODIFIED:20240130T145938Z
UID:6673-1708509600-1708515000@dresden-gruna.de
SUMMARY:Biografie-und Schreibkreis
DESCRIPTION:Wir erzählen\, schreiben und lesen Geschichten aus unserem Leben – \nANMELDUNG ERFORDERLICH  unter 0351 2632138
URL:https://dresden-gruna.de/event/biografie-und-schreibkreis-20/
LOCATION:Bürger-Treff „Grunaer Aue“ Winterbergstr.31c\, 01277 Dresden\, Winterbergstraße 31c\, Dresden\, 01277\, Deutschland
ATTACH;FMTTYPE=image/png:https://dresden-gruna.de/wp-content/uploads/2023/01/Buch-1.png
ORGANIZER;CN="Sigus e.V.":MAILTO:sigus-dd@t-online.de
END:VEVENT
BEGIN:VEVENT
DTSTART;TZID=Europe/Berlin:20240222T130000
DTEND;TZID=Europe/Berlin:20240222T180000
DTSTAMP:20260421T213605
CREATED:20240201T100122Z
LAST-MODIFIED:20240201T100122Z
UID:6699-1708606800-1708624800@dresden-gruna.de
SUMMARY:Sprechzeit im Bürgertreff
DESCRIPTION:Sie können persönlich Kontakt zu uns aufnehmen und Anregungen\, Ideen & Wünsche äußern\, Fragen stellen oder Dich über unsere Aktionen und Mitmach-Möglichkeiten informieren. \nSie können aber auch gern einen Termin außerhalb der Sprechzeit  vereinbaren.  Telefon:    0351 26552063   oder  015227717854  vielen Dank \noder schreiben Sie eine Mail an steffi.mueller-effenberger@dresden-gruna.de vielen Dank. \n\n\n\n\n Zum Kalender hinzufügen
URL:https://dresden-gruna.de/event/sprechzeit-im-buergertreff-90/
LOCATION:Bürger-Treff „Grunaer Aue“ Winterbergstr.31c\, 01277 Dresden\, Winterbergstraße 31c\, Dresden\, 01277\, Deutschland
ORGANIZER;CN="'In Gruna leben' e.V.":MAILTO:post@dresden-gruna.de
END:VEVENT
BEGIN:VEVENT
DTSTART;TZID=Europe/Berlin:20240222T190000
DTEND;TZID=Europe/Berlin:20240222T210000
DTSTAMP:20260421T213605
CREATED:20240130T160340Z
LAST-MODIFIED:20240130T160340Z
UID:6675-1708628400-1708635600@dresden-gruna.de
SUMMARY:Wein – Mal- Abend
DESCRIPTION:In geselliger Runde malen\, nette Gespräche haben und Inspiration  erleben\,  sowie den Abend sinnvoll gestalten. \nBei Interesse bitte unter folgender Telefonnummer 015201969994 oder per Mail Juliane.Franke@gmail.com anmelden.
URL:https://dresden-gruna.de/event/wein-mal-abend-3/
LOCATION:Bürger-Treff „Grunaer Aue“ Winterbergstr.31c\, 01277 Dresden\, Winterbergstraße 31c\, Dresden\, 01277\, Deutschland
ATTACH;FMTTYPE=image/jpeg:https://dresden-gruna.de/wp-content/uploads/2023/06/images.jpg
ORGANIZER;CN="'In Gruna leben' e.V.":MAILTO:post@dresden-gruna.de
END:VEVENT
BEGIN:VEVENT
DTSTART;TZID=Europe/Berlin:20240224T170000
DTEND;TZID=Europe/Berlin:20240224T170000
DTSTAMP:20260421T213605
CREATED:20240108T122534Z
LAST-MODIFIED:20240122T101857Z
UID:6526-1708794000-1708794000@dresden-gruna.de
SUMMARY:Skatabend
DESCRIPTION:Wir laden Euch rechtherzlich zu einem Abend rund um das Skatspielen ein. Wer reizt der gewinnt. Natürlich können auch andere Spiele gespielt werden. \n 
URL:https://dresden-gruna.de/event/skatabend/
LOCATION:Bürger-Treff „Grunaer Aue“ Winterbergstr.31c\, 01277 Dresden\, Winterbergstraße 31c\, Dresden\, 01277\, Deutschland
ATTACH;FMTTYPE=image/webp:https://dresden-gruna.de/wp-content/uploads/2024/01/Skat-Karten-Vorlage-Deutsches-Blatt-1024x683-1.webp
ORGANIZER;CN="'In Gruna leben' e.V.":MAILTO:post@dresden-gruna.de
END:VEVENT
BEGIN:VEVENT
DTSTART;TZID=Europe/Berlin:20240226T150000
DTEND;TZID=Europe/Berlin:20240226T163000
DTSTAMP:20260421T213605
CREATED:20240201T093602Z
LAST-MODIFIED:20240201T093602Z
UID:6677-1708959600-1708965000@dresden-gruna.de
SUMMARY:Literarische Telefonzelle „Müllex lässt lesen“
DESCRIPTION:Anmeldung zum Erhalt der Zugangsdaten bitte an 0351 2632138 oder \nsigus-dd@t-online
URL:https://dresden-gruna.de/event/literarische-telefonzelle-muellex-laesst-lesen-5/
LOCATION:Bürger-Treff „Grunaer Aue“ Winterbergstr.31c\, 01277 Dresden\, Winterbergstraße 31c\, Dresden\, 01277\, Deutschland
ATTACH;FMTTYPE=image/png:https://dresden-gruna.de/wp-content/uploads/2023/01/telefon.png
ORGANIZER;CN="Sigus e.V.":MAILTO:sigus-dd@t-online.de
END:VEVENT
BEGIN:VEVENT
DTSTART;TZID=Europe/Berlin:20240228T190000
DTEND;TZID=Europe/Berlin:20240228T213000
DTSTAMP:20260421T213605
CREATED:20240201T094359Z
LAST-MODIFIED:20240201T094359Z
UID:6679-1709146800-1709155800@dresden-gruna.de
SUMMARY:Koordinierungskreis Solidarische Landwirtschaft Gruna
DESCRIPTION:
URL:https://dresden-gruna.de/event/koordinierungskreis-solidarische-landwirtschaft-gruna-12/
LOCATION:Bürger-Treff „Grunaer Aue“ Winterbergstr.31c\, 01277 Dresden\, Winterbergstraße 31c\, Dresden\, 01277\, Deutschland
ORGANIZER;CN="'In Gruna leben' e.V.":MAILTO:post@dresden-gruna.de
END:VEVENT
BEGIN:VEVENT
DTSTART;TZID=Europe/Berlin:20240229T100000
DTEND;TZID=Europe/Berlin:20240229T120000
DTSTAMP:20260421T213605
CREATED:20240201T095010Z
LAST-MODIFIED:20240201T095146Z
UID:6683-1709200800-1709208000@dresden-gruna.de
SUMMARY:Nachbarn helfen Nachbarn
DESCRIPTION:Grunaer Koordinierungsgruppe\, \nBitte beachten anderer Ort: Seniorenzentrum Fidelio
URL:https://dresden-gruna.de/event/nachbar-helfen-nachbarn/
LOCATION:Bürger-Treff „Grunaer Aue“ Winterbergstr.31c\, 01277 Dresden\, Winterbergstraße 31c\, Dresden\, 01277\, Deutschland
ORGANIZER;CN="Sigus e.V.":MAILTO:sigus-dd@t-online.de
END:VEVENT
END:VCALENDAR