BEGIN:VCALENDAR
VERSION:2.0
PRODID:-//In Gruna leben e.V. - ECPv6.8.3//NONSGML v1.0//EN
CALSCALE:GREGORIAN
METHOD:PUBLISH
X-ORIGINAL-URL:https://dresden-gruna.de
X-WR-CALDESC:Veranstaltungen für In Gruna leben e.V.
REFRESH-INTERVAL;VALUE=DURATION:PT1H
X-Robots-Tag:noindex
X-PUBLISHED-TTL:PT1H
BEGIN:VTIMEZONE
TZID:Europe/Berlin
BEGIN:DAYLIGHT
TZOFFSETFROM:+0100
TZOFFSETTO:+0200
TZNAME:CEST
DTSTART:20230326T010000
END:DAYLIGHT
BEGIN:STANDARD
TZOFFSETFROM:+0200
TZOFFSETTO:+0100
TZNAME:CET
DTSTART:20231029T010000
END:STANDARD
END:VTIMEZONE
BEGIN:VEVENT
DTSTART;TZID=Europe/Berlin:20231201T090000
DTEND;TZID=Europe/Berlin:20231201T140000
DTSTAMP:20260422T010344
CREATED:20231108T090703Z
LAST-MODIFIED:20231108T090703Z
UID:6204-1701421200-1701439200@dresden-gruna.de
SUMMARY:Weihnachtstreff im Eltern-Kind-Büro
DESCRIPTION:Das Eltern-Kind-Büro in Gruna lädt ein zum Weihnachtstreff mit Musik\, Plätzchen backen und Märchen für klein und groß. Komm vorbei\, der Eintritt ist frei.
URL:https://dresden-gruna.de/event/weihnachtstreff-im-eltern-kind-buero/
LOCATION:Eltern-Kind-Büro\, Rosenbergstr. 10\, Dresden\, 01277\, Deutschland
CATEGORIES:Feste
ATTACH;FMTTYPE=image/gif:https://dresden-gruna.de/wp-content/uploads/2023/11/EKB_FB-Veranstaltung-1200x630-1.gif
END:VEVENT
BEGIN:VEVENT
DTSTART;TZID=Europe/Berlin:20231201T150000
DTEND;TZID=Europe/Berlin:20231201T170000
DTSTAMP:20260422T010344
CREATED:20231130T222041Z
LAST-MODIFIED:20231130T222312Z
UID:6351-1701442800-1701450000@dresden-gruna.de
SUMMARY:Eröffnung des Grunaer Adventskalenders
DESCRIPTION:Am 1.Dezember ist es soweit.  Der Grunaer Adventskalender wird feierlich eröffnet… Die Auftaktveranstaltung am Freitag\, 01.12. startet Rund um den Finglingbrunnen\, das Eltern-Kind-Büro Gruna und die Begegnungsstätte „fidelio“ an der Papstdorfer Str. 25.\n\n\nNach den Eröffnungsworten von Pfarrer Groß gegen 15 Uhr\, wird der erste Grunaer Büchertauschschrank durch Gudrun Böhmig von In Gruna Leben e.V. & Sofa9 an die Öffentlichkeit übergeben. Musik mit der Band „Zugabe“ und dem Posaunenchor folgt gegen 16 Uhr. Neben Plätzchen und Glühwein gibt es auch den allseits begehrten Gruna-Kalender für 2024. \nAnwohnerinnen und Partner aus den umliegenden Projekten und Einrichtungen sind herzlich eingeladen.
URL:https://dresden-gruna.de/event/eroeffnung-des-grunaer-adventskalenders/
LOCATION:fidelio\, Papstdorfer Str. 25\, Dresden\, 01277\, Deutschland
ATTACH;FMTTYPE=image/jpeg:https://dresden-gruna.de/wp-content/uploads/2023/11/PosaunenChor_Akazienhof_Bild-2022-12-18-um-20.22.03-1200x0-1.jpg
END:VEVENT
BEGIN:VEVENT
DTSTART;TZID=Europe/Berlin:20231202T100000
DTEND;TZID=Europe/Berlin:20231202T160000
DTSTAMP:20260422T010344
CREATED:20231121T145928Z
LAST-MODIFIED:20231121T150126Z
UID:6212-1701511200-1701532800@dresden-gruna.de
SUMMARY:Mitbring - Brunch
DESCRIPTION:Wir laden Euch  zu einem Mitbring – Brunch ein\, und freuen uns auf leckere Speisen und natürlich auf die Rezepte. \nIhr könnt gern in der Zeit von 10:00 Uhr – 16:00 Uhr jederzeit kommen. \nWir sind da.
URL:https://dresden-gruna.de/event/mitbring-brunch/
LOCATION:Bürger-Treff „Grunaer Aue“ Winterbergstr.31c\, 01277 Dresden\, Winterbergstraße 31c\, Dresden\, 01277\, Deutschland
ATTACH;FMTTYPE=image/jpeg:https://dresden-gruna.de/wp-content/uploads/2018/03/RepairCafé-Blumen.jpg
ORGANIZER;CN="'In Gruna leben' e.V.":MAILTO:post@dresden-gruna.de
END:VEVENT
BEGIN:VEVENT
DTSTART;TZID=Europe/Berlin:20231202T170000
DTEND;TZID=Europe/Berlin:20231202T171500
DTSTAMP:20260422T010344
CREATED:20231126T233555Z
LAST-MODIFIED:20231126T233555Z
UID:6242-1701536400-1701537300@dresden-gruna.de
SUMMARY:Leucht-Jonglage-Show
DESCRIPTION:Anlässlich des Grunaer Adventskalenders erstmals öffentlich:\nmusikalisch begleitete Leucht-Jonglage-Show von Zafizu im Kultur- und Nachbarschaftsgarten „Akazienhof“\nEintritt frei\, Spenden willkommen.\nBitte seid pünktlich – nach effektvollen 15 Minuten ist es vorbei.\n(nur bei halbwegs trockenem Wetter)
URL:https://dresden-gruna.de/event/leucht-jonglage-show/
LOCATION:Villa Akazienhof\, Schneebergstraße 16\, Schneebergstr. 16\, Dresden\, Sachsen\, 01277\, Deutschland
CATEGORIES:Feste,Nachbarschaftstage,Projekte und Aktionen
ATTACH;FMTTYPE=image/jpeg:https://dresden-gruna.de/wp-content/uploads/2023/11/P1163783k.jpg
ORGANIZER;CN="'In Gruna leben' e.V.":MAILTO:post@dresden-gruna.de
END:VEVENT
BEGIN:VEVENT
DTSTART;TZID=Europe/Berlin:20231204T170000
DTEND;TZID=Europe/Berlin:20231204T190000
DTSTAMP:20260422T010344
CREATED:20231130T133042Z
LAST-MODIFIED:20231130T133042Z
UID:6296-1701709200-1701716400@dresden-gruna.de
SUMMARY:PflegeCafe`  Weihnachten in Familie- alle sind dabei
DESCRIPTION:Anderer Ort: Begegnungszentrum Wiesenhäuser ASB \, Wiesenstraße 17
URL:https://dresden-gruna.de/event/pflegecafe-weihnachten-in-familie-alle-sind-dabei/
LOCATION:Bürger-Treff „Grunaer Aue“ Winterbergstr.31c\, 01277 Dresden\, Winterbergstraße 31c\, Dresden\, 01277\, Deutschland
ORGANIZER;CN="Sigus e.V.":MAILTO:sigus-dd@t-online.de
END:VEVENT
BEGIN:VEVENT
DTSTART;TZID=Europe/Berlin:20231205T130000
DTEND;TZID=Europe/Berlin:20231205T180000
DTSTAMP:20260422T010344
CREATED:20231130T133332Z
LAST-MODIFIED:20231130T134401Z
UID:6298-1701781200-1701799200@dresden-gruna.de
SUMMARY:Sprechzeit im Bürgertreff
DESCRIPTION:Sie können persönlich Kontakt zu uns aufnehmen und Anregungen\, Ideen & Wünsche äußern\, Fragen stellen oder Dich über unsere Aktionen und Mitmach-Möglichkeiten informieren. \nSie können aber auch gern einen Termin außerhalb der Sprechzeit  vereinbaren.  Telefon:    0351 26552063   oder  015227717854  vielen Dank \noder schreiben Sie eine Mail an steffi.mueller-effenberger@dresden-gruna.de vielen Dank.
URL:https://dresden-gruna.de/event/sprechzeit-im-buergertreff-71/
LOCATION:Bürger-Treff „Grunaer Aue“ Winterbergstr.31c\, 01277 Dresden\, Winterbergstraße 31c\, Dresden\, 01277\, Deutschland
ORGANIZER;CN="'In Gruna leben' e.V.":MAILTO:post@dresden-gruna.de
END:VEVENT
BEGIN:VEVENT
DTSTART;TZID=Europe/Berlin:20231205T150000
DTEND;TZID=Europe/Berlin:20231205T170000
DTSTAMP:20260422T010344
CREATED:20231121T151136Z
LAST-MODIFIED:20231121T151136Z
UID:6216-1701788400-1701795600@dresden-gruna.de
SUMMARY:Wir backen Plätzchen
DESCRIPTION:Gemeinsam backen und gemeinsam  Essen
URL:https://dresden-gruna.de/event/wir-backen-plaetzchen/
LOCATION:Bürger-Treff „Grunaer Aue“ Winterbergstr.31c\, 01277 Dresden\, Winterbergstraße 31c\, Dresden\, 01277\, Deutschland
ATTACH;FMTTYPE=image/jpeg:https://dresden-gruna.de/wp-content/uploads/2023/11/backen-1.jpg
ORGANIZER;CN="'In Gruna leben' e.V.":MAILTO:post@dresden-gruna.de
END:VEVENT
BEGIN:VEVENT
DTSTART;TZID=Europe/Berlin:20231205T180000
DTEND;TZID=Europe/Berlin:20231205T200000
DTSTAMP:20260422T010344
CREATED:20231130T140745Z
LAST-MODIFIED:20231130T140745Z
UID:6304-1701799200-1701806400@dresden-gruna.de
SUMMARY:IGL Plenum – Nachbarn willkommen im Bürgertreff
DESCRIPTION:Kommen Sie gern mit uns ins Gespräch. Das IGL Plenum im Bürgertreff ist für den Verein und offen für Alle. Ihre Anregungen\, Ideen und Fragen aus und für die Nachbarschaft sind uns wichtig. \nJeden 1. & 3. Dienstag im Monat im Bürgertreff 🏠
URL:https://dresden-gruna.de/event/igl-plenum-nachbarn-willkommen-im-buergertreff-19/
LOCATION:Bürger-Treff „Grunaer Aue“ Winterbergstr.31c\, 01277 Dresden\, Winterbergstraße 31c\, Dresden\, 01277\, Deutschland
ATTACH;FMTTYPE=image/jpeg:https://dresden-gruna.de/wp-content/uploads/2023/02/junge-leute-stehen-und-reden-miteinander-sprachblase-smartphone-flache-vektorillustration-des-maedchens-kommunikation-und-diskussion_74855-8741.jpg
ORGANIZER;CN="'In Gruna leben' e.V.":MAILTO:post@dresden-gruna.de
END:VEVENT
BEGIN:VEVENT
DTSTART;TZID=Europe/Berlin:20231206T190000
DTEND;TZID=Europe/Berlin:20231206T210000
DTSTAMP:20260422T010344
CREATED:20231130T133516Z
LAST-MODIFIED:20231130T133516Z
UID:6300-1701889200-1701896400@dresden-gruna.de
SUMMARY:Selbsthilfegruppe Eltern für Kinder
DESCRIPTION:
URL:https://dresden-gruna.de/event/selbsthilfegruppe-eltern-fuer-kinder-4/
LOCATION:Bürger-Treff „Grunaer Aue“ Winterbergstr.31c\, 01277 Dresden\, Winterbergstraße 31c\, Dresden\, 01277\, Deutschland
ORGANIZER;CN="'In Gruna leben' e.V.":MAILTO:post@dresden-gruna.de
END:VEVENT
BEGIN:VEVENT
DTSTART;TZID=Europe/Berlin:20231207T130000
DTEND;TZID=Europe/Berlin:20231207T180000
DTSTAMP:20260422T010344
CREATED:20231130T141856Z
LAST-MODIFIED:20231130T141856Z
UID:6308-1701954000-1701972000@dresden-gruna.de
SUMMARY:Sprechzeit im Bürgertreff
DESCRIPTION:Sie können persönlich Kontakt zu uns aufnehmen und Anregungen\, Ideen & Wünsche äußern\, Fragen stellen oder Dich über unsere Aktionen und Mitmach-Möglichkeiten informieren. \nSie können aber auch gern einen Termin außerhalb der Sprechzeit  vereinbaren.  Telefon:    0351 26552063   oder  015227717854  vielen Dank \noder schreiben Sie eine Mail an steffi.mueller-effenberger@dresden-gruna.de vielen Dank.
URL:https://dresden-gruna.de/event/sprechzeit-im-buergertreff-72/
LOCATION:Bürger-Treff „Grunaer Aue“ Winterbergstr.31c\, 01277 Dresden\, Winterbergstraße 31c\, Dresden\, 01277\, Deutschland
ORGANIZER;CN="'In Gruna leben' e.V.":MAILTO:post@dresden-gruna.de
END:VEVENT
BEGIN:VEVENT
DTSTART;TZID=Europe/Berlin:20231207T190000
DTEND;TZID=Europe/Berlin:20231207T210000
DTSTAMP:20260422T010344
CREATED:20231130T133706Z
LAST-MODIFIED:20231130T133706Z
UID:6302-1701975600-1701982800@dresden-gruna.de
SUMMARY:Wein – Mal- Abend
DESCRIPTION:In geselliger Runde malen\, nette Gespräche haben und Inspiration  erleben\,  sowie den Abend sinnvoll gestalten. \nBei Interesse bitte unter folgender Telefonnummer 015201969994 oder per Mail Juliane.Franke@gmail.com anmelden.
URL:https://dresden-gruna.de/event/wein-mal-abend/
LOCATION:Bürger-Treff „Grunaer Aue“ Winterbergstr.31c\, 01277 Dresden\, Winterbergstraße 31c\, Dresden\, 01277\, Deutschland
ATTACH;FMTTYPE=image/jpeg:https://dresden-gruna.de/wp-content/uploads/2023/06/images.jpg
ORGANIZER;CN="'In Gruna leben' e.V.":MAILTO:post@dresden-gruna.de
END:VEVENT
BEGIN:VEVENT
DTSTART;TZID=Europe/Berlin:20231209T150000
DTEND;TZID=Europe/Berlin:20231209T180000
DTSTAMP:20260422T010344
CREATED:20231121T151715Z
LAST-MODIFIED:20231121T151715Z
UID:6222-1702134000-1702144800@dresden-gruna.de
SUMMARY:Weihnachtsfeier für alle ...
DESCRIPTION:die den Akazienhof kennen und kennen lernen wollen. \n 
URL:https://dresden-gruna.de/event/weihnachtsfeier-fuer-alle/
LOCATION:Bürger-Treff „Grunaer Aue“ Winterbergstr.31c\, 01277 Dresden\, Winterbergstraße 31c\, Dresden\, 01277\, Deutschland
ATTACH;FMTTYPE=image/jpeg:https://dresden-gruna.de/wp-content/uploads/2023/11/weihnachten-feiern-europa-traditionen.jpg
ORGANIZER;CN="'In Gruna leben' e.V.":MAILTO:post@dresden-gruna.de
END:VEVENT
BEGIN:VEVENT
DTSTART;TZID=Europe/Berlin:20231210T150000
DTEND;TZID=Europe/Berlin:20231210T173000
DTSTAMP:20260422T010344
CREATED:20231121T152315Z
LAST-MODIFIED:20231121T152315Z
UID:6225-1702220400-1702229400@dresden-gruna.de
SUMMARY:Weihnachtliches Beisammensein im Akazienhof
DESCRIPTION:Wir wollen gemeinsam uns auf Weihnachten einstimmen. Es gibt lecker Bratwurst vom Grill\, sowie an der Feuerschale Stockbrot. und im Bauwagen werden Märchen gelesen. und noch kleine Überraschungen….  Bitte beachten anderer Ort:  Akazienhof\, Schneebergstraße 16 in DD.
URL:https://dresden-gruna.de/event/weihnachtliches-beisammensein-im-akazienhof/
LOCATION:Bürger-Treff „Grunaer Aue“ Winterbergstr.31c\, 01277 Dresden\, Winterbergstraße 31c\, Dresden\, 01277\, Deutschland
ATTACH;FMTTYPE=image/webp:https://dresden-gruna.de/wp-content/uploads/2023/11/csm_sektion-led_e15902662b.webp
ORGANIZER;CN="'In Gruna leben' e.V.":MAILTO:post@dresden-gruna.de
END:VEVENT
BEGIN:VEVENT
DTSTART;TZID=Europe/Berlin:20231211T100000
DTEND;TZID=Europe/Berlin:20231211T120000
DTSTAMP:20260422T010344
CREATED:20231130T141605Z
LAST-MODIFIED:20231130T141605Z
UID:6306-1702288800-1702296000@dresden-gruna.de
SUMMARY:DigitalCafe\, die Sprechstunde zu Smartphone & Co.
DESCRIPTION:Das DigitalCafé findet als Sprechstunde ausgebildeter Technikbotschafter zu Fragen im Umgang mit Smartphone & Co.\nimmer am 2. Montag in der Zeit zwischen 10 und 12 Uhr im Bürgertreff „Grunaer Aue“\,\nWinterbergstr. 31c\, 10277 Dresden statt. \nWeitere Informationen  auf der WEB-Seite DigitalCafe!
URL:https://dresden-gruna.de/event/digitalcafe-die-sprechstunde-zu-smartphone-co-8/
LOCATION:Bürger-Treff „Grunaer Aue“ Winterbergstr.31c\, 01277 Dresden\, Winterbergstraße 31c\, Dresden\, 01277\, Deutschland
ATTACH;FMTTYPE=image/jpeg:https://dresden-gruna.de/wp-content/uploads/2022/12/images.jpg
ORGANIZER;CN="'In Gruna leben' e.V.":MAILTO:post@dresden-gruna.de
END:VEVENT
BEGIN:VEVENT
DTSTART;TZID=Europe/Berlin:20231211T150000
DTEND;TZID=Europe/Berlin:20231211T163000
DTSTAMP:20260422T010344
CREATED:20231130T143715Z
LAST-MODIFIED:20231130T143715Z
UID:6315-1702306800-1702312200@dresden-gruna.de
SUMMARY:Literarische Telefonzelle "Müllex lässt lesen"
DESCRIPTION:Anmeldung zum Erhalt der Zugangsdaten bitte an 0351 2632138 oder \nsigus-dd@t-online \nÜberzeitlich-sprachpräzise-sozialgenau-phantasievoll:  mit Uwe Johnson durch Jahrestage und Helmut Heißenbüttel eine Rolle rückwärts durchs Leben.
URL:https://dresden-gruna.de/event/literarische-telefonzelle-muellex-laesst-lesen/
LOCATION:Bürger-Treff „Grunaer Aue“ Winterbergstr.31c\, 01277 Dresden\, Winterbergstraße 31c\, Dresden\, 01277\, Deutschland
ATTACH;FMTTYPE=image/png:https://dresden-gruna.de/wp-content/uploads/2023/01/telefon.png
ORGANIZER;CN="Sigus e.V.":MAILTO:sigus-dd@t-online.de
END:VEVENT
BEGIN:VEVENT
DTSTART;TZID=Europe/Berlin:20231212T130000
DTEND;TZID=Europe/Berlin:20231212T180000
DTSTAMP:20260422T010344
CREATED:20231130T142430Z
LAST-MODIFIED:20231130T142430Z
UID:6310-1702386000-1702404000@dresden-gruna.de
SUMMARY:Sprechzeit im Bürgertreff
DESCRIPTION:Sie können persönlich Kontakt zu uns aufnehmen und Anregungen\, Ideen & Wünsche äußern\, Fragen stellen oder Dich über unsere Aktionen und Mitmach-Möglichkeiten informieren. \nSie können aber auch gern einen Termin außerhalb der Sprechzeit  vereinbaren.  Telefon:    0351 26552063   oder  015227717854  vielen Dank \noder schreiben Sie eine Mail an steffi.mueller-effenberger@dresden-gruna.de vielen Dank.
URL:https://dresden-gruna.de/event/sprechzeit-im-buergertreff-73/
LOCATION:Bürger-Treff „Grunaer Aue“ Winterbergstr.31c\, 01277 Dresden\, Winterbergstraße 31c\, Dresden\, 01277\, Deutschland
ORGANIZER;CN="'In Gruna leben' e.V.":MAILTO:post@dresden-gruna.de
END:VEVENT
BEGIN:VEVENT
DTSTART;TZID=Europe/Berlin:20231212T150000
DTEND;TZID=Europe/Berlin:20231212T173000
DTSTAMP:20260422T010344
CREATED:20231121T152943Z
LAST-MODIFIED:20231121T152943Z
UID:6228-1702393200-1702402200@dresden-gruna.de
SUMMARY:Gestaltung von Weihnachtsschmuck mit Salzteig
DESCRIPTION:Wir möchten Weihnachtsschmuck aus Salzteig herstellen\, für Euch zum mitnehmen  oder zum verschenken als kleines Weihnachtsgeschenk.
URL:https://dresden-gruna.de/event/gestaltung-von-weihnachtsschmuck-mit-salzteig/
LOCATION:Bürger-Treff „Grunaer Aue“ Winterbergstr.31c\, 01277 Dresden\, Winterbergstraße 31c\, Dresden\, 01277\, Deutschland
ATTACH;FMTTYPE=image/jpeg:https://dresden-gruna.de/wp-content/uploads/2023/11/3870c5d80b6e34e3366fe685d38945a0.jpg
ORGANIZER;CN="'In Gruna leben' e.V.":MAILTO:post@dresden-gruna.de
END:VEVENT
BEGIN:VEVENT
DTSTART;TZID=Europe/Berlin:20231212T200000
DTEND;TZID=Europe/Berlin:20231212T220000
DTSTAMP:20260422T010344
CREATED:20231130T142918Z
LAST-MODIFIED:20231130T142918Z
UID:6313-1702411200-1702418400@dresden-gruna.de
SUMMARY:Mandala -Mal- Abend
DESCRIPTION:Genieße Entspannung und erlebe Freude und Harmonie erwecke deine eigene Schöpferkraft \nBei Interesse bitte unter folgender Telefonnummer 015201969994 oder per Mail Juliane.Franke77@gmail.com anmelden.
URL:https://dresden-gruna.de/event/mandala-mal-abend-2/
LOCATION:Bürger-Treff „Grunaer Aue“ Winterbergstr.31c\, 01277 Dresden\, Winterbergstraße 31c\, Dresden\, 01277\, Deutschland
ATTACH;FMTTYPE=image/png:https://dresden-gruna.de/wp-content/uploads/2023/10/mandala-fuer-erwachsene3.png
ORGANIZER;CN="'In Gruna leben' e.V.":MAILTO:post@dresden-gruna.de
END:VEVENT
BEGIN:VEVENT
DTSTART;TZID=Europe/Berlin:20231213T100000
DTEND;TZID=Europe/Berlin:20231213T113000
DTSTAMP:20260422T010344
CREATED:20231130T144004Z
LAST-MODIFIED:20231130T144004Z
UID:6317-1702461600-1702467000@dresden-gruna.de
SUMMARY:Biografie-und Schreibkreis
DESCRIPTION:Wir erzählen\, schreiben und lesen Geschichten aus unserem Leben – \nANMELDUNG ERFORDERLICH  unter 0351 2632138
URL:https://dresden-gruna.de/event/biografie-und-schreibkreis-16/
LOCATION:Bürger-Treff „Grunaer Aue“ Winterbergstr.31c\, 01277 Dresden\, Winterbergstraße 31c\, Dresden\, 01277\, Deutschland
ATTACH;FMTTYPE=image/png:https://dresden-gruna.de/wp-content/uploads/2023/01/Buch-1.png
ORGANIZER;CN="Sigus e.V.":MAILTO:sigus-dd@t-online.de
END:VEVENT
BEGIN:VEVENT
DTSTART;TZID=Europe/Berlin:20231213T190000
DTEND;TZID=Europe/Berlin:20231213T220000
DTSTAMP:20260422T010344
CREATED:20231130T160612Z
LAST-MODIFIED:20231130T160612Z
UID:6344-1702494000-1702504800@dresden-gruna.de
SUMMARY:Koordinierungskreis Solidarische Landwirtschaft Gruna
DESCRIPTION:
URL:https://dresden-gruna.de/event/koordinierungskreis-solidarische-landwirtschaft-gruna-7/
LOCATION:Bürger-Treff „Grunaer Aue“ Winterbergstr.31c\, 01277 Dresden\, Winterbergstraße 31c\, Dresden\, 01277\, Deutschland
ORGANIZER;CN="'In Gruna leben' e.V.":MAILTO:post@dresden-gruna.de
END:VEVENT
BEGIN:VEVENT
DTSTART;TZID=Europe/Berlin:20231214T130000
DTEND;TZID=Europe/Berlin:20231214T180000
DTSTAMP:20260422T010344
CREATED:20231130T145043Z
LAST-MODIFIED:20231130T145043Z
UID:6324-1702558800-1702576800@dresden-gruna.de
SUMMARY:Sprechzeit im Bürgertreff
DESCRIPTION:Sie können persönlich Kontakt zu uns aufnehmen und Anregungen\, Ideen & Wünsche äußern\, Fragen stellen oder Dich über unsere Aktionen und Mitmach-Möglichkeiten informieren. \nSie können aber auch gern einen Termin außerhalb der Sprechzeit  vereinbaren.  Telefon:    0351 26552063   oder  015227717854  vielen Dank \noder schreiben Sie eine Mail an steffi.mueller-effenberger@dresden-gruna.de vielen Dank.
URL:https://dresden-gruna.de/event/sprechzeit-im-buergertreff-74/
LOCATION:Bürger-Treff „Grunaer Aue“ Winterbergstr.31c\, 01277 Dresden\, Winterbergstraße 31c\, Dresden\, 01277\, Deutschland
ORGANIZER;CN="'In Gruna leben' e.V.":MAILTO:post@dresden-gruna.de
END:VEVENT
BEGIN:VEVENT
DTSTART;TZID=Europe/Berlin:20231214T150000
DTEND;TZID=Europe/Berlin:20231214T163000
DTSTAMP:20260422T010344
CREATED:20231130T144739Z
LAST-MODIFIED:20231130T144739Z
UID:6321-1702566000-1702571400@dresden-gruna.de
SUMMARY:Wir singen Weihnachtslieder
DESCRIPTION:mit Begleitung einer Gitarre erklingen alte und neue Weihnachtslieder \n 
URL:https://dresden-gruna.de/event/wir-singen-weihnachtslieder/
LOCATION:Bürger-Treff „Grunaer Aue“ Winterbergstr.31c\, 01277 Dresden\, Winterbergstraße 31c\, Dresden\, 01277\, Deutschland
ATTACH;FMTTYPE=image/jpeg:https://dresden-gruna.de/wp-content/uploads/2023/11/Gitarre.jpg
ORGANIZER;CN="'In Gruna leben' e.V.":MAILTO:post@dresden-gruna.de
END:VEVENT
BEGIN:VEVENT
DTSTART;TZID=Europe/Berlin:20231215T193000
DTEND;TZID=Europe/Berlin:20231215T210000
DTSTAMP:20260422T010344
CREATED:20231130T054106Z
LAST-MODIFIED:20231130T054106Z
UID:6287-1702668600-1702674000@dresden-gruna.de
SUMMARY:duftende Geschenke selbstgemacht
DESCRIPTION:In diesem Workshop wollen wir gemeinsam duftende Geschenke für dich und deine Lieben basteln. Du kannst ein eigenes Parfum kreieren\, Raumsprays oder Roll ons für täglichen Einsatz zusammenstellen oder Duftketten basteln.\nDer Workshop kostet 10 Euro. Ein selbstgemachtes Geschenk ist im Workshoppreis inbegriffen. Wenn ihr gern mehr wollt\, kommen noch zusätzliche Materialkosten je nach Verbrauch dazu.\nGern kannst du eigene kleine Gefäße mitbringen.\nBitte melde dich vorher an\, da die Platzkapazität begrenzt ist\, danke!
URL:https://dresden-gruna.de/event/duftende-geschenke-selbstgemacht/
LOCATION:Eltern-Kind-Büro\, Rosenbergstr. 10\, Dresden\, 01277\, Deutschland
CATEGORIES:Treffen und Kurse
ATTACH;FMTTYPE=image/png:https://dresden-gruna.de/wp-content/uploads/2023/11/Aroma_43.png
ORGANIZER;CN="Mamutra":MAILTO:info@mamutra.de
END:VEVENT
BEGIN:VEVENT
DTSTART;TZID=Europe/Berlin:20231217T170000
DTEND;TZID=Europe/Berlin:20231217T171500
DTSTAMP:20260422T010344
CREATED:20231212T085720Z
LAST-MODIFIED:20231212T085853Z
UID:6374-1702832400-1702833300@dresden-gruna.de
SUMMARY:Feuershow
DESCRIPTION:Im Rahmen das Grunaer Adventskalenders findet am 17.12. um 17 Uhr im Akazienhof eine öffentliche Feuershow samt Livemusik statt.\nPräsentiert von www.zafizu.de \nAchtung: nur bei geeignetem Wetter! \nEintritt frei\, Spenden willkommen 😉
URL:https://dresden-gruna.de/event/feuershow-2/
LOCATION:Villa Akazienhof\, Schneebergstraße 16\, Schneebergstr. 16\, Dresden\, Sachsen\, 01277\, Deutschland
CATEGORIES:Akazienhof,Feste,Projekte und Aktionen
ATTACH;FMTTYPE=image/jpeg:https://dresden-gruna.de/wp-content/uploads/2023/12/17-12-2023_Plakat_Feuer-Show-Akazienhof.jpg
ORGANIZER;CN="'In Gruna leben' e.V.":MAILTO:post@dresden-gruna.de
END:VEVENT
BEGIN:VEVENT
DTSTART;TZID=Europe/Berlin:20231218T140000
DTEND;TZID=Europe/Berlin:20231218T150000
DTSTAMP:20260422T010344
CREATED:20231130T150105Z
LAST-MODIFIED:20231130T150105Z
UID:6331-1702908000-1702911600@dresden-gruna.de
SUMMARY:Sprechzeit des Nachbarschaftskreises
DESCRIPTION:Zeit für individuelle Fragen zur Nachbarschaftshilfe und zum Zusammenleben in Gruna
URL:https://dresden-gruna.de/event/sprechzeit-des-nachbarschaftskreises-8/
LOCATION:Bürger-Treff „Grunaer Aue“ Winterbergstr.31c\, 01277 Dresden\, Winterbergstraße 31c\, Dresden\, 01277\, Deutschland
ATTACH;FMTTYPE=image/jpeg:https://dresden-gruna.de/wp-content/uploads/2022/10/Nachbarschaftskreis-Logo.jpg
ORGANIZER;CN="Sigus e.V.":MAILTO:sigus-dd@t-online.de
END:VEVENT
BEGIN:VEVENT
DTSTART;TZID=Europe/Berlin:20231218T150000
DTEND;TZID=Europe/Berlin:20231218T170000
DTSTAMP:20260422T010344
CREATED:20231130T145718Z
LAST-MODIFIED:20231130T145718Z
UID:6329-1702911600-1702918800@dresden-gruna.de
SUMMARY:ErzählCafe´
DESCRIPTION:Basteln mit Kindern gestern und heute
URL:https://dresden-gruna.de/event/erzaehlcafe-10/
LOCATION:Bürger-Treff „Grunaer Aue“ Winterbergstr.31c\, 01277 Dresden\, Winterbergstraße 31c\, Dresden\, 01277\, Deutschland
ATTACH;FMTTYPE=image/jpeg:https://dresden-gruna.de/wp-content/uploads/2020/03/beverage-book-cafe-caffeine-433124.jpg
ORGANIZER;CN="Sigus e.V.":MAILTO:sigus-dd@t-online.de
END:VEVENT
BEGIN:VEVENT
DTSTART;TZID=Europe/Berlin:20231221T130000
DTEND;TZID=Europe/Berlin:20231221T180000
DTSTAMP:20260422T010344
CREATED:20231130T160153Z
LAST-MODIFIED:20231130T160153Z
UID:6340-1703163600-1703181600@dresden-gruna.de
SUMMARY:Sprechzeit im Bürgertreff
DESCRIPTION:Sie können persönlich Kontakt zu uns aufnehmen und Anregungen\, Ideen & Wünsche äußern\, Fragen stellen oder Dich über unsere Aktionen und Mitmach-Möglichkeiten informieren. \nSie können aber auch gern einen Termin außerhalb der Sprechzeit  vereinbaren.  Telefon:    0351 26552063   oder  015227717854  vielen Dank \noder schreiben Sie eine Mail an steffi.mueller-effenberger@dresden-gruna.de vielen Dank.
URL:https://dresden-gruna.de/event/sprechzeit-im-buergertreff-75/
LOCATION:Bürger-Treff „Grunaer Aue“ Winterbergstr.31c\, 01277 Dresden\, Winterbergstraße 31c\, Dresden\, 01277\, Deutschland
ORGANIZER;CN="'In Gruna leben' e.V.":MAILTO:post@dresden-gruna.de
END:VEVENT
BEGIN:VEVENT
DTSTART;TZID=Europe/Berlin:20231221T153000
DTEND;TZID=Europe/Berlin:20231221T183000
DTSTAMP:20260422T010344
CREATED:20231130T155141Z
LAST-MODIFIED:20231130T155220Z
UID:6337-1703172600-1703183400@dresden-gruna.de
SUMMARY:Flanieren\, Erzählen\, Singen
DESCRIPTION:Rundgang durch Altgruna zur Thomaskirche \nTreffpunkt am Akazienhof\, Schneebergstraße 16 \nAbschluss in der Thomaskirche mit Orgelmusik und Weihnachtslieder
URL:https://dresden-gruna.de/event/flanieren-erzaehlen-singen-2/
LOCATION:Bürger-Treff „Grunaer Aue“ Winterbergstr.31c\, 01277 Dresden\, Winterbergstraße 31c\, Dresden\, 01277\, Deutschland
ORGANIZER;CN="Sigus e.V.":MAILTO:sigus-dd@t-online.de
END:VEVENT
BEGIN:VEVENT
DTSTART;TZID=Europe/Berlin:20231221T170000
DTEND;TZID=Europe/Berlin:20231221T200000
DTSTAMP:20260422T010344
CREATED:20231130T150717Z
LAST-MODIFIED:20231130T150717Z
UID:6333-1703178000-1703188800@dresden-gruna.de
SUMMARY:RepairCafé Gruna
DESCRIPTION:Achtung anderer Ort  Familienzentrum Pauline\, \nSie möchten die Lebensdauer defekter Geräte verlängern? Dann sind Sie herzlich ins RepairCafé Gruna eingeladen. Als Gast oder Reparaturhelfer können Sie dazu beitragen\, Ressourcen zu schonen und Schrott zu vermeiden. Es können alle beweglichen Gegenstände mitgebracht werden\, die sich transportieren lassen. Ausgeschlossen sind Fahrräder und sperrige Haushaltsgroßgeräte wie Waschmaschinen und Kühlschränke. \nKooperationsprojekt\nDas RepairCafé Gruna ist eine Kooperation des „In Gruna leben e. V.“mit dem Netzwerk RepairCafé Dresden-Freital und dem Familienzentrum Pauline. Weiter Informationen zum Thema RepairCafé finden Sie hier. \nTeilnahme: Bitte vereinbaren Sie einen Reparaturtermin unter \nTel: 0151 100 57 433.  Interessierte Reparaturtalente für den Standort Gruna melden sich bitte unter tanja@dresden-gruna.de oder Tel/ WhatsApp 0176/ 32918719. \n  \n\n\n\n\n Zum Kalender hinzufügen
URL:https://dresden-gruna.de/event/repaircafe-gruna-7/
LOCATION:Bürger-Treff „Grunaer Aue“ Winterbergstr.31c\, 01277 Dresden\, Winterbergstraße 31c\, Dresden\, 01277\, Deutschland
ORGANIZER;CN="'In Gruna leben' e.V.":MAILTO:post@dresden-gruna.de
END:VEVENT
BEGIN:VEVENT
DTSTART;TZID=Europe/Berlin:20231222T153000
DTEND;TZID=Europe/Berlin:20231222T170000
DTSTAMP:20260422T010344
CREATED:20231130T160356Z
LAST-MODIFIED:20231130T160356Z
UID:6342-1703259000-1703264400@dresden-gruna.de
SUMMARY:Singen unterm Flügel
DESCRIPTION:Achtung anderer Ort :  vor der Schrammsteinstraße 8
URL:https://dresden-gruna.de/event/singen-unterm-fluegel/
LOCATION:Schrammsteinstraße zw. Heynahtsstr. und Falkensteinplatz
ORGANIZER;CN="Sigus e.V.":MAILTO:sigus-dd@t-online.de
END:VEVENT
END:VCALENDAR