BEGIN:VCALENDAR
VERSION:2.0
PRODID:-//In Gruna leben e.V. - ECPv6.8.3//NONSGML v1.0//EN
CALSCALE:GREGORIAN
METHOD:PUBLISH
X-ORIGINAL-URL:https://dresden-gruna.de
X-WR-CALDESC:Veranstaltungen für In Gruna leben e.V.
REFRESH-INTERVAL;VALUE=DURATION:PT1H
X-Robots-Tag:noindex
X-PUBLISHED-TTL:PT1H
BEGIN:VTIMEZONE
TZID:Europe/Berlin
BEGIN:DAYLIGHT
TZOFFSETFROM:+0100
TZOFFSETTO:+0200
TZNAME:CEST
DTSTART:20230326T010000
END:DAYLIGHT
BEGIN:STANDARD
TZOFFSETFROM:+0200
TZOFFSETTO:+0100
TZNAME:CET
DTSTART:20231029T010000
END:STANDARD
END:VTIMEZONE
BEGIN:VEVENT
DTSTART;TZID=Europe/Berlin:20230904T100000
DTEND;TZID=Europe/Berlin:20230904T140000
DTSTAMP:20260422T061002
CREATED:20230831T131510Z
LAST-MODIFIED:20230831T131510Z
UID:5712-1693821600-1693836000@dresden-gruna.de
SUMMARY:Rundgang mit Peter Rausendorf
DESCRIPTION:Dieser Rundgang führt  durch die Siedlung des Dresdner Bau und Sparvereins. \nAchtung\, Treffpunkt am Landgraben\, Hepkestraße 110
URL:https://dresden-gruna.de/event/rundgang-mit-peter-rausendorf/
LOCATION:Bürger-Treff „Grunaer Aue“ Winterbergstr.31c\, 01277 Dresden\, Winterbergstraße 31c\, Dresden\, 01277\, Deutschland
ATTACH;FMTTYPE=image/jpeg:https://dresden-gruna.de/wp-content/uploads/2023/01/index.jpg
ORGANIZER;CN="'In Gruna leben' e.V.":MAILTO:post@dresden-gruna.de
END:VEVENT
BEGIN:VEVENT
DTSTART;TZID=Europe/Berlin:20230904T140000
DTEND;TZID=Europe/Berlin:20230904T150000
DTSTAMP:20260422T061002
CREATED:20230831T131906Z
LAST-MODIFIED:20230831T131906Z
UID:5714-1693836000-1693839600@dresden-gruna.de
SUMMARY:Sprechzeit des Nachbarschaftskreises
DESCRIPTION:Zeit für individuelle Fragen zur Nachbarschaftshilfe und zum Zusammenleben in Gruna
URL:https://dresden-gruna.de/event/sprechzeit-des-nachbarschaftskreises-3/
LOCATION:Bürger-Treff „Grunaer Aue“ Winterbergstr.31c\, 01277 Dresden\, Winterbergstraße 31c\, Dresden\, 01277\, Deutschland
ORGANIZER;CN="Sigus e.V.":MAILTO:sigus-dd@t-online.de
END:VEVENT
BEGIN:VEVENT
DTSTART;TZID=Europe/Berlin:20230904T150000
DTEND;TZID=Europe/Berlin:20230904T170000
DTSTAMP:20260422T061002
CREATED:20230831T132028Z
LAST-MODIFIED:20230831T132028Z
UID:5716-1693839600-1693846800@dresden-gruna.de
SUMMARY:Offener Treff des Nachbarschaftskreises Gruna
DESCRIPTION:
URL:https://dresden-gruna.de/event/offener-treff-des-nachbarschaftskreises-gruna/
LOCATION:Bürger-Treff „Grunaer Aue“ Winterbergstr.31c\, 01277 Dresden\, Winterbergstraße 31c\, Dresden\, 01277\, Deutschland
ORGANIZER;CN="Sigus e.V.":MAILTO:sigus-dd@t-online.de
END:VEVENT
BEGIN:VEVENT
DTSTART;TZID=Europe/Berlin:20230905T180000
DTEND;TZID=Europe/Berlin:20230905T180000
DTSTAMP:20260422T061002
CREATED:20230904T123525Z
LAST-MODIFIED:20230904T123842Z
UID:5761-1693936800-1693936800@dresden-gruna.de
SUMMARY:IGL Plenum – Nachbarn willkommen
DESCRIPTION:IGL Plenum – Nachbarn willkommen \nJeden 1. & 3. Dienstag im Monat im Bürgertreff 🏠 \n 
URL:https://dresden-gruna.de/event/igl-plenum-nachbarn-willkommen-im-buergertreff-14/
CATEGORIES:Planungs- und Absprachetreffen
ATTACH;FMTTYPE=image/png:https://dresden-gruna.de/wp-content/uploads/2023/09/Plenum2.png
END:VEVENT
BEGIN:VEVENT
DTSTART;TZID=Europe/Berlin:20230906T100000
DTEND;TZID=Europe/Berlin:20230906T113000
DTSTAMP:20260422T061002
CREATED:20230831T132329Z
LAST-MODIFIED:20230831T132329Z
UID:5719-1693994400-1693999800@dresden-gruna.de
SUMMARY:Biografie-und Schreibkreis
DESCRIPTION:Wir erzählen\, schreiben und lesen Geschichten aus unserem Leben – \nANMELDUNG ERFORDERLICH  unter 0351 2632138
URL:https://dresden-gruna.de/event/biografie-und-schreibkreis-11/
LOCATION:Bürger-Treff „Grunaer Aue“ Winterbergstr.31c\, 01277 Dresden\, Winterbergstraße 31c\, Dresden\, 01277\, Deutschland
ATTACH;FMTTYPE=image/png:https://dresden-gruna.de/wp-content/uploads/2023/01/Buch-1.png
ORGANIZER;CN="Sigus e.V.":MAILTO:sigus-dd@t-online.de
END:VEVENT
BEGIN:VEVENT
DTSTART;TZID=Europe/Berlin:20230906T193000
DTEND;TZID=Europe/Berlin:20230906T210000
DTSTAMP:20260422T061002
CREATED:20230831T132726Z
LAST-MODIFIED:20230831T132726Z
UID:5721-1694028600-1694034000@dresden-gruna.de
SUMMARY:Selbsthilfegruppe Eltern für Kinder
DESCRIPTION:
URL:https://dresden-gruna.de/event/selbsthilfegruppe-eltern-fuer-kinder-2/
LOCATION:Bürger-Treff „Grunaer Aue“ Winterbergstr.31c\, 01277 Dresden\, Winterbergstraße 31c\, Dresden\, 01277\, Deutschland
ORGANIZER;CN="'In Gruna leben' e.V.":MAILTO:post@dresden-gruna.de
END:VEVENT
BEGIN:VEVENT
DTSTART;TZID=Europe/Berlin:20230912T130000
DTEND;TZID=Europe/Berlin:20230912T180000
DTSTAMP:20260422T061002
CREATED:20230817T134147Z
LAST-MODIFIED:20230817T134147Z
UID:5668-1694523600-1694541600@dresden-gruna.de
SUMMARY:Sprechzeit im Bürgertreff
DESCRIPTION:Sie können persönlich Kontakt zu uns aufnehmen und Anregungen\, Ideen & Wünsche äußern\, Fragen stellen oder Dich über unsere Aktionen und Mitmach-Möglichkeiten informieren. \nSie können aber auch gern einen Termin außerhalb der Sprechzeit  vereinbaren.  Telefon:    0351 26552063   oder  015227717854  vielen Dank
URL:https://dresden-gruna.de/event/sprechzeit-im-buergertreff-57/
LOCATION:Bürger-Treff „Grunaer Aue“ Winterbergstr.31c\, 01277 Dresden\, Winterbergstraße 31c\, Dresden\, 01277\, Deutschland
ORGANIZER;CN="'In Gruna leben' e.V.":MAILTO:post@dresden-gruna.de
END:VEVENT
BEGIN:VEVENT
DTSTART;TZID=Europe/Berlin:20230913T140000
DTEND;TZID=Europe/Berlin:20230913T153000
DTSTAMP:20260422T061002
CREATED:20230831T133237Z
LAST-MODIFIED:20230831T133237Z
UID:5723-1694613600-1694619000@dresden-gruna.de
SUMMARY:Alles wird besser\, doch wird es auch gut?
DESCRIPTION:In Dresden Mobilitätsbarrieren abbauen und Mobilitätshilfen aufbauen. \nInterventionen vom Runden Tisch der Senioren…… \n 
URL:https://dresden-gruna.de/event/alles-wird-besser-doch-wird-es-auch-gut/
LOCATION:Bürger-Treff „Grunaer Aue“ Winterbergstr.31c\, 01277 Dresden\, Winterbergstraße 31c\, Dresden\, 01277\, Deutschland
ORGANIZER;CN="Sigus e.V.":MAILTO:sigus-dd@t-online.de
END:VEVENT
BEGIN:VEVENT
DTSTART;TZID=Europe/Berlin:20230913T190000
DTEND;TZID=Europe/Berlin:20230913T220000
DTSTAMP:20260422T061002
CREATED:20230831T134249Z
LAST-MODIFIED:20230831T134249Z
UID:5726-1694631600-1694642400@dresden-gruna.de
SUMMARY:Koordinierungskreis Solidarische Landwirtschaft Gruna
DESCRIPTION:
URL:https://dresden-gruna.de/event/koordinierungskreis-solidarische-landwirtschaft-gruna-4/
LOCATION:Bürger-Treff „Grunaer Aue“ Winterbergstr.31c\, 01277 Dresden\, Winterbergstraße 31c\, Dresden\, 01277\, Deutschland
ORGANIZER;CN="'In Gruna leben' e.V.":MAILTO:post@dresden-gruna.de
END:VEVENT
BEGIN:VEVENT
DTSTART;TZID=Europe/Berlin:20230914T130000
DTEND;TZID=Europe/Berlin:20230914T180000
DTSTAMP:20260422T061002
CREATED:20230817T134250Z
LAST-MODIFIED:20230817T134250Z
UID:5670-1694696400-1694714400@dresden-gruna.de
SUMMARY:Sprechzeit im Bürgertreff
DESCRIPTION:Sie können persönlich Kontakt zu uns aufnehmen und Anregungen\, Ideen & Wünsche äußern\, Fragen stellen oder Dich über unsere Aktionen und Mitmach-Möglichkeiten informieren. \nSie können aber auch gern einen Termin außerhalb der Sprechzeit  vereinbaren.  Telefon:    0351 26552063   oder  015227717854  vielen Dank
URL:https://dresden-gruna.de/event/sprechzeit-im-buergertreff-58/
LOCATION:Bürger-Treff „Grunaer Aue“ Winterbergstr.31c\, 01277 Dresden\, Winterbergstraße 31c\, Dresden\, 01277\, Deutschland
ORGANIZER;CN="'In Gruna leben' e.V.":MAILTO:post@dresden-gruna.de
END:VEVENT
BEGIN:VEVENT
DTSTART;TZID=Europe/Berlin:20230914T150000
DTEND;TZID=Europe/Berlin:20230914T170000
DTSTAMP:20260422T061002
CREATED:20230831T134707Z
LAST-MODIFIED:20230831T134707Z
UID:5728-1694703600-1694710800@dresden-gruna.de
SUMMARY:Vortrag zum Thema Patientenverfügung und Vollmachten Teil 1
DESCRIPTION:Wir erfahren\, was ist wichtig zu diesem Thema\, Patientenverfügung und Vollmachten
URL:https://dresden-gruna.de/event/vortrag-zum-thema-patientenverfuegung-und-vollmachten-teil-1/
LOCATION:Bürger-Treff „Grunaer Aue“ Winterbergstr.31c\, 01277 Dresden\, Winterbergstraße 31c\, Dresden\, 01277\, Deutschland
ATTACH;FMTTYPE=image/jpeg:https://dresden-gruna.de/wp-content/uploads/2023/08/2020_Patientenverfuegung.jpeg
ORGANIZER;CN="'In Gruna leben' e.V.":MAILTO:post@dresden-gruna.de
END:VEVENT
BEGIN:VEVENT
DTSTART;TZID=Europe/Berlin:20230914T170000
DTEND;TZID=Europe/Berlin:20230914T190000
DTSTAMP:20260422T061002
CREATED:20230912T144753Z
LAST-MODIFIED:20230912T144753Z
UID:5823-1694710800-1694718000@dresden-gruna.de
SUMMARY:gemeinsame Gartengestaltung im Akazienhof mit einen kleinen Imbiss
DESCRIPTION:Hallo liebe Nachbar: innen und Freund: innen in Gruna und Umgebung\, \njeden Donnerstag  ab 17:00 Uhr laden wir in den Garten des Akazienhofs ein! \nAn diesem Abend wollen wir nicht nur gemeinsam Ideen für Garten und Villa sammeln\, sondern auch anpacken und den Garten gestalten mit Beeten\, Blumen und was noch so in einem Garten passt. \nund wir werden euch auch über den aktuellen Stand des Projekts informieren. \nNebenbei soll entspannt miteinander gegessen und getrunken werden\, also bringt gerne mit\, was ihr wollt. 🍝🍛🍲🍜 \nWir freuen uns auf euch!
URL:https://dresden-gruna.de/event/gemeinsame-gartengestaltung-im-akazienhof-mit-einen-kleinen-imbiss/
LOCATION:Villa Akazienhof\, Schneebergstraße 16\, Schneebergstr. 16\, Dresden\, Sachsen\, 01277\, Deutschland
ATTACH;FMTTYPE=image/jpeg:https://dresden-gruna.de/wp-content/uploads/2023/03/InShot_20220719_135909027.jpg
ORGANIZER;CN="'In Gruna leben' e.V.":MAILTO:post@dresden-gruna.de
END:VEVENT
BEGIN:VEVENT
DTSTART;TZID=Europe/Berlin:20230916T153000
DTEND;TZID=Europe/Berlin:20230916T190000
DTSTAMP:20260422T061002
CREATED:20230831T140055Z
LAST-MODIFIED:20230831T140055Z
UID:5731-1694878200-1694890800@dresden-gruna.de
SUMMARY:Gruna kocht
DESCRIPTION:Wir kochen und essen gemeinsam und haben eine schöne Zeit miteinander. \nAnmeldung bitte bis zum 13.09. 23\,  ivsjana@hotmail.de oder 015227717854 vielen Dank.
URL:https://dresden-gruna.de/event/gruna-kocht-7/
LOCATION:Bürger-Treff „Grunaer Aue“ Winterbergstr.31c\, 01277 Dresden\, Winterbergstraße 31c\, Dresden\, 01277\, Deutschland
ATTACH;FMTTYPE=image/jpeg:https://dresden-gruna.de/wp-content/uploads/2023/01/kochen.jpg
ORGANIZER;CN="'In Gruna leben' e.V.":MAILTO:post@dresden-gruna.de
END:VEVENT
BEGIN:VEVENT
DTSTART;TZID=Europe/Berlin:20230917T160000
DTEND;TZID=Europe/Berlin:20230917T180000
DTSTAMP:20260422T061002
CREATED:20230916T064540Z
LAST-MODIFIED:20230916T064550Z
UID:5843-1694966400-1694973600@dresden-gruna.de
SUMMARY:offener Jongliertreff
DESCRIPTION:Bringt eure Tools mit und trainiert gemeinsam unter Bäumen.
URL:https://dresden-gruna.de/event/offener-jongliertreff/
LOCATION:Villa Akazienhof\, Schneebergstraße 16\, Schneebergstr. 16\, Dresden\, Sachsen\, 01277\, Deutschland
CATEGORIES:Akazienhof
END:VEVENT
BEGIN:VEVENT
DTSTART;TZID=Europe/Berlin:20230918T100000
DTEND;TZID=Europe/Berlin:20230918T120000
DTSTAMP:20260422T061002
CREATED:20230831T140453Z
LAST-MODIFIED:20230831T140453Z
UID:5733-1695031200-1695038400@dresden-gruna.de
SUMMARY:DigitalCafe\, die Sprechstunde zu Smartphone & Co.
DESCRIPTION:Das DigitalCafé findet als Sprechstunde ausgebildeter Technikbotschafter zu Fragen und Hilfe  im Umgang mit Smartphone & Co. \nWeitere Informationen  auf der WEB-Seite DigitalCafe!
URL:https://dresden-gruna.de/event/digitalcafe-die-sprechstunde-zu-smartphone-co-6/
LOCATION:Bürger-Treff „Grunaer Aue“ Winterbergstr.31c\, 01277 Dresden\, Winterbergstraße 31c\, Dresden\, 01277\, Deutschland
ATTACH;FMTTYPE=image/jpeg:https://dresden-gruna.de/wp-content/uploads/2022/12/images.jpg
ORGANIZER;CN="'In Gruna leben' e.V.":MAILTO:post@dresden-gruna.de
END:VEVENT
BEGIN:VEVENT
DTSTART;TZID=Europe/Berlin:20230918T150000
DTEND;TZID=Europe/Berlin:20230918T170000
DTSTAMP:20260422T061002
CREATED:20230831T140808Z
LAST-MODIFIED:20230917T160110Z
UID:5735-1695049200-1695056400@dresden-gruna.de
SUMMARY:ErzählCafe
DESCRIPTION:Im ErzählCafé des Nachbarschaftskreises Gruna geht es diesmal um die öffentlicher Kunst in unserem Stadtteil. Kunst am Bau\, der Findlingsbrunnen und mehr…\nGleichzeitig gibt es nochmal die Möglichkeit die Ausstellung „Verschiedene Sichten auf den Findlingsbrunnen von Gruna“ bei der Finissage im Bürgertreff auf der Winterbergstraße 31c zu sehen. \n 
URL:https://dresden-gruna.de/event/erzaehlcafe-7/
LOCATION:Bürger-Treff „Grunaer Aue“ Winterbergstr.31c\, 01277 Dresden\, Winterbergstraße 31c\, Dresden\, 01277\, Deutschland
ATTACH;FMTTYPE=image/jpeg:https://dresden-gruna.de/wp-content/uploads/2020/03/beverage-book-cafe-caffeine-433124.jpg
ORGANIZER;CN="Sigus e.V.":MAILTO:sigus-dd@t-online.de
END:VEVENT
BEGIN:VEVENT
DTSTART;TZID=Europe/Berlin:20230919T130000
DTEND;TZID=Europe/Berlin:20230919T180000
DTSTAMP:20260422T061002
CREATED:20230831T143206Z
LAST-MODIFIED:20230831T143206Z
UID:5751-1695128400-1695146400@dresden-gruna.de
SUMMARY:Sprechzeit im Bürgertreff
DESCRIPTION:Sie können persönlich Kontakt zu uns aufnehmen und Anregungen\, Ideen & Wünsche äußern\, Fragen stellen oder Dich über unsere Aktionen und Mitmach-Möglichkeiten informieren. \nSie können aber auch gern einen Termin außerhalb der Sprechzeit  vereinbaren.  Telefon:    0351 26552063   oder  015227717854  vielen Dank
URL:https://dresden-gruna.de/event/sprechzeit-im-buergertreff-59/
LOCATION:Bürger-Treff „Grunaer Aue“ Winterbergstr.31c\, 01277 Dresden\, Winterbergstraße 31c\, Dresden\, 01277\, Deutschland
ORGANIZER;CN="'In Gruna leben' e.V.":MAILTO:post@dresden-gruna.de
END:VEVENT
BEGIN:VEVENT
DTSTART;TZID=Europe/Berlin:20230919T180000
DTEND;TZID=Europe/Berlin:20230919T200000
DTSTAMP:20260422T061002
CREATED:20230915T080915Z
LAST-MODIFIED:20230915T080915Z
UID:5840-1695146400-1695153600@dresden-gruna.de
SUMMARY:IGL Plenum - Nachbarn willkommen im Bürgertreff
DESCRIPTION:Kommen Sie gern mit uns ins Gespräch. Das IGL Plenum im Bürgertreff ist für den Verein und offen für Alle. Ihre Anregungen\, Ideen und Fragen aus und für die Nachbarschaft sind uns wichtig. \nJeden 1. & 3. Dienstag im Monat im Bürgertreff 🏠
URL:https://dresden-gruna.de/event/igl-plenum-nachbarn-willkommen-im-buergertreff-15/
CATEGORIES:Planungs- und Absprachetreffen
ATTACH;FMTTYPE=image/jpeg:https://dresden-gruna.de/wp-content/uploads/2023/09/Stadtteilrunde_meeting.jpg
END:VEVENT
BEGIN:VEVENT
DTSTART;TZID=Europe/Berlin:20230920T100000
DTEND;TZID=Europe/Berlin:20230920T113000
DTSTAMP:20260422T061002
CREATED:20230831T141051Z
LAST-MODIFIED:20230831T141051Z
UID:5737-1695204000-1695209400@dresden-gruna.de
SUMMARY:Biografie-und Schreibkreis
DESCRIPTION:Wir erzählen\, schreiben und lesen Geschichten aus unserem Leben – \nANMELDUNG ERFORDERLICH  unter 0351 2632138
URL:https://dresden-gruna.de/event/biografie-und-schreibkreis-12/
LOCATION:Bürger-Treff „Grunaer Aue“ Winterbergstr.31c\, 01277 Dresden\, Winterbergstraße 31c\, Dresden\, 01277\, Deutschland
ATTACH;FMTTYPE=image/png:https://dresden-gruna.de/wp-content/uploads/2023/01/Buch-1.png
ORGANIZER;CN="Sigus e.V.":MAILTO:sigus-dd@t-online.de
END:VEVENT
BEGIN:VEVENT
DTSTART;TZID=Europe/Berlin:20230921T130000
DTEND;TZID=Europe/Berlin:20230921T180000
DTSTAMP:20260422T061002
CREATED:20230831T143951Z
LAST-MODIFIED:20230831T143951Z
UID:5754-1695301200-1695319200@dresden-gruna.de
SUMMARY:Sprechzeit im Bürgertreff
DESCRIPTION:Sie können persönlich Kontakt zu uns aufnehmen und Anregungen\, Ideen & Wünsche äußern\, Fragen stellen oder Dich über unsere Aktionen und Mitmach-Möglichkeiten informieren. \nSie können aber auch gern einen Termin außerhalb der Sprechzeit  vereinbaren.  Telefon:    0351 26552063   oder  015227717854  vielen Dank
URL:https://dresden-gruna.de/event/sprechzeit-im-buergertreff-60/
LOCATION:Bürger-Treff „Grunaer Aue“ Winterbergstr.31c\, 01277 Dresden\, Winterbergstraße 31c\, Dresden\, 01277\, Deutschland
ORGANIZER;CN="'In Gruna leben' e.V.":MAILTO:post@dresden-gruna.de
END:VEVENT
BEGIN:VEVENT
DTSTART;TZID=Europe/Berlin:20230921T170000
DTEND;TZID=Europe/Berlin:20230921T190000
DTSTAMP:20260422T061002
CREATED:20230912T145503Z
LAST-MODIFIED:20230912T145503Z
UID:5829-1695315600-1695322800@dresden-gruna.de
SUMMARY:gemeinsame Gartengestaltung im Akazienhof mit einen kleinen Imbiss
DESCRIPTION:Hallo liebe Nachbar: innen und Freund: innen in Gruna und Umgebung\, \njeden Donnerstag  ab 17:00 Uhr laden wir in den Garten des Akazienhofs ein! \nAn diesem Abend wollen wir nicht nur gemeinsam Ideen für Garten und Villa sammeln\, sondern auch anpacken und den Garten gestalten mit Beeten\, Blumen und was noch so in einem Garten passt. \nund wir werden euch auch über den aktuellen Stand des Projekts informieren. \nNebenbei soll entspannt miteinander gegessen und getrunken werden\, also bringt gerne mit\, was ihr wollt. 🍝🍛🍲🍜 \nWir freuen uns auf euch!
URL:https://dresden-gruna.de/event/gemeinsame-gartengestaltung-im-akazienhof-mit-einen-kleinen-imbiss-2/
LOCATION:Villa Akazienhof\, Schneebergstraße 16\, Schneebergstr. 16\, Dresden\, Sachsen\, 01277\, Deutschland
ATTACH;FMTTYPE=image/jpeg:https://dresden-gruna.de/wp-content/uploads/2023/03/InShot_20220719_135909027.jpg
ORGANIZER;CN="'In Gruna leben' e.V.":MAILTO:post@dresden-gruna.de
END:VEVENT
BEGIN:VEVENT
DTSTART;TZID=Europe/Berlin:20230921T170000
DTEND;TZID=Europe/Berlin:20230921T200000
DTSTAMP:20260422T061002
CREATED:20230831T141907Z
LAST-MODIFIED:20230831T141907Z
UID:5742-1695315600-1695326400@dresden-gruna.de
SUMMARY:RepairCafé Gruna
DESCRIPTION:Achtung anderer Ort  Familienzentrum Pauline\, \nSie möchten die Lebensdauer defekter Geräte verlängern? Dann sind Sie herzlich ins RepairCafé Gruna eingeladen. Als Gast oder Reparaturhelfer können Sie dazu beitragen\, Ressourcen zu schonen und Schrott zu vermeiden. Es können alle beweglichen Gegenstände mitgebracht werden\, die sich transportieren lassen. Ausgeschlossen sind Fahrräder und sperrige Haushaltsgroßgeräte wie Waschmaschinen und Kühlschränke. \nKooperationsprojekt\nDas RepairCafé Gruna ist eine Kooperation des „In Gruna leben e. V.“mit dem Netzwerk RepairCafé Dresden-Freital und dem Familienzentrum Pauline. Weiter Informationen zum Thema RepairCafé finden Sie hier. \nTeilnahme: Bitte vereinbaren Sie einen Reparaturtermin unter  \nTel: 0151 100 57 433.  Interessierte Reparaturtalente für den Standort Gruna melden sich bitte unter tanja@dresden-gruna.de oder Tel/ WhatsApp 0176/ 32918719. \n 
URL:https://dresden-gruna.de/event/repaircafe-gruna-6/
LOCATION:Bürger-Treff „Grunaer Aue“ Winterbergstr.31c\, 01277 Dresden\, Winterbergstraße 31c\, Dresden\, 01277\, Deutschland
ORGANIZER;CN="'In Gruna leben' e.V.":MAILTO:post@dresden-gruna.de
END:VEVENT
BEGIN:VEVENT
DTSTART;TZID=Europe/Berlin:20230922T100000
DTEND;TZID=Europe/Berlin:20230922T140000
DTSTAMP:20260422T061002
CREATED:20230831T141510Z
LAST-MODIFIED:20230831T141510Z
UID:5739-1695376800-1695391200@dresden-gruna.de
SUMMARY:Wandergruppe „Grüne Wiese“
DESCRIPTION:spaziert um die Thomaskirche \nTreffpunkt Haltestelle Zwinglistraße 
URL:https://dresden-gruna.de/event/wandergruppe-gruene-wiese-6/
LOCATION:Bürger-Treff „Grunaer Aue“ Winterbergstr.31c\, 01277 Dresden\, Winterbergstraße 31c\, Dresden\, 01277\, Deutschland
ATTACH;FMTTYPE=image/jpeg:https://dresden-gruna.de/wp-content/uploads/2023/01/index.jpg
ORGANIZER;CN="'In Gruna leben' e.V.":MAILTO:post@dresden-gruna.de
END:VEVENT
BEGIN:VEVENT
DTSTART;TZID=Europe/Berlin:20230923T100000
DTEND;TZID=Europe/Berlin:20230923T200000
DTSTAMP:20260422T061002
CREATED:20230727T152940Z
LAST-MODIFIED:20230727T152940Z
UID:5609-1695463200-1695499200@dresden-gruna.de
SUMMARY:"Tag des offenen Tores" im Akazienhof
DESCRIPTION:Wir möchten gemeinsam mit Euch eine schönen Tag in unseren Garten erleben. Es werden viele spannende Dinge angeboten für Kinder und Erwachsene\, wie z.B. ein Trödelmarkt\, Bastel-  und Malstraße  und vieles mehr. \nFür das leibliche Wohl wird auch gesorgt. \nWir freuen uns jetzt schon auf Euren Besuch.
URL:https://dresden-gruna.de/event/tag-des-offenen-tores-im-akazienhof/
LOCATION:Bürger-Treff „Grunaer Aue“ Winterbergstr.31c\, 01277 Dresden\, Winterbergstraße 31c\, Dresden\, 01277\, Deutschland
ATTACH;FMTTYPE=image/jpeg:https://dresden-gruna.de/wp-content/uploads/2023/07/81L2NHqci7L._AC_SL1500_.jpg
ORGANIZER;CN="'In Gruna leben' e.V.":MAILTO:post@dresden-gruna.de
END:VEVENT
BEGIN:VEVENT
DTSTART;TZID=Europe/Berlin:20230926T100000
DTEND;TZID=Europe/Berlin:20230926T130000
DTSTAMP:20260422T061002
CREATED:20230831T142455Z
LAST-MODIFIED:20230831T142455Z
UID:5746-1695722400-1695733200@dresden-gruna.de
SUMMARY:Grunaer Frauenfrühstück
DESCRIPTION:Frauen mal unter sich. \nThema:  Wir bauen Feen Häuser und Herbstgestecke
URL:https://dresden-gruna.de/event/grunaer-frauenfruehstueck-9/
LOCATION:Bürger-Treff „Grunaer Aue“ Winterbergstr.31c\, 01277 Dresden\, Winterbergstraße 31c\, Dresden\, 01277\, Deutschland
ATTACH;FMTTYPE=image/jpeg:https://dresden-gruna.de/wp-content/uploads/2023/01/frauen.jpg
ORGANIZER;CN="'In Gruna leben' e.V.":MAILTO:post@dresden-gruna.de
END:VEVENT
BEGIN:VEVENT
DTSTART;TZID=Europe/Berlin:20230926T130000
DTEND;TZID=Europe/Berlin:20230926T180000
DTSTAMP:20260422T061002
CREATED:20230912T151711Z
LAST-MODIFIED:20230912T151711Z
UID:5833-1695733200-1695751200@dresden-gruna.de
SUMMARY:Sprechzeit im Bürgertreff
DESCRIPTION:Sie können persönlich Kontakt zu uns aufnehmen und Anregungen\, Ideen & Wünsche äußern\, Fragen stellen oder Dich über unsere Aktionen und Mitmach-Möglichkeiten informieren. \nSie können aber auch gern einen Termin außerhalb der Sprechzeit  vereinbaren.  Telefon:    0351 26552063   oder  015227717854  vielen Dank \noder schreiben Sie eine Mail an steffi.mueller-effenberger@dresden-gruna.de vielen Dank.
URL:https://dresden-gruna.de/event/sprechzeit-im-buergertreff-61/
LOCATION:Bürger-Treff „Grunaer Aue“ Winterbergstr.31c\, 01277 Dresden\, Winterbergstraße 31c\, Dresden\, 01277\, Deutschland
ORGANIZER;CN="'In Gruna leben' e.V.":MAILTO:post@dresden-gruna.de
END:VEVENT
BEGIN:VEVENT
DTSTART;TZID=Europe/Berlin:20230927T170000
DTEND;TZID=Europe/Berlin:20230927T180000
DTSTAMP:20260422T061002
CREATED:20230920T073821Z
LAST-MODIFIED:20230920T125706Z
UID:5852-1695834000-1695837600@dresden-gruna.de
SUMMARY:Mandolinengruppe Fidelio im Akazienhof
DESCRIPTION:Am Mittwoch 27.09.2023  – 17 Uhr  \nDie Mandolinengruppe „Fidelio“ erfüllt den Akazienhofgarten mit herbstlichen Klängen.  \n  \n 
URL:https://dresden-gruna.de/event/mandolinengruppe-fidelio-im-akazienhif/
LOCATION:Villa Akazienhof\, Schneebergstraße 16\, Schneebergstr. 16\, Dresden\, Sachsen\, 01277\, Deutschland
ATTACH;FMTTYPE=image/jpeg:https://dresden-gruna.de/wp-content/uploads/2023/09/Musik_Plakat.jpg
ORGANIZER;CN="'In Gruna leben' e.V.":MAILTO:post@dresden-gruna.de
END:VEVENT
BEGIN:VEVENT
DTSTART;TZID=Europe/Berlin:20230927T190000
DTEND;TZID=Europe/Berlin:20230927T220000
DTSTAMP:20260422T061002
CREATED:20230831T142635Z
LAST-MODIFIED:20230831T142635Z
UID:5748-1695841200-1695852000@dresden-gruna.de
SUMMARY:Koordinierungskreis Solidarische Landwirtschaft Gruna
DESCRIPTION:
URL:https://dresden-gruna.de/event/koordinierungskreis-solidarische-landwirtschaft-gruna-5/
LOCATION:Bürger-Treff „Grunaer Aue“ Winterbergstr.31c\, 01277 Dresden\, Winterbergstraße 31c\, Dresden\, 01277\, Deutschland
ORGANIZER;CN="'In Gruna leben' e.V.":MAILTO:post@dresden-gruna.de
END:VEVENT
BEGIN:VEVENT
DTSTART;TZID=Europe/Berlin:20230928T130000
DTEND;TZID=Europe/Berlin:20230928T180000
DTSTAMP:20260422T061002
CREATED:20230912T151933Z
LAST-MODIFIED:20230912T151933Z
UID:5835-1695906000-1695924000@dresden-gruna.de
SUMMARY:Sprechzeit im Bürgertreff
DESCRIPTION:Sie können persönlich Kontakt zu uns aufnehmen und Anregungen\, Ideen & Wünsche äußern\, Fragen stellen oder Dich über unsere Aktionen und Mitmach-Möglichkeiten informieren. \nSie können aber auch gern einen Termin außerhalb der Sprechzeit  vereinbaren.  Telefon:    0351 26552063   oder  015227717854  vielen Dank \noder schreiben Sie eine Mail an steffi.mueller-effenberger@dresden-gruna.de vielen Dank.
URL:https://dresden-gruna.de/event/sprechzeit-im-buergertreff-62/
LOCATION:Bürger-Treff „Grunaer Aue“ Winterbergstr.31c\, 01277 Dresden\, Winterbergstraße 31c\, Dresden\, 01277\, Deutschland
ORGANIZER;CN="'In Gruna leben' e.V.":MAILTO:post@dresden-gruna.de
END:VEVENT
BEGIN:VEVENT
DTSTART;TZID=Europe/Berlin:20230928T170000
DTEND;TZID=Europe/Berlin:20230928T190000
DTSTAMP:20260422T061002
CREATED:20230912T145644Z
LAST-MODIFIED:20230912T145644Z
UID:5831-1695920400-1695927600@dresden-gruna.de
SUMMARY:gemeinsame Gartengestaltung im Akazienhof mit einen kleinen Imbiss
DESCRIPTION:Hallo liebe Nachbar: innen und Freund: innen in Gruna und Umgebung\, \njeden Donnerstag  ab 17:00 Uhr laden wir in den Garten des Akazienhofs ein! \nAn diesem Abend wollen wir nicht nur gemeinsam Ideen für Garten und Villa sammeln\, sondern auch anpacken und den Garten gestalten mit Beeten\, Blumen und was noch so in einem Garten passt. \nund wir werden euch auch über den aktuellen Stand des Projekts informieren. \nNebenbei soll entspannt miteinander gegessen und getrunken werden\, also bringt gerne mit\, was ihr wollt. 🍝🍛🍲🍜 \nWir freuen uns auf euch!
URL:https://dresden-gruna.de/event/gemeinsame-gartengestaltung-im-akazienhof-mit-einen-kleinen-imbiss-3/
LOCATION:Villa Akazienhof\, Schneebergstraße 16\, Schneebergstr. 16\, Dresden\, Sachsen\, 01277\, Deutschland
ATTACH;FMTTYPE=image/jpeg:https://dresden-gruna.de/wp-content/uploads/2023/03/InShot_20220719_135909027.jpg
ORGANIZER;CN="'In Gruna leben' e.V.":MAILTO:post@dresden-gruna.de
END:VEVENT
END:VCALENDAR