BEGIN:VCALENDAR
VERSION:2.0
PRODID:-//In Gruna leben e.V. - ECPv6.8.3//NONSGML v1.0//EN
CALSCALE:GREGORIAN
METHOD:PUBLISH
X-ORIGINAL-URL:https://dresden-gruna.de
X-WR-CALDESC:Veranstaltungen für In Gruna leben e.V.
REFRESH-INTERVAL;VALUE=DURATION:PT1H
X-Robots-Tag:noindex
X-PUBLISHED-TTL:PT1H
BEGIN:VTIMEZONE
TZID:Europe/Berlin
BEGIN:DAYLIGHT
TZOFFSETFROM:+0100
TZOFFSETTO:+0200
TZNAME:CEST
DTSTART:20230326T010000
END:DAYLIGHT
BEGIN:STANDARD
TZOFFSETFROM:+0200
TZOFFSETTO:+0100
TZNAME:CET
DTSTART:20231029T010000
END:STANDARD
END:VTIMEZONE
BEGIN:VEVENT
DTSTART;TZID=Europe/Berlin:20230801T150000
DTEND;TZID=Europe/Berlin:20230801T180000
DTSTAMP:20260422T074103
CREATED:20230727T100132Z
LAST-MODIFIED:20230727T100132Z
UID:5532-1690902000-1690912800@dresden-gruna.de
SUMMARY:Sprechzeit im Bürgertreff
DESCRIPTION:Haben Sie Fragen oder Anregungen \, können Sie gern in dieser Zeit bei uns vorbeikommen. Benötigen Sie Hilfestellung im Alltag \, beim Einkauf oder mal ein Gespräch wir sind gern für Ihre Anliegen da und haben ein offenes Ohr für Sie. \nSie können aber auch gern einen Termin außerhalb der Sprechzeit  vereinbaren.  Telefon:    0351 26552063   oder  015227717854  vielen Dank
URL:https://dresden-gruna.de/event/sprechzeit-im-buergertreff-47/
LOCATION:Bürger-Treff „Grunaer Aue“ Winterbergstr.31c\, 01277 Dresden\, Winterbergstraße 31c\, Dresden\, 01277\, Deutschland
ORGANIZER;CN="'In Gruna leben' e.V.":MAILTO:post@dresden-gruna.de
END:VEVENT
BEGIN:VEVENT
DTSTART;TZID=Europe/Berlin:20230801T180000
DTEND;TZID=Europe/Berlin:20230801T200000
DTSTAMP:20260422T074103
CREATED:20230727T100610Z
LAST-MODIFIED:20230727T100610Z
UID:5534-1690912800-1690920000@dresden-gruna.de
SUMMARY:IGL – Plenum Nachbarn willkommen im Bürgertreff
DESCRIPTION:Kommen Sie gern mit uns ins Gespräch. Ihrer Anregungen\, Ideen und Fragen sind uns wichtig. \nWir möchten von Ihnen wissen\, welche Wünsche haben Sie für den Bürgertreff und Akazienhof.
URL:https://dresden-gruna.de/event/igl-plenum-nachbarn-willkommen-im-buergertreff-12/
LOCATION:Bürger-Treff „Grunaer Aue“ Winterbergstr.31c\, 01277 Dresden\, Winterbergstraße 31c\, Dresden\, 01277\, Deutschland
ATTACH;FMTTYPE=image/jpeg:https://dresden-gruna.de/wp-content/uploads/2023/02/junge-leute-stehen-und-reden-miteinander-sprachblase-smartphone-flache-vektorillustration-des-maedchens-kommunikation-und-diskussion_74855-8741.jpg
ORGANIZER;CN="'In Gruna leben' e.V.":MAILTO:post@dresden-gruna.de
END:VEVENT
BEGIN:VEVENT
DTSTART;TZID=Europe/Berlin:20230803T150000
DTEND;TZID=Europe/Berlin:20230803T180000
DTSTAMP:20260422T074103
CREATED:20230727T123924Z
LAST-MODIFIED:20230727T123924Z
UID:5554-1691074800-1691085600@dresden-gruna.de
SUMMARY:Sprechzeit im Bürgertreff
DESCRIPTION:Sie können persönlich Kontakt zu uns aufnehmen und Anregungen\, Ideen & Wünsche äußern\, Fragen stellen oder Dich über unsere Aktionen und Mitmach-Möglichkeiten informieren. \nSie können aber auch gern einen Termin außerhalb der Sprechzeit  vereinbaren.  Telefon:    0351 26552063   oder  015227717854  vielen Dank
URL:https://dresden-gruna.de/event/sprechzeit-im-buergertreff-48/
LOCATION:Bürger-Treff „Grunaer Aue“ Winterbergstr.31c\, 01277 Dresden\, Winterbergstraße 31c\, Dresden\, 01277\, Deutschland
ORGANIZER;CN="'In Gruna leben' e.V.":MAILTO:post@dresden-gruna.de
END:VEVENT
BEGIN:VEVENT
DTSTART;TZID=Europe/Berlin:20230805T150000
DTEND;TZID=Europe/Berlin:20230805T180000
DTSTAMP:20260422T074104
CREATED:20230727T104941Z
LAST-MODIFIED:20230727T104941Z
UID:5542-1691247600-1691258400@dresden-gruna.de
SUMMARY:Schatzsuche im Garten - Akazienhof
DESCRIPTION:Bist Du bereit\, das Eichhörnchen und seine Freunde kennen zu lernen. Geh auf Spurensuche und finde heraus\, welche Tiere noch im Garten wohnen. \nWir haben einige Fragen rund um Tiere im Garten  und Du kannst sie beantworten\, dann hol Dir das Igelchenabzeichen.
URL:https://dresden-gruna.de/event/schatzsuche-im-garten-akazienhof/
LOCATION:Bürger-Treff „Grunaer Aue“ Winterbergstr.31c\, 01277 Dresden\, Winterbergstraße 31c\, Dresden\, 01277\, Deutschland
ATTACH;FMTTYPE=image/webp:https://dresden-gruna.de/wp-content/uploads/2023/07/eichhoernchenfutter-naturgarten.webp
ORGANIZER;CN="'In Gruna leben' e.V.":MAILTO:post@dresden-gruna.de
END:VEVENT
BEGIN:VEVENT
DTSTART;TZID=Europe/Berlin:20230808T100000
DTEND;TZID=Europe/Berlin:20230808T133000
DTSTAMP:20260422T074104
CREATED:20230727T110429Z
LAST-MODIFIED:20230727T110429Z
UID:5548-1691488800-1691501400@dresden-gruna.de
SUMMARY:Pack die Badehose ein ...
DESCRIPTION:Wir gehen gemeinsam ins Georg – Arnhold Freizeitbad \nTreffpunkt Bürgertreff  Winterbergstraße 31 c\, 01277 Dresden \nAnmeldung bitte bei Steffi unter 015227717854 oder Mail. ivsjana@hotmail.de
URL:https://dresden-gruna.de/event/pack-die-badehose-ein/
LOCATION:Bürger-Treff „Grunaer Aue“ Winterbergstr.31c\, 01277 Dresden\, Winterbergstraße 31c\, Dresden\, 01277\, Deutschland
ATTACH;FMTTYPE=image/jpeg:https://dresden-gruna.de/wp-content/uploads/2023/07/georg-arnhold-bad.jpg
ORGANIZER;CN="'In Gruna leben' e.V.":MAILTO:post@dresden-gruna.de
END:VEVENT
BEGIN:VEVENT
DTSTART;TZID=Europe/Berlin:20230808T150000
DTEND;TZID=Europe/Berlin:20230808T180000
DTSTAMP:20260422T074104
CREATED:20230727T124108Z
LAST-MODIFIED:20230727T124108Z
UID:5556-1691506800-1691517600@dresden-gruna.de
SUMMARY:Sprechzeit im Bürgertreff
DESCRIPTION:Sie können persönlich Kontakt zu uns aufnehmen und Anregungen\, Ideen & Wünsche äußern\, Fragen stellen oder Dich über unsere Aktionen und Mitmach-Möglichkeiten informieren. \nSie können aber auch gern einen Termin außerhalb der Sprechzeit  vereinbaren.  Telefon:    0351 26552063   oder  015227717854  vielen Dank
URL:https://dresden-gruna.de/event/sprechzeit-im-buergertreff-49/
LOCATION:Bürger-Treff „Grunaer Aue“ Winterbergstr.31c\, 01277 Dresden\, Winterbergstraße 31c\, Dresden\, 01277\, Deutschland
ORGANIZER;CN="'In Gruna leben' e.V.":MAILTO:post@dresden-gruna.de
END:VEVENT
BEGIN:VEVENT
DTSTART;TZID=Europe/Berlin:20230810T100000
DTEND;TZID=Europe/Berlin:20230810T120000
DTSTAMP:20260422T074104
CREATED:20230727T153536Z
LAST-MODIFIED:20230727T153536Z
UID:5613-1691661600-1691668800@dresden-gruna.de
SUMMARY:Interessengruppe Bild und Film
DESCRIPTION:im Bürgertreff „Grunaer Aue“\, Winterbergstr. 31c\, 01277 Dresden. \n  \nBei Interesse oder Fragen bitten wir um eine Mail an StudioGruna@magenta.de oder telefonisch unter 0351 26552063 (Auch mit Anrufbeantworter!) im Vereinsbüro bei Fragen zur Arbeitsgruppe Bild und Film sowie zum YouTube Kanal Gruna mit Aussicht.
URL:https://dresden-gruna.de/event/interessengruppe-bild-und-film-6/
LOCATION:Bürger-Treff „Grunaer Aue“ Winterbergstr.31c\, 01277 Dresden\, Winterbergstraße 31c\, Dresden\, 01277\, Deutschland
ORGANIZER;CN="'In Gruna leben' e.V.":MAILTO:post@dresden-gruna.de
END:VEVENT
BEGIN:VEVENT
DTSTART;TZID=Europe/Berlin:20230810T150000
DTEND;TZID=Europe/Berlin:20230810T180000
DTSTAMP:20260422T074104
CREATED:20230727T124213Z
LAST-MODIFIED:20230727T124213Z
UID:5558-1691679600-1691690400@dresden-gruna.de
SUMMARY:Sprechzeit im Bürgertreff
DESCRIPTION:Sie können persönlich Kontakt zu uns aufnehmen und Anregungen\, Ideen & Wünsche äußern\, Fragen stellen oder Dich über unsere Aktionen und Mitmach-Möglichkeiten informieren. \nSie können aber auch gern einen Termin außerhalb der Sprechzeit  vereinbaren.  Telefon:    0351 26552063   oder  015227717854  vielen Dank
URL:https://dresden-gruna.de/event/sprechzeit-im-buergertreff-50/
LOCATION:Bürger-Treff „Grunaer Aue“ Winterbergstr.31c\, 01277 Dresden\, Winterbergstraße 31c\, Dresden\, 01277\, Deutschland
ORGANIZER;CN="'In Gruna leben' e.V.":MAILTO:post@dresden-gruna.de
END:VEVENT
BEGIN:VEVENT
DTSTART;TZID=Europe/Berlin:20230811T143000
DTEND;TZID=Europe/Berlin:20230811T160000
DTSTAMP:20260422T074104
CREATED:20230727T112149Z
LAST-MODIFIED:20230727T112149Z
UID:5551-1691764200-1691769600@dresden-gruna.de
SUMMARY:Volkslieder singen mit Gitarre
DESCRIPTION:Wir möchten gemeinsam schöne Sommerlieder und Volkslieder singen und in einer gemütlichen Atmosphäre es uns gut gehen lassen. \nOrt: Akazienhof\, Schneebergstraße 16\, 01277 Dresden
URL:https://dresden-gruna.de/event/volkslieder-singen-mit-gitarre/
LOCATION:Bürger-Treff „Grunaer Aue“ Winterbergstr.31c\, 01277 Dresden\, Winterbergstraße 31c\, Dresden\, 01277\, Deutschland
ATTACH;FMTTYPE=image/jpeg:https://dresden-gruna.de/wp-content/uploads/2023/07/zel-wiesen-gruen-DW-Kultur-Muenchen-jpg.jpg
ORGANIZER;CN="'In Gruna leben' e.V.":MAILTO:post@dresden-gruna.de
END:VEVENT
BEGIN:VEVENT
DTSTART;TZID=Europe/Berlin:20230815T150000
DTEND;TZID=Europe/Berlin:20230815T180000
DTSTAMP:20260422T074104
CREATED:20230727T124447Z
LAST-MODIFIED:20230727T124447Z
UID:5560-1692111600-1692122400@dresden-gruna.de
SUMMARY:Sprechzeit im Bürgertreff
DESCRIPTION:Sie können persönlich Kontakt zu uns aufnehmen und Anregungen\, Ideen & Wünsche äußern\, Fragen stellen oder Dich über unsere Aktionen und Mitmach-Möglichkeiten informieren. \nSie können aber auch gern einen Termin außerhalb der Sprechzeit  vereinbaren.  Telefon:    0351 26552063   oder  015227717854  vielen Dank
URL:https://dresden-gruna.de/event/sprechzeit-im-buergertreff-51/
LOCATION:Bürger-Treff „Grunaer Aue“ Winterbergstr.31c\, 01277 Dresden\, Winterbergstraße 31c\, Dresden\, 01277\, Deutschland
ORGANIZER;CN="'In Gruna leben' e.V.":MAILTO:post@dresden-gruna.de
END:VEVENT
BEGIN:VEVENT
DTSTART;TZID=Europe/Berlin:20230815T180000
DTEND;TZID=Europe/Berlin:20230815T193000
DTSTAMP:20260422T074104
CREATED:20230727T124842Z
LAST-MODIFIED:20230727T124842Z
UID:5564-1692122400-1692127800@dresden-gruna.de
SUMMARY:IGL – Plenum Nachbarn willkommen im Bürgertreff
DESCRIPTION:Kommen Sie gern mit uns ins Gespräch. Ihrer Anregungen\, Ideen und Fragen sind uns wichtig. \nWir möchten von Ihnen wissen\, welche Wünsche haben Sie für den Bürgertreff und Akazienhof.
URL:https://dresden-gruna.de/event/igl-plenum-nachbarn-willkommen-im-buergertreff-13/
LOCATION:Bürger-Treff „Grunaer Aue“ Winterbergstr.31c\, 01277 Dresden\, Winterbergstraße 31c\, Dresden\, 01277\, Deutschland
ATTACH;FMTTYPE=image/jpeg:https://dresden-gruna.de/wp-content/uploads/2023/02/junge-leute-stehen-und-reden-miteinander-sprachblase-smartphone-flache-vektorillustration-des-maedchens-kommunikation-und-diskussion_74855-8741.jpg
ORGANIZER;CN="'In Gruna leben' e.V.":MAILTO:post@dresden-gruna.de
END:VEVENT
BEGIN:VEVENT
DTSTART;TZID=Europe/Berlin:20230816T190000
DTEND;TZID=Europe/Berlin:20230816T220000
DTSTAMP:20260422T074104
CREATED:20230727T125114Z
LAST-MODIFIED:20230727T125114Z
UID:5566-1692212400-1692223200@dresden-gruna.de
SUMMARY:Koordinierungskreis Solidarische Landwirtschaft Gruna
DESCRIPTION:
URL:https://dresden-gruna.de/event/koordinierungskreis-solidarische-landwirtschaft-gruna-2/
LOCATION:Bürger-Treff „Grunaer Aue“ Winterbergstr.31c\, 01277 Dresden\, Winterbergstraße 31c\, Dresden\, 01277\, Deutschland
ORGANIZER;CN="'In Gruna leben' e.V.":MAILTO:post@dresden-gruna.de
END:VEVENT
BEGIN:VEVENT
DTSTART;TZID=Europe/Berlin:20230817T150000
DTEND;TZID=Europe/Berlin:20230817T180000
DTSTAMP:20260422T074104
CREATED:20230727T124602Z
LAST-MODIFIED:20230727T124602Z
UID:5562-1692284400-1692295200@dresden-gruna.de
SUMMARY:Sprechzeit im Bürgertreff
DESCRIPTION:Sie können persönlich Kontakt zu uns aufnehmen und Anregungen\, Ideen & Wünsche äußern\, Fragen stellen oder Dich über unsere Aktionen und Mitmach-Möglichkeiten informieren. \nSie können aber auch gern einen Termin außerhalb der Sprechzeit  vereinbaren.  Telefon:    0351 26552063   oder  015227717854  vielen Dank
URL:https://dresden-gruna.de/event/sprechzeit-im-buergertreff-52/
LOCATION:Bürger-Treff „Grunaer Aue“ Winterbergstr.31c\, 01277 Dresden\, Winterbergstraße 31c\, Dresden\, 01277\, Deutschland
ORGANIZER;CN="'In Gruna leben' e.V.":MAILTO:post@dresden-gruna.de
END:VEVENT
BEGIN:VEVENT
DTSTART;TZID=Europe/Berlin:20230817T170000
DTEND;TZID=Europe/Berlin:20230817T200000
DTSTAMP:20260422T074104
CREATED:20230727T130300Z
LAST-MODIFIED:20230727T130658Z
UID:5568-1692291600-1692302400@dresden-gruna.de
SUMMARY:RepairCafé Gruna
DESCRIPTION:Bitte beachten ; anderer Ort\, Familienzentrum Pauline\,  Papstdorfer Straße 41\n01277 Dresden \nSie möchten die Lebensdauer defekter Geräte verlängern? Dann sind Sie herzlich ins RepairCafé Gruna eingeladen. Als Gast oder Reparaturhelfer können Sie dazu beitragen\, Ressourcen zu schonen und Schrott zu vermeiden. Es können alle beweglichen Gegenstände mitgebracht werden\, die sich transportieren lassen. Ausgeschlossen sind Fahrräder und sperrige Haushaltsgroßgeräte wie Waschmaschinen und Kühlschränke. \nAnmeldung unter:  kontakt@tanjawolf.de \nKooperationsprojekt\nDas RepairCafé Gruna ist eine Kooperation des „In Gruna leben e. V.“mit dem Netzwerk RepairCafé Dresden-Freital und dem Familienzentrum Pauline. Weiter Informationen zum Thema RepairCafé finden Sie hier. \n  \n 
URL:https://dresden-gruna.de/event/repaircafe-gruna-5/
LOCATION:Bürger-Treff „Grunaer Aue“ Winterbergstr.31c\, 01277 Dresden\, Winterbergstraße 31c\, Dresden\, 01277\, Deutschland
ORGANIZER;CN="'In Gruna leben' e.V.":MAILTO:post@dresden-gruna.de
END:VEVENT
BEGIN:VEVENT
DTSTART;TZID=Europe/Berlin:20230821T140000
DTEND;TZID=Europe/Berlin:20230821T150000
DTSTAMP:20260422T074104
CREATED:20230727T130525Z
LAST-MODIFIED:20230727T130525Z
UID:5570-1692626400-1692630000@dresden-gruna.de
SUMMARY:Sprechzeit des Nachbarschaftskreises
DESCRIPTION:Zeit für individuelle Fragen zur Nachbarschaftshilfe und zum Zusammenleben in Gruna
URL:https://dresden-gruna.de/event/sprechzeit-des-nachbarschaftskreises-2/
LOCATION:Bürger-Treff „Grunaer Aue“ Winterbergstr.31c\, 01277 Dresden\, Winterbergstraße 31c\, Dresden\, 01277\, Deutschland
ORGANIZER;CN="Sigus e.V.":MAILTO:sigus-dd@t-online.de
END:VEVENT
BEGIN:VEVENT
DTSTART;TZID=Europe/Berlin:20230821T140000
DTEND;TZID=Europe/Berlin:20230821T150000
DTSTAMP:20260422T074104
CREATED:20230727T131531Z
LAST-MODIFIED:20230727T131531Z
UID:5573-1692626400-1692630000@dresden-gruna.de
SUMMARY:Sommerliches ErzählCafe
DESCRIPTION:
URL:https://dresden-gruna.de/event/sommerliches-erzaehlcafe/
LOCATION:Bürger-Treff „Grunaer Aue“ Winterbergstr.31c\, 01277 Dresden\, Winterbergstraße 31c\, Dresden\, 01277\, Deutschland
ORGANIZER;CN="Sigus e.V.":MAILTO:sigus-dd@t-online.de
END:VEVENT
BEGIN:VEVENT
DTSTART;TZID=Europe/Berlin:20230821T160000
DTEND;TZID=Europe/Berlin:20230821T180000
DTSTAMP:20260422T074104
CREATED:20230727T140524Z
LAST-MODIFIED:20230727T140524Z
UID:5598-1692633600-1692640800@dresden-gruna.de
SUMMARY:Malraum im Akazienhof
DESCRIPTION:Male\, was in dir ist! Jeweils 1 Stunde intuitives Malen im geschützten Raum unter Leitung . \nBei Interesse bitte unter folgender Telefonnummer 015201969994 oder per Mail Juliane.Franke@gmail.com anmelden. \nBitte beachten neuer Ort:  im Akazienhof
URL:https://dresden-gruna.de/event/malraum-im-akazienhof-2/
LOCATION:Bürger-Treff „Grunaer Aue“ Winterbergstr.31c\, 01277 Dresden\, Winterbergstraße 31c\, Dresden\, 01277\, Deutschland
ATTACH;FMTTYPE=image/jpeg:https://dresden-gruna.de/wp-content/uploads/2023/06/images.jpg
ORGANIZER;CN="'In Gruna leben' e.V.":MAILTO:post@dresden-gruna.de
END:VEVENT
BEGIN:VEVENT
DTSTART;TZID=Europe/Berlin:20230822T150000
DTEND;TZID=Europe/Berlin:20230822T180000
DTSTAMP:20260422T074104
CREATED:20230727T131947Z
LAST-MODIFIED:20230727T131947Z
UID:5577-1692716400-1692727200@dresden-gruna.de
SUMMARY:Sprechzeit im Bürgertreff
DESCRIPTION:Sie können persönlich Kontakt zu uns aufnehmen und Anregungen\, Ideen & Wünsche äußern\, Fragen stellen oder Dich über unsere Aktionen und Mitmach-Möglichkeiten informieren. \nSie können aber auch gern einen Termin außerhalb der Sprechzeit  vereinbaren.  Telefon:    0351 26552063   oder  015227717854  vielen Dank
URL:https://dresden-gruna.de/event/sprechzeit-im-buergertreff-53/
LOCATION:Bürger-Treff „Grunaer Aue“ Winterbergstr.31c\, 01277 Dresden\, Winterbergstraße 31c\, Dresden\, 01277\, Deutschland
ORGANIZER;CN="'In Gruna leben' e.V.":MAILTO:post@dresden-gruna.de
END:VEVENT
BEGIN:VEVENT
DTSTART;TZID=Europe/Berlin:20230823T100000
DTEND;TZID=Europe/Berlin:20230823T113000
DTSTAMP:20260422T074104
CREATED:20230727T131742Z
LAST-MODIFIED:20230727T131742Z
UID:5575-1692784800-1692790200@dresden-gruna.de
SUMMARY:Biografie-und Schreibkreis
DESCRIPTION:Wir erzählen\, schreiben und lesen Geschichten aus unserem Leben – \nANMELDUNG ERFORDERLICH  unter 0351 2632138
URL:https://dresden-gruna.de/event/biografie-und-schreibkreis-10/
LOCATION:Bürger-Treff „Grunaer Aue“ Winterbergstr.31c\, 01277 Dresden\, Winterbergstraße 31c\, Dresden\, 01277\, Deutschland
ATTACH;FMTTYPE=image/png:https://dresden-gruna.de/wp-content/uploads/2023/01/Buch-1.png
ORGANIZER;CN="Sigus e.V.":MAILTO:sigus-dd@t-online.de
END:VEVENT
BEGIN:VEVENT
DTSTART;TZID=Europe/Berlin:20230823T153000
DTEND;TZID=Europe/Berlin:20230823T170000
DTSTAMP:20260422T074104
CREATED:20230727T133333Z
LAST-MODIFIED:20230727T133333Z
UID:5581-1692804600-1692810000@dresden-gruna.de
SUMMARY:Vortrag und Besichtigung
DESCRIPTION:Der Akazienhof mit Peter Rausendorf \nErleben Sie einen wunderschönen und sehr interessanten  Vortrag rund um den Akazienhof und Gruna. \nAchtung anderer Ort:   Seniorenbegegnungsstätte “ fidelio“ \nPapsdorfer Straße 25 \, 01277 Dresden
URL:https://dresden-gruna.de/event/vortrag-und-besichtigung/
LOCATION:Bürger-Treff „Grunaer Aue“ Winterbergstr.31c\, 01277 Dresden\, Winterbergstraße 31c\, Dresden\, 01277\, Deutschland
ATTACH;FMTTYPE=image/jpeg:https://dresden-gruna.de/wp-content/uploads/2023/07/7j9n83fm6rj2ys0c3s8iwrs33t4ogjtv.jpg
ORGANIZER;CN="'In Gruna leben' e.V.":MAILTO:post@dresden-gruna.de
END:VEVENT
BEGIN:VEVENT
DTSTART;TZID=Europe/Berlin:20230823T180000
DTEND;TZID=Europe/Berlin:20230823T190000
DTSTAMP:20260422T074104
CREATED:20230822T125456Z
LAST-MODIFIED:20230823T081335Z
UID:5680-1692813600-1692817200@dresden-gruna.de
SUMMARY:Posaunenchor am Akazienhof
DESCRIPTION:Am Mittwoch gibt es Musik am Akazienhof \nDiesmal spielt der Posaunenchor der Kirchgemeinde Gruna-Seidnitz \nBeginn 18 Uhr
URL:https://dresden-gruna.de/event/posaunenchor-am-akazienhof/
LOCATION:Villa Akazienhof\, Schneebergstraße 16\, Schneebergstr. 16\, Dresden\, Sachsen\, 01277\, Deutschland
CATEGORIES:Akazienhof,Kultur am (4.) Mittwoch
ORGANIZER;CN="'In Gruna leben' e.V.":MAILTO:post@dresden-gruna.de
END:VEVENT
BEGIN:VEVENT
DTSTART;TZID=Europe/Berlin:20230824T100000
DTEND;TZID=Europe/Berlin:20230824T120000
DTSTAMP:20260422T074104
CREATED:20230727T133759Z
LAST-MODIFIED:20230727T133759Z
UID:5584-1692871200-1692878400@dresden-gruna.de
SUMMARY:Koordinierungstreffen Nachbarschaftshilfe Gruna
DESCRIPTION:Achtung anderer Ort:   Seniorenbegegnungsstätte “ fidelio“ \nPapsdorfer Straße 25 \, 01277 Dresden
URL:https://dresden-gruna.de/event/koordinierungstreffen-nachbarschaftshilfe-gruna/
LOCATION:Bürger-Treff „Grunaer Aue“ Winterbergstr.31c\, 01277 Dresden\, Winterbergstraße 31c\, Dresden\, 01277\, Deutschland
ORGANIZER;CN="Sigus e.V.":MAILTO:sigus-dd@t-online.de
END:VEVENT
BEGIN:VEVENT
DTSTART;TZID=Europe/Berlin:20230824T150000
DTEND;TZID=Europe/Berlin:20230824T180000
DTSTAMP:20260422T074104
CREATED:20230727T132103Z
LAST-MODIFIED:20230727T132103Z
UID:5579-1692889200-1692900000@dresden-gruna.de
SUMMARY:Sprechzeit im Bürgertreff
DESCRIPTION:Sie können persönlich Kontakt zu uns aufnehmen und Anregungen\, Ideen & Wünsche äußern\, Fragen stellen oder Dich über unsere Aktionen und Mitmach-Möglichkeiten informieren. \nSie können aber auch gern einen Termin außerhalb der Sprechzeit  vereinbaren.  Telefon:    0351 26552063   oder  015227717854  vielen Dank
URL:https://dresden-gruna.de/event/sprechzeit-im-buergertreff-54/
LOCATION:Bürger-Treff „Grunaer Aue“ Winterbergstr.31c\, 01277 Dresden\, Winterbergstraße 31c\, Dresden\, 01277\, Deutschland
ORGANIZER;CN="'In Gruna leben' e.V.":MAILTO:post@dresden-gruna.de
END:VEVENT
BEGIN:VEVENT
DTSTART;TZID=Europe/Berlin:20230824T160000
DTEND;TZID=Europe/Berlin:20230824T190000
DTSTAMP:20260422T074104
CREATED:20230727T134708Z
LAST-MODIFIED:20230727T134708Z
UID:5586-1692892800-1692903600@dresden-gruna.de
SUMMARY:Wir bauen Nistkästen für den Akazienhof
DESCRIPTION:Hallo alle zusammen nun ist es bald soweit und wir wollen für unsere Tiere Unterkünfte  bauen. \nDamit sie einen guten Start haben während der Brutzeit\,   weiterhin bauen wir Igelhäuser und Insektenhotel´s dazu werden noch Termine festgelegt. \nVielen Dank für Eure Unterstützung. \nWo wird gewerkelt:  im Bürgertreff\, Winterbergstraße 31c\,  Dresden
URL:https://dresden-gruna.de/event/wir-bauen-nistkaesten-fuer-den-akazienhof/
LOCATION:Bürger-Treff „Grunaer Aue“ Winterbergstr.31c\, 01277 Dresden\, Winterbergstraße 31c\, Dresden\, 01277\, Deutschland
ATTACH;FMTTYPE=image/webp:https://dresden-gruna.de/wp-content/uploads/2023/07/nistkasten-laerchenholz.webp
ORGANIZER;CN="'In Gruna leben' e.V.":MAILTO:post@dresden-gruna.de
END:VEVENT
BEGIN:VEVENT
DTSTART;TZID=Europe/Berlin:20230825T140000
DTEND;TZID=Europe/Berlin:20230825T170000
DTSTAMP:20260422T074104
CREATED:20230727T135519Z
LAST-MODIFIED:20230727T135519Z
UID:5590-1692972000-1692982800@dresden-gruna.de
SUMMARY:Wandergruppe „Grüne Wiese“
DESCRIPTION:Vorbei an versteckten Brunnen\, Reliefs und Skulpturen erzählt Expertin Antje Kirsch spannende Hintergründe zur Entstehung und Geschichte  der “ Kunst am Bau“ in Gruna. \nTreffpunkt: Haltestelle Zwinglistraße
URL:https://dresden-gruna.de/event/wandergruppe-gruene-wiese-5/
LOCATION:Bürger-Treff „Grunaer Aue“ Winterbergstr.31c\, 01277 Dresden\, Winterbergstraße 31c\, Dresden\, 01277\, Deutschland
ATTACH;FMTTYPE=image/jpeg:https://dresden-gruna.de/wp-content/uploads/2023/01/index.jpg
ORGANIZER;CN="'In Gruna leben' e.V.":MAILTO:post@dresden-gruna.de
END:VEVENT
BEGIN:VEVENT
DTSTART;TZID=Europe/Berlin:20230829T100000
DTEND;TZID=Europe/Berlin:20230829T130000
DTSTAMP:20260422T074104
CREATED:20230727T135901Z
LAST-MODIFIED:20230727T135901Z
UID:5592-1693303200-1693314000@dresden-gruna.de
SUMMARY:Grunaer Frauenfrühstück
DESCRIPTION:Frauen mal unter sich. \nThema:  Unsere besten Sommererinnerungen.
URL:https://dresden-gruna.de/event/grunaer-frauenfruehstueck-8/
LOCATION:Bürger-Treff „Grunaer Aue“ Winterbergstr.31c\, 01277 Dresden\, Winterbergstraße 31c\, Dresden\, 01277\, Deutschland
ATTACH;FMTTYPE=image/jpeg:https://dresden-gruna.de/wp-content/uploads/2023/01/frauen.jpg
ORGANIZER;CN="'In Gruna leben' e.V.":MAILTO:post@dresden-gruna.de
END:VEVENT
BEGIN:VEVENT
DTSTART;TZID=Europe/Berlin:20230829T150000
DTEND;TZID=Europe/Berlin:20230829T180000
DTSTAMP:20260422T074104
CREATED:20230727T150555Z
LAST-MODIFIED:20230727T150555Z
UID:5604-1693321200-1693332000@dresden-gruna.de
SUMMARY:Sprechzeit im Bürgertreff
DESCRIPTION:Sie können persönlich Kontakt zu uns aufnehmen und Anregungen\, Ideen & Wünsche äußern\, Fragen stellen oder Dich über unsere Aktionen und Mitmach-Möglichkeiten informieren. \nSie können aber auch gern einen Termin außerhalb der Sprechzeit  vereinbaren.  Telefon:    0351 26552063   oder  015227717854  vielen Dank
URL:https://dresden-gruna.de/event/sprechzeit-im-buergertreff-55/
LOCATION:Bürger-Treff „Grunaer Aue“ Winterbergstr.31c\, 01277 Dresden\, Winterbergstraße 31c\, Dresden\, 01277\, Deutschland
ORGANIZER;CN="'In Gruna leben' e.V.":MAILTO:post@dresden-gruna.de
END:VEVENT
BEGIN:VEVENT
DTSTART;TZID=Europe/Berlin:20230830T190000
DTEND;TZID=Europe/Berlin:20230830T200000
DTSTAMP:20260422T074104
CREATED:20230828T101309Z
LAST-MODIFIED:20230828T101309Z
UID:5699-1693422000-1693425600@dresden-gruna.de
SUMMARY:Zirkusmärchen am Akazienhof
DESCRIPTION:Am Mittwoch 30.08. wird der Akazienhof zur Manege für Zirkusartisten. Ein Zirkusmärchen für die ganze Familie findet am Mittwoch 19 Uhr im Rondell des Akazienhofes statt.  \n\nEs war einmal … ein sehr bekanntes Märchen. Dieses wollte nach all den Jahren mal auf eine gänzlich neue Weise erzählt werden. Und da begab es sich zu der Zeit\, als vier junge Zirkusartisten durch das Land zogen\, das diese sich dem Märchen annahmen und augenschmunzelnd und zähneknirschend kleines wie auch größeres Publikum verzauberten… \n \nSchaut gern vorbei und nutzt die anderen Kreativen Angebote in der Nachbarschaft
URL:https://dresden-gruna.de/event/zirkusmaerchen-am-akazienhof/
ATTACH;FMTTYPE=image/jpeg:https://dresden-gruna.de/wp-content/uploads/2023/08/keulen1.jpg
END:VEVENT
BEGIN:VEVENT
DTSTART;TZID=Europe/Berlin:20230830T190000
DTEND;TZID=Europe/Berlin:20230830T220000
DTSTAMP:20260422T074104
CREATED:20230727T140023Z
LAST-MODIFIED:20230727T140023Z
UID:5594-1693422000-1693432800@dresden-gruna.de
SUMMARY:Koordinierungskreis Solidarische Landwirtschaft Gruna
DESCRIPTION:
URL:https://dresden-gruna.de/event/koordinierungskreis-solidarische-landwirtschaft-gruna-3/
LOCATION:Bürger-Treff „Grunaer Aue“ Winterbergstr.31c\, 01277 Dresden\, Winterbergstraße 31c\, Dresden\, 01277\, Deutschland
ORGANIZER;CN="Sigus e.V.":MAILTO:sigus-dd@t-online.de
END:VEVENT
BEGIN:VEVENT
DTSTART;TZID=Europe/Berlin:20230831T100000
DTEND;TZID=Europe/Berlin:20230831T120000
DTSTAMP:20260422T074104
CREATED:20230727T140231Z
LAST-MODIFIED:20230727T140231Z
UID:5596-1693476000-1693483200@dresden-gruna.de
SUMMARY:Grunaer Stadtteilrunde
DESCRIPTION:im Garten der Villa Akazienhof
URL:https://dresden-gruna.de/event/grunaer-stadtteilrunde-2/
LOCATION:Bürger-Treff „Grunaer Aue“ Winterbergstr.31c\, 01277 Dresden\, Winterbergstraße 31c\, Dresden\, 01277\, Deutschland
ORGANIZER;CN="'In Gruna leben' e.V.":MAILTO:post@dresden-gruna.de
END:VEVENT
END:VCALENDAR