BEGIN:VCALENDAR
VERSION:2.0
PRODID:-//In Gruna leben e.V. - ECPv6.8.3//NONSGML v1.0//EN
CALSCALE:GREGORIAN
METHOD:PUBLISH
X-ORIGINAL-URL:https://dresden-gruna.de
X-WR-CALDESC:Veranstaltungen für In Gruna leben e.V.
REFRESH-INTERVAL;VALUE=DURATION:PT1H
X-Robots-Tag:noindex
X-PUBLISHED-TTL:PT1H
BEGIN:VTIMEZONE
TZID:Europe/Berlin
BEGIN:DAYLIGHT
TZOFFSETFROM:+0100
TZOFFSETTO:+0200
TZNAME:CEST
DTSTART:20230326T010000
END:DAYLIGHT
BEGIN:STANDARD
TZOFFSETFROM:+0200
TZOFFSETTO:+0100
TZNAME:CET
DTSTART:20231029T010000
END:STANDARD
END:VTIMEZONE
BEGIN:VEVENT
DTSTART;TZID=Europe/Berlin:20230601T150000
DTEND;TZID=Europe/Berlin:20230601T180000
DTSTAMP:20260422T110721
CREATED:20230510T111834Z
LAST-MODIFIED:20230516T135921Z
UID:5280-1685631600-1685642400@dresden-gruna.de
SUMMARY:Sprechzeit im Bürgertreff
DESCRIPTION:Haben Sie Fragen oder Anregungen \, können Sie gern in dieser Zeit bei uns vor::beikommen. Benötigen Sie Hilfestellung im Alltag \, beim Einkauf oder mal ein Gespräch wir sind gern für Ihre Anliegen da und haben ein offenes Ohr für Sie. \nSie können aber auch gern einen Termin außerhalb der Sprechzeit  vereinbaren.  Telefon:    0351 2632138   oder  015227717854  vielen Dank.
URL:https://dresden-gruna.de/event/sprechzeit-im-buergertreff-33/
LOCATION:Bürger-Treff „Grunaer Aue“ Winterbergstr.31c\, 01277 Dresden\, Winterbergstraße 31c\, Dresden\, 01277\, Deutschland
ORGANIZER;CN="'In Gruna leben' e.V.":MAILTO:post@dresden-gruna.de
END:VEVENT
BEGIN:VEVENT
DTSTART;TZID=Europe/Berlin:20230601T160000
DTEND;TZID=Europe/Berlin:20230601T180000
DTSTAMP:20260422T110721
CREATED:20230412T040417Z
LAST-MODIFIED:20230412T040417Z
UID:5108-1685635200-1685642400@dresden-gruna.de
SUMMARY:Näh-Treff
DESCRIPTION:Eure „Das-müsste-ich-mal-Reparieren-Kiste“ quillt über? Du kommst mit deinem Nähprojekt nicht weiter? Kommt mit Euren Hosen\, T-Shirts und Rucksäcken vorbei und stopft\, repariert und tauscht aus. Wir unterstützen Euch & helfen mit Erfahrung & Nähmaschine. Der Treff ist kostenfrei\, wir freuen uns über eine Spende. \nBitte melde dich vorher an. Danke! Du kannst dein Kind gern mitbringen\, bitte gib das bei der Anmeldung mit an.
URL:https://dresden-gruna.de/event/naeh-treff-2/
LOCATION:Eltern-Kind-Büro\, Rosenbergstr. 10\, Dresden\, 01277\, Deutschland
CATEGORIES:Treffen und Kurse
ATTACH;FMTTYPE=image/jpeg:https://dresden-gruna.de/wp-content/uploads/2022/10/Naehtreff.jpg
END:VEVENT
BEGIN:VEVENT
DTSTART;TZID=Europe/Berlin:20230602T093000
DTEND;TZID=Europe/Berlin:20230602T103000
DTSTAMP:20260422T110721
CREATED:20230502T042724Z
LAST-MODIFIED:20230503T034208Z
UID:5165-1685698200-1685701800@dresden-gruna.de
SUMMARY:Baby-& Bauch - Der Treff für werdende und frischgebackene Eltern
DESCRIPTION:Wir laden alle werdenden und frischgebackenen Eltern zum Baby-& Bauch-Treff ins Eltern-Kind-Büro Gruna ein. Für die Kinder gibt es erste Lieder\, Fingerspiele\, Babyzeichen und anregendes Spielzeug zu entdecken. Für Mütter und Väter bietet die Gruppe die Möglichkeit\, sich auszutauschen\, Kontakte zu knüpfen und Informationen zu wichtigen Themen im Leben mit Baby und Kleinkind zu bekommen.\nDie Veranstaltung ist kostenfrei\, wir bitten um eine Spende.\nDer Treff findet immer am ersten Freitag im Monat statt.
URL:https://dresden-gruna.de/event/baby-bauch-der-treff-fuer-werdende-und-frischgebackene-eltern-3/
CATEGORIES:Treffen und Kurse
ATTACH;FMTTYPE=image/jpeg:https://dresden-gruna.de/wp-content/uploads/2022/09/resize.jpg
END:VEVENT
BEGIN:VEVENT
DTSTART;TZID=Europe/Berlin:20230603T150000
DTEND;TZID=Europe/Berlin:20230603T180000
DTSTAMP:20260422T110721
CREATED:20230510T112515Z
LAST-MODIFIED:20230510T112515Z
UID:5282-1685804400-1685815200@dresden-gruna.de
SUMMARY:Kinderfest im Akazienhof
DESCRIPTION:Wir laden alle zu einem gemeinsamen Kinderfest im Akazienhof ein \nEs werden viele schöne Dinge gemacht und für das leibliche Wohl wird auch gesorgt. \nWir freuen uns auf Euren Besuch und wünschen uns ein schönes Fest.
URL:https://dresden-gruna.de/event/kinderfest-im-akazienhof/
LOCATION:Bürger-Treff „Grunaer Aue“ Winterbergstr.31c\, 01277 Dresden\, Winterbergstraße 31c\, Dresden\, 01277\, Deutschland
ATTACH;FMTTYPE=image/png:https://dresden-gruna.de/wp-content/uploads/2023/05/kissenbezuge-clown-luftballons-und-schmetterlinge.jpg.png
ORGANIZER;CN="'In Gruna leben' e.V.":MAILTO:post@dresden-gruna.de
END:VEVENT
BEGIN:VEVENT
DTSTART;TZID=Europe/Berlin:20230606T150000
DTEND;TZID=Europe/Berlin:20230606T180000
DTSTAMP:20260422T110721
CREATED:20230516T140142Z
LAST-MODIFIED:20230516T140142Z
UID:5297-1686063600-1686074400@dresden-gruna.de
SUMMARY:Sprechzeit im Bürgertreff
DESCRIPTION:Haben Sie Fragen oder Anregungen \, können Sie gern in dieser Zeit bei uns vorbeikommen. Benötigen Sie Hilfestellung im Alltag \, beim Einkauf oder mal ein Gespräch wir sind gern für Ihre Anliegen da und haben ein offenes Ohr für Sie. \nSie können aber auch gern einen Termin außerhalb der Sprechzeit  vereinbaren.  Telefon:    0351 2632138   oder  015227717854  vielen Dank.
URL:https://dresden-gruna.de/event/sprechzeit-im-buergertreff-35/
LOCATION:Bürger-Treff „Grunaer Aue“ Winterbergstr.31c\, 01277 Dresden\, Winterbergstraße 31c\, Dresden\, 01277\, Deutschland
ORGANIZER;CN="'In Gruna leben' e.V.":MAILTO:post@dresden-gruna.de
END:VEVENT
BEGIN:VEVENT
DTSTART;TZID=Europe/Berlin:20230608T150000
DTEND;TZID=Europe/Berlin:20230608T180000
DTSTAMP:20260422T110721
CREATED:20230516T140348Z
LAST-MODIFIED:20230516T140348Z
UID:5299-1686236400-1686247200@dresden-gruna.de
SUMMARY:Sprechzeit im Bürgertreff
DESCRIPTION:Haben Sie Fragen oder Anregungen \, können Sie gern in dieser Zeit bei uns vorbeikommen. Benötigen Sie Hilfestellung im Alltag \, beim Einkauf oder mal ein Gespräch wir sind gern für Ihre Anliegen da und haben ein offenes Ohr für Sie. \nSie können aber auch gern einen Termin außerhalb der Sprechzeit  vereinbaren.  Telefon:    0351 2632138   oder  015227717854  vielen Dank.
URL:https://dresden-gruna.de/event/sprechzeit-im-buergertreff-36/
LOCATION:Bürger-Treff „Grunaer Aue“ Winterbergstr.31c\, 01277 Dresden\, Winterbergstraße 31c\, Dresden\, 01277\, Deutschland
ORGANIZER;CN="'In Gruna leben' e.V.":MAILTO:post@dresden-gruna.de
END:VEVENT
BEGIN:VEVENT
DTSTART;TZID=Europe/Berlin:20230617T150000
DTEND;TZID=Europe/Berlin:20230617T170000
DTSTAMP:20260422T110721
CREATED:20230615T111422Z
LAST-MODIFIED:20230615T111422Z
UID:5371-1687014000-1687021200@dresden-gruna.de
SUMMARY:Offenes Kaffee
DESCRIPTION:Bei  Kaffee und Kuchen lassen wir es uns gut gehen. \n 
URL:https://dresden-gruna.de/event/offenes-kaffee/
LOCATION:Bürger-Treff „Grunaer Aue“ Winterbergstr.31c\, 01277 Dresden\, Winterbergstraße 31c\, Dresden\, 01277\, Deutschland
ATTACH;FMTTYPE=image/jpeg:https://dresden-gruna.de/wp-content/uploads/2023/01/kuchen.jpg
ORGANIZER;CN="'In Gruna leben' e.V.":MAILTO:post@dresden-gruna.de
END:VEVENT
BEGIN:VEVENT
DTSTART;TZID=Europe/Berlin:20230619T150000
DTEND;TZID=Europe/Berlin:20230619T170000
DTSTAMP:20260422T110721
CREATED:20230615T112708Z
LAST-MODIFIED:20230615T112708Z
UID:5380-1687186800-1687194000@dresden-gruna.de
SUMMARY:ErzählCafe
DESCRIPTION:Das ErzählCafe des Nachbarschaftskreises öffnet seine Türen. \nErste Reflektionen zur Bildungsfahrt nach Bremen
URL:https://dresden-gruna.de/event/erzaehlcafe-6/
LOCATION:Bürger-Treff „Grunaer Aue“ Winterbergstr.31c\, 01277 Dresden\, Winterbergstraße 31c\, Dresden\, 01277\, Deutschland
ORGANIZER;CN="'In Gruna leben' e.V.":MAILTO:post@dresden-gruna.de
END:VEVENT
BEGIN:VEVENT
DTSTART;TZID=Europe/Berlin:20230620T150000
DTEND;TZID=Europe/Berlin:20230620T180000
DTSTAMP:20260422T110721
CREATED:20230615T110920Z
LAST-MODIFIED:20230615T111649Z
UID:5369-1687273200-1687284000@dresden-gruna.de
SUMMARY:Sprechzeit im Bürgertreff
DESCRIPTION:Haben Sie Fragen oder Anregungen \, können Sie gern in dieser Zeit bei uns vorbeikommen. Benötigen Sie Hilfestellung im Alltag \, beim Einkauf oder mal ein Gespräch wir sind gern für Ihre Anliegen da und haben ein offenes Ohr für Sie. \nSie können aber auch gern einen Termin außerhalb der Sprechzeit  vereinbaren.  Telefon:    0351 26552063   oder  015227717854  vielen Dank.
URL:https://dresden-gruna.de/event/sprechzeit-im-buergertreff-37/
LOCATION:Bürger-Treff „Grunaer Aue“ Winterbergstr.31c\, 01277 Dresden\, Winterbergstraße 31c\, Dresden\, 01277\, Deutschland
ORGANIZER;CN="'In Gruna leben' e.V.":MAILTO:post@dresden-gruna.de
END:VEVENT
BEGIN:VEVENT
DTSTART;TZID=Europe/Berlin:20230621T153000
DTEND;TZID=Europe/Berlin:20230621T173000
DTSTAMP:20260422T110721
CREATED:20230601T101701Z
LAST-MODIFIED:20230601T101701Z
UID:5338-1687361400-1687368600@dresden-gruna.de
SUMMARY:Workshop Tragen auf dem Rücken
DESCRIPTION:Im Kurs erlernt ihr das Tragen eures Babys auf dem Rücken mit Tragehilfe (1) oder Tragetuch (2). Ihr solltet bereits Erfahrung mit dem Tragen haben und das Baby sollte den Kopf sicher halten können. Der Kurs wird in 2 Teile aufgeteilt und ihr könnt einen oder beide Teile buchen. \nWenn ihr nur einen Teil des Workshops (Tragetuch oder Tragehilfe) belegen wollt\, dann kostet ein Workshop-Teil 20€ . \nBringt gern eure vorhanden Tücher und Tragehilfen zum Workshop mit.
URL:https://dresden-gruna.de/event/workshop-tragen-auf-dem-ruecken/
LOCATION:Eltern-Kind-Büro\, Rosenbergstr. 10\, Dresden\, 01277\, Deutschland
CATEGORIES:Treffen und Kurse
ATTACH;FMTTYPE=image/png:https://dresden-gruna.de/wp-content/uploads/2023/06/EKB_FB-WP-5.png
END:VEVENT
BEGIN:VEVENT
DTSTART;TZID=Europe/Berlin:20230622T150000
DTEND;TZID=Europe/Berlin:20230622T180000
DTSTAMP:20260422T110721
CREATED:20230615T111630Z
LAST-MODIFIED:20230615T111630Z
UID:5373-1687446000-1687456800@dresden-gruna.de
SUMMARY:Sprechzeit im Bürgertreff
DESCRIPTION:Haben Sie Fragen oder Anregungen \, können Sie gern in dieser Zeit bei uns vorbeikommen. Benötigen Sie Hilfestellung im Alltag \, beim Einkauf oder mal ein Gespräch wir sind gern für Ihre Anliegen da und haben ein offenes Ohr für Sie. \nSie können aber auch gern einen Termin außerhalb der Sprechzeit  vereinbaren.  Telefon:    0351 26552063   oder  015227717854  vielen Dank
URL:https://dresden-gruna.de/event/sprechzeit-im-buergertreff-38/
LOCATION:Bürger-Treff „Grunaer Aue“ Winterbergstr.31c\, 01277 Dresden\, Winterbergstraße 31c\, Dresden\, 01277\, Deutschland
ORGANIZER;CN="'In Gruna leben' e.V.":MAILTO:post@dresden-gruna.de
END:VEVENT
BEGIN:VEVENT
DTSTART;TZID=Europe/Berlin:20230627T100000
DTEND;TZID=Europe/Berlin:20230627T123000
DTSTAMP:20260422T110721
CREATED:20230615T112228Z
LAST-MODIFIED:20230615T112228Z
UID:5378-1687860000-1687869000@dresden-gruna.de
SUMMARY:Grunaer Frauenfrühstück
DESCRIPTION:Frauen mal unter sich. \nNach dem gemeinsamen Frühstück\, \nThema: Wie spare ich Strom.
URL:https://dresden-gruna.de/event/grunaer-frauenfruehstueck-7/
LOCATION:Bürger-Treff „Grunaer Aue“ Winterbergstr.31c\, 01277 Dresden\, Winterbergstraße 31c\, Dresden\, 01277\, Deutschland
ATTACH;FMTTYPE=image/jpeg:https://dresden-gruna.de/wp-content/uploads/2023/01/frauen.jpg
ORGANIZER;CN="'In Gruna leben' e.V.":MAILTO:post@dresden-gruna.de
END:VEVENT
BEGIN:VEVENT
DTSTART;TZID=Europe/Berlin:20230627T150000
DTEND;TZID=Europe/Berlin:20230627T180000
DTSTAMP:20260422T110721
CREATED:20230615T111835Z
LAST-MODIFIED:20230615T111835Z
UID:5375-1687878000-1687888800@dresden-gruna.de
SUMMARY:Sprechzeit im Bürgertreff
DESCRIPTION:Haben Sie Fragen oder Anregungen \, können Sie gern in dieser Zeit bei uns vorbeikommen. Benötigen Sie Hilfestellung im Alltag \, beim Einkauf oder mal ein Gespräch wir sind gern für Ihre Anliegen da und haben ein offenes Ohr für Sie. \nSie können aber auch gern einen Termin außerhalb der Sprechzeit  vereinbaren.  Telefon:    0351 26552063   oder  015227717854  vielen Dank
URL:https://dresden-gruna.de/event/sprechzeit-im-buergertreff-39/
LOCATION:Bürger-Treff „Grunaer Aue“ Winterbergstr.31c\, 01277 Dresden\, Winterbergstraße 31c\, Dresden\, 01277\, Deutschland
ORGANIZER;CN="'In Gruna leben' e.V.":MAILTO:post@dresden-gruna.de
END:VEVENT
END:VCALENDAR