BEGIN:VCALENDAR
VERSION:2.0
PRODID:-//In Gruna leben e.V. - ECPv6.8.3//NONSGML v1.0//EN
CALSCALE:GREGORIAN
METHOD:PUBLISH
X-ORIGINAL-URL:https://dresden-gruna.de
X-WR-CALDESC:Veranstaltungen für In Gruna leben e.V.
REFRESH-INTERVAL;VALUE=DURATION:PT1H
X-Robots-Tag:noindex
X-PUBLISHED-TTL:PT1H
BEGIN:VTIMEZONE
TZID:Europe/Berlin
BEGIN:DAYLIGHT
TZOFFSETFROM:+0100
TZOFFSETTO:+0200
TZNAME:CEST
DTSTART:20230326T010000
END:DAYLIGHT
BEGIN:STANDARD
TZOFFSETFROM:+0200
TZOFFSETTO:+0100
TZNAME:CET
DTSTART:20231029T010000
END:STANDARD
END:VTIMEZONE
BEGIN:VEVENT
DTSTART;TZID=Europe/Berlin:20230502T160000
DTEND;TZID=Europe/Berlin:20230502T180000
DTSTAMP:20260422T123634
CREATED:20230421T092244Z
LAST-MODIFIED:20230421T092244Z
UID:5119-1683043200-1683050400@dresden-gruna.de
SUMMARY:Sprechzeit im Bürgertreff
DESCRIPTION:Haben Sie Fragen oder Anregungen \, können Sie gern in dieser Zeit bei uns vorbeikommen. Benötigen Sie Hilfestellung im Alltag \, beim Einkauf oder mal ein Gespräch wir sind gern für Ihre Anliegen da und haben ein offenes Ohr für Sie. \nSie können aber auch gern einen Termin außerhalb der Sprechzeit  vereinbaren.  Telefon:    0351 2632138   oder  015227717854  vielen Dank.
URL:https://dresden-gruna.de/event/sprechzeit-im-buergertreff-25/
LOCATION:Bürger-Treff „Grunaer Aue“ Winterbergstr.31c\, 01277 Dresden\, Winterbergstraße 31c\, Dresden\, 01277\, Deutschland
ORGANIZER;CN="'In Gruna leben' e.V.":MAILTO:post@dresden-gruna.de
END:VEVENT
BEGIN:VEVENT
DTSTART;TZID=Europe/Berlin:20230502T180000
DTEND;TZID=Europe/Berlin:20230502T193000
DTSTAMP:20260422T123634
CREATED:20230421T092536Z
LAST-MODIFIED:20230421T092536Z
UID:5121-1683050400-1683055800@dresden-gruna.de
SUMMARY:IGL – Plenum Nachbarn willkommen im Bürgertreff
DESCRIPTION:Ihrer Anregungen\, Ideen und Fragen sind uns wichtig. Kommen Sie gern mit uns ins Gespräch.
URL:https://dresden-gruna.de/event/igl-plenum-nachbarn-willkommen-im-buergertreff-8/
LOCATION:Bürger-Treff „Grunaer Aue“ Winterbergstr.31c\, 01277 Dresden\, Winterbergstraße 31c\, Dresden\, 01277\, Deutschland
ATTACH;FMTTYPE=image/jpeg:https://dresden-gruna.de/wp-content/uploads/2023/02/junge-leute-stehen-und-reden-miteinander-sprachblase-smartphone-flache-vektorillustration-des-maedchens-kommunikation-und-diskussion_74855-8741.jpg
ORGANIZER;CN="'In Gruna leben' e.V.":MAILTO:post@dresden-gruna.de
END:VEVENT
BEGIN:VEVENT
DTSTART;TZID=Europe/Berlin:20230503T170000
DTEND;TZID=Europe/Berlin:20230503T180000
DTSTAMP:20260422T123634
CREATED:20230421T093558Z
LAST-MODIFIED:20230421T093558Z
UID:5125-1683133200-1683136800@dresden-gruna.de
SUMMARY:Bewerbungscheck & Optimierung
DESCRIPTION:Vier Augen sehen mehr als zwei“ – das trifft auch auf die Bewerbung zu. \nSchluss mit langem Grübeln alleine zu Hause: Ist meine Bewerbung so „richtig“? Sollte ich den einen Satz doch anders schreiben? Passt die Bewerbung überhaupt zu mir? Wie wirkt die Bewerbung auf Andere? \nKomm unverbindlich in die für dich kostenfreie Sprechstunde \nBitte anmelden bei: Tabea Grosser Tel. 0162 6370859\, Danke.
URL:https://dresden-gruna.de/event/bewerbungscheck-optimierung-7/
LOCATION:Bürger-Treff „Grunaer Aue“ Winterbergstr.31c\, 01277 Dresden\, Winterbergstraße 31c\, Dresden\, 01277\, Deutschland
ATTACH;FMTTYPE=image/png:https://dresden-gruna.de/wp-content/uploads/2023/01/Lebenslauf-Bewerbungsvorlagen-4-1.png
ORGANIZER;CN="'In Gruna leben' e.V.":MAILTO:post@dresden-gruna.de
END:VEVENT
BEGIN:VEVENT
DTSTART;TZID=Europe/Berlin:20230503T193000
DTEND;TZID=Europe/Berlin:20230503T210000
DTSTAMP:20260422T123634
CREATED:20230421T094718Z
LAST-MODIFIED:20230421T094718Z
UID:5127-1683142200-1683147600@dresden-gruna.de
SUMMARY:Selbsthilfegruppe Eltern für Kinder
DESCRIPTION:
URL:https://dresden-gruna.de/event/selbsthilfegruppe-eltern-fuer-kinder/
LOCATION:Bürger-Treff „Grunaer Aue“ Winterbergstr.31c\, 01277 Dresden\, Winterbergstraße 31c\, Dresden\, 01277\, Deutschland
ORGANIZER;CN="'In Gruna leben' e.V.":MAILTO:post@dresden-gruna.de
END:VEVENT
BEGIN:VEVENT
DTSTART;TZID=Europe/Berlin:20230504T160000
DTEND;TZID=Europe/Berlin:20230504T180000
DTSTAMP:20260422T123634
CREATED:20230412T040201Z
LAST-MODIFIED:20230412T040201Z
UID:5106-1683216000-1683223200@dresden-gruna.de
SUMMARY:Näh-Treff
DESCRIPTION:Eure „Das-müsste-ich-mal-Reparieren-Kiste“ quillt über? Du kommst mit deinem Nähprojekt nicht weiter? Kommt mit Euren Hosen\, T-Shirts und Rucksäcken vorbei und stopft\, repariert und tauscht aus. Wir unterstützen Euch & helfen mit Erfahrung & Nähmaschine. Der Treff ist kostenfrei\, wir freuen uns über eine Spende. \nBitte melde dich vorher an. Danke! Du kannst dein Kind gern mitbringen\, bitte gib das bei der Anmeldung mit an.
URL:https://dresden-gruna.de/event/naeh-treff/
LOCATION:Eltern-Kind-Büro\, Rosenbergstr. 10\, Dresden\, 01277\, Deutschland
CATEGORIES:Treffen und Kurse
ATTACH;FMTTYPE=image/jpeg:https://dresden-gruna.de/wp-content/uploads/2022/10/Naehtreff.jpg
END:VEVENT
BEGIN:VEVENT
DTSTART;TZID=Europe/Berlin:20230505T093000
DTEND;TZID=Europe/Berlin:20230505T103000
DTSTAMP:20260422T123634
CREATED:20230502T042453Z
LAST-MODIFIED:20230502T042453Z
UID:5163-1683279000-1683282600@dresden-gruna.de
SUMMARY:Baby-& Bauch - Der Treff für werdende und frischgebackene Eltern
DESCRIPTION:Wir laden alle werdenden und frischgebackenen Eltern zum Baby-& Bauch-Treff ins Eltern-Kind-Büro Gruna ein. Für die Kinder gibt es erste Lieder\, Fingerspiele\, Babyzeichen und anregendes Spielzeug zu entdecken. Für Mütter und Väter bietet die Gruppe die Möglichkeit\, sich auszutauschen\, Kontakte zu knüpfen und Informationen zu wichtigen Themen im Leben mit Baby und Kleinkind zu bekommen.\nDie Veranstaltung ist kostenfrei\, wir bitten um eine Spende. \n\nDer Treff findet immer am ersten Freitag im Monat statt.
URL:https://dresden-gruna.de/event/baby-bauch-der-treff-fuer-werdende-und-frischgebackene-eltern-2/
LOCATION:Eltern-Kind-Büro\, Rosenbergstr. 10\, Dresden\, 01277\, Deutschland
CATEGORIES:Treffen und Kurse
ATTACH;FMTTYPE=image/jpeg:https://dresden-gruna.de/wp-content/uploads/2022/09/resize.jpg
END:VEVENT
BEGIN:VEVENT
DTSTART;TZID=Europe/Berlin:20230505T160000
DTEND;TZID=Europe/Berlin:20230505T180000
DTSTAMP:20260422T123634
CREATED:20230421T095741Z
LAST-MODIFIED:20230421T095741Z
UID:5129-1683302400-1683309600@dresden-gruna.de
SUMMARY:Wandergruppe „Grüne Wiese“
DESCRIPTION:Stadtspaziergang vom Grunaer Akazienhof\, durch das Aktivistenviertel  zum Erweiterungsbau der Freien Montessorischule Huckepack in der Glashütter Str. 10 \nTreffpunkt: Akazienhof
URL:https://dresden-gruna.de/event/wandergruppe-gruene-wiese-2/
LOCATION:Bürger-Treff „Grunaer Aue“ Winterbergstr.31c\, 01277 Dresden\, Winterbergstraße 31c\, Dresden\, 01277\, Deutschland
ATTACH;FMTTYPE=image/jpeg:https://dresden-gruna.de/wp-content/uploads/2023/01/index.jpg
ORGANIZER;CN="'In Gruna leben' e.V.":MAILTO:post@dresden-gruna.de
END:VEVENT
BEGIN:VEVENT
DTSTART;TZID=Europe/Berlin:20230506T150000
DTEND;TZID=Europe/Berlin:20230506T170000
DTSTAMP:20260422T123634
CREATED:20230421T100908Z
LAST-MODIFIED:20230421T100908Z
UID:5133-1683385200-1683392400@dresden-gruna.de
SUMMARY:Seniorenkaffee „Wintergarten“ im Bürgertreff Grunaer Aue
DESCRIPTION:Wir laden Sie gern zu einem gemütlichen Nachmittag ein und freuen uns\, Sie bei einer Tasse Kaffee begrüßen zu dürfen.
URL:https://dresden-gruna.de/event/seniorenkaffee-wintergarten-im-buergertreff-grunaer-aue/
LOCATION:Bürger-Treff „Grunaer Aue“ Winterbergstr.31c\, 01277 Dresden\, Winterbergstraße 31c\, Dresden\, 01277\, Deutschland
ATTACH;FMTTYPE=image/jpeg:https://dresden-gruna.de/wp-content/uploads/2023/01/kuchen.jpg
ORGANIZER;CN="'In Gruna leben' e.V.":MAILTO:post@dresden-gruna.de
END:VEVENT
BEGIN:VEVENT
DTSTART;TZID=Europe/Berlin:20230508T100000
DTEND;TZID=Europe/Berlin:20230508T120000
DTSTAMP:20260422T123634
CREATED:20230421T101320Z
LAST-MODIFIED:20230421T101320Z
UID:5135-1683540000-1683547200@dresden-gruna.de
SUMMARY:DigitalCafe\, die Sprechstunde zu Smartphone & Co.
DESCRIPTION:Das DigitalCafé findet als Sprechstunde ausgebildeter Technikbotschafter zu Fragen im Umgang mit Smartphone & Co. \nWeitere Informationen  auf der WEB-Seite DigitalCafe!
URL:https://dresden-gruna.de/event/digitalcafe-die-sprechstunde-zu-smartphone-co-4/
LOCATION:Bürger-Treff „Grunaer Aue“ Winterbergstr.31c\, 01277 Dresden\, Winterbergstraße 31c\, Dresden\, 01277\, Deutschland
ATTACH;FMTTYPE=image/jpeg:https://dresden-gruna.de/wp-content/uploads/2022/12/images.jpg
ORGANIZER;CN="'In Gruna leben' e.V.":MAILTO:post@dresden-gruna.de
END:VEVENT
BEGIN:VEVENT
DTSTART;TZID=Europe/Berlin:20230508T100000
DTEND;TZID=Europe/Berlin:20230508T123000
DTSTAMP:20260422T123634
CREATED:20230421T101542Z
LAST-MODIFIED:20230421T101542Z
UID:5137-1683540000-1683549000@dresden-gruna.de
SUMMARY:Sprechzeit im Bürgertreff
DESCRIPTION:Haben Sie Fragen oder Anregungen \, können Sie gern in dieser Zeit bei uns vorbeikommen. Benötigen Sie Hilfestellung im Alltag \, beim Einkauf oder mal ein Gespräch wir sind gern für Ihre Anliegen da und haben ein offenes Ohr für Sie. \nSie können aber auch gern einen Termin außerhalb der Sprechzeit  vereinbaren.  Telefon:    0351 2632138   oder  015227717854  vielen Dank.
URL:https://dresden-gruna.de/event/sprechzeit-im-buergertreff-28/
LOCATION:Bürger-Treff „Grunaer Aue“ Winterbergstr.31c\, 01277 Dresden\, Winterbergstraße 31c\, Dresden\, 01277\, Deutschland
ORGANIZER;CN="'In Gruna leben' e.V.":MAILTO:post@dresden-gruna.de
END:VEVENT
BEGIN:VEVENT
DTSTART;TZID=Europe/Berlin:20230508T150000
DTEND;TZID=Europe/Berlin:20230508T180000
DTSTAMP:20260422T123634
CREATED:20230421T102222Z
LAST-MODIFIED:20230421T102222Z
UID:5141-1683558000-1683568800@dresden-gruna.de
SUMMARY:Malraum im Akazienhof
DESCRIPTION:Male\, was in dir ist! Jeweils 1 Stunde intuitives Malen im geschützten Raum unter Leitung . \nBei Interesse bitte unter folgender Telefonnummer 015201969994 oder per Mail Juliane.Franke@gmail.com anmelden. \nBitte beachten neuer Ort:  im Akazienhof
URL:https://dresden-gruna.de/event/malraum-im-akazienhof/
LOCATION:Bürger-Treff „Grunaer Aue“ Winterbergstr.31c\, 01277 Dresden\, Winterbergstraße 31c\, Dresden\, 01277\, Deutschland
ATTACH;FMTTYPE=image/jpeg:https://dresden-gruna.de/wp-content/uploads/2023/01/images.jpg
ORGANIZER;CN="'In Gruna leben' e.V.":MAILTO:post@dresden-gruna.de
END:VEVENT
BEGIN:VEVENT
DTSTART;TZID=Europe/Berlin:20230511T100000
DTEND;TZID=Europe/Berlin:20230511T120000
DTSTAMP:20260422T123634
CREATED:20230421T102944Z
LAST-MODIFIED:20230421T102944Z
UID:5144-1683799200-1683806400@dresden-gruna.de
SUMMARY:Treffen der Stadtteilrunde
DESCRIPTION:ACHTUNG ANDERER ORT: \nASB – Begegnungszentrum Wiesenhäuser\, Wiesenstraße 17 \nDie Grunaer Stadtteilrunde will Nachbarschaftshilfen besser koordinieren\, und Du darfst mitmachen!
URL:https://dresden-gruna.de/event/treffen-der-stadtteilrunde-2/
LOCATION:Bürger-Treff „Grunaer Aue“ Winterbergstr.31c\, 01277 Dresden\, Winterbergstraße 31c\, Dresden\, 01277\, Deutschland
ORGANIZER;CN="'In Gruna leben' e.V.":MAILTO:post@dresden-gruna.de
END:VEVENT
BEGIN:VEVENT
DTSTART;TZID=Europe/Berlin:20230513T110000
DTEND;TZID=Europe/Berlin:20230513T140000
DTSTAMP:20260422T123634
CREATED:20230508T130536Z
LAST-MODIFIED:20230508T130536Z
UID:5248-1683975600-1683986400@dresden-gruna.de
SUMMARY:Gruna kocht!
DESCRIPTION:Dieses mal wollen wir Grillen!! Im Akazienhof!!\nEs sind alle herzlich eingeladen\, die sich in der Grunaer Nachbarschaft engagieren möchten\, bzw. gerne kochen. \nBitte beachtet das wir dieses mal im Akazienhof sind. \nBitte melde dich bis zum 11.05.23 verbindlich an. Anmeldungen bitte direkt an die Mailadresse senden: tanja@dresden-gruna.de
URL:https://dresden-gruna.de/event/gruna-kocht-6/
LOCATION:Bürger-Treff „Grunaer Aue“ Winterbergstr.31c\, 01277 Dresden\, Winterbergstraße 31c\, Dresden\, 01277\, Deutschland
ATTACH;FMTTYPE=image/jpeg:https://dresden-gruna.de/wp-content/uploads/2023/01/kochen.jpg
ORGANIZER;CN="'In Gruna leben' e.V.":MAILTO:post@dresden-gruna.de
END:VEVENT
BEGIN:VEVENT
DTSTART;TZID=Europe/Berlin:20230515T100000
DTEND;TZID=Europe/Berlin:20230515T123000
DTSTAMP:20260422T123634
CREATED:20230508T125916Z
LAST-MODIFIED:20230508T125916Z
UID:5246-1684144800-1684153800@dresden-gruna.de
SUMMARY:Sprechzeit im Bürgertreff
DESCRIPTION:Haben Sie Fragen oder Anregungen \, können Sie gern in dieser Zeit bei uns vorbeikommen. Benötigen Sie Hilfestellung im Alltag \, beim Einkauf oder mal ein Gespräch wir sind gern für Ihre Anliegen da und haben ein offenes Ohr für Sie. \nSie können aber auch gern einen Termin außerhalb der Sprechzeit  vereinbaren.  Telefon:    0351 2632138   oder  015227717854  vielen Dank.
URL:https://dresden-gruna.de/event/sprechzeit-im-buergertreff-29/
LOCATION:Bürger-Treff „Grunaer Aue“ Winterbergstr.31c\, 01277 Dresden\, Winterbergstraße 31c\, Dresden\, 01277\, Deutschland
ORGANIZER;CN="'In Gruna leben' e.V.":MAILTO:post@dresden-gruna.de
END:VEVENT
BEGIN:VEVENT
DTSTART;TZID=Europe/Berlin:20230515T150000
DTEND;TZID=Europe/Berlin:20230515T163000
DTSTAMP:20260422T123634
CREATED:20230508T131657Z
LAST-MODIFIED:20230508T131657Z
UID:5257-1684162800-1684168200@dresden-gruna.de
SUMMARY:ErzählCafe
DESCRIPTION:Das ErzählCafe des Nachbarschaftskreises öffnet seine Türen. \nNun will der Lenz uns grüßen\, zu Gast die Malerin Gerda Pfingstmann.
URL:https://dresden-gruna.de/event/erzaehlcafe-5/
LOCATION:Bürger-Treff „Grunaer Aue“ Winterbergstr.31c\, 01277 Dresden\, Winterbergstraße 31c\, Dresden\, 01277\, Deutschland
ORGANIZER;CN="'In Gruna leben' e.V.":MAILTO:post@dresden-gruna.de
END:VEVENT
BEGIN:VEVENT
DTSTART;TZID=Europe/Berlin:20230516T160000
DTEND;TZID=Europe/Berlin:20230516T183000
DTSTAMP:20260422T123634
CREATED:20230508T130813Z
LAST-MODIFIED:20230508T130813Z
UID:5250-1684252800-1684261800@dresden-gruna.de
SUMMARY:Sprechzeit im Bürgertreff
DESCRIPTION:Haben Sie Fragen oder Anregungen \, können Sie gern in dieser Zeit bei uns vorbeikommen. Benötigen Sie Hilfestellung im Alltag \, beim Einkauf oder mal ein Gespräch wir sind gern für Ihre Anliegen da und haben ein offenes Ohr für Sie. \nSie können aber auch gern einen Termin außerhalb der Sprechzeit  vereinbaren.  Telefon:    0351 2632138   oder  015227717854  vielen Dank.
URL:https://dresden-gruna.de/event/sprechzeit-im-buergertreff-30/
LOCATION:Bürger-Treff „Grunaer Aue“ Winterbergstr.31c\, 01277 Dresden\, Winterbergstraße 31c\, Dresden\, 01277\, Deutschland
ORGANIZER;CN="'In Gruna leben' e.V.":MAILTO:post@dresden-gruna.de
END:VEVENT
BEGIN:VEVENT
DTSTART;TZID=Europe/Berlin:20230516T180000
DTEND;TZID=Europe/Berlin:20230516T193000
DTSTAMP:20260422T123634
CREATED:20230508T131035Z
LAST-MODIFIED:20230508T131035Z
UID:5252-1684260000-1684265400@dresden-gruna.de
SUMMARY:IGL – Plenum Nachbarn willkommen im Bürgertreff
DESCRIPTION:Ihrer Anregungen\, Ideen und Fragen sind uns wichtig. Kommen Sie gern mit uns ins Gespräch.
URL:https://dresden-gruna.de/event/igl-plenum-nachbarn-willkommen-im-buergertreff-9/
LOCATION:Bürger-Treff „Grunaer Aue“ Winterbergstr.31c\, 01277 Dresden\, Winterbergstraße 31c\, Dresden\, 01277\, Deutschland
ATTACH;FMTTYPE=image/jpeg:https://dresden-gruna.de/wp-content/uploads/2023/02/junge-leute-stehen-und-reden-miteinander-sprachblase-smartphone-flache-vektorillustration-des-maedchens-kommunikation-und-diskussion_74855-8741.jpg
ORGANIZER;CN="'In Gruna leben' e.V.":MAILTO:post@dresden-gruna.de
END:VEVENT
BEGIN:VEVENT
DTSTART;TZID=Europe/Berlin:20230517T100000
DTEND;TZID=Europe/Berlin:20230517T113000
DTSTAMP:20260422T123634
CREATED:20230508T131319Z
LAST-MODIFIED:20230508T131319Z
UID:5254-1684317600-1684323000@dresden-gruna.de
SUMMARY:Biografie-und Schreibkreis
DESCRIPTION:Wir erzählen\, schreiben und lesen Geschichten aus unserem Leben – \nANMELDUNG ERFORDERLICH  unter 0351 2632138
URL:https://dresden-gruna.de/event/biografie-und-schreibkreis-8/
LOCATION:Bürger-Treff „Grunaer Aue“ Winterbergstr.31c\, 01277 Dresden\, Winterbergstraße 31c\, Dresden\, 01277\, Deutschland
ATTACH;FMTTYPE=image/png:https://dresden-gruna.de/wp-content/uploads/2023/01/Buch-1.png
ORGANIZER;CN="'In Gruna leben' e.V.":MAILTO:post@dresden-gruna.de
END:VEVENT
BEGIN:VEVENT
DTSTART;TZID=Europe/Berlin:20230517T173000
DTEND;TZID=Europe/Berlin:20230517T193000
DTSTAMP:20260422T123634
CREATED:20230508T132014Z
LAST-MODIFIED:20230508T132119Z
UID:5259-1684344600-1684351800@dresden-gruna.de
SUMMARY:Treff Dresdner Technikbotschafter
DESCRIPTION:
URL:https://dresden-gruna.de/event/treff-dresdner-technikbotschafter/
LOCATION:Bürger-Treff „Grunaer Aue“ Winterbergstr.31c\, 01277 Dresden\, Winterbergstraße 31c\, Dresden\, 01277\, Deutschland
ORGANIZER;CN="'In Gruna leben' e.V.":MAILTO:post@dresden-gruna.de
END:VEVENT
BEGIN:VEVENT
DTSTART;TZID=Europe/Berlin:20230520T150000
DTEND;TZID=Europe/Berlin:20230520T170000
DTSTAMP:20260422T123634
CREATED:20230508T132838Z
LAST-MODIFIED:20230508T132838Z
UID:5262-1684594800-1684602000@dresden-gruna.de
SUMMARY:Fröhlicher Nachmittag mit Musik und Kaffee
DESCRIPTION:Herzliche Einladung zu einem geselligen Miteinander. \nBei Kuchen und Kaffee hören wir schöne Musik zum mittanzen. \n 
URL:https://dresden-gruna.de/event/froehlicher-nachmittag-mit-musik-und-kaffee/
LOCATION:Bürger-Treff „Grunaer Aue“ Winterbergstr.31c\, 01277 Dresden\, Winterbergstraße 31c\, Dresden\, 01277\, Deutschland
ATTACH;FMTTYPE=image/jpeg:https://dresden-gruna.de/wp-content/uploads/2023/05/images.jpg
ORGANIZER;CN="'In Gruna leben' e.V.":MAILTO:post@dresden-gruna.de
END:VEVENT
BEGIN:VEVENT
DTSTART;TZID=Europe/Berlin:20230523T150000
DTEND;TZID=Europe/Berlin:20230523T180000
DTSTAMP:20260422T123634
CREATED:20230516T135528Z
LAST-MODIFIED:20230516T135528Z
UID:5294-1684854000-1684864800@dresden-gruna.de
SUMMARY:Sprechzeit im Bürgertreff
DESCRIPTION:BITTE BEACHTEN AB 25.05.2023 NEUE SPRECHZEITEN IN BÜRGERTREFF.\nHaben Sie Fragen oder Anregungen \, können Sie gern in dieser Zeit bei uns vorbeikommen. Benötigen Sie Hilfestellung im Alltag \, beim Einkauf oder mal ein Gespräch wir sind gern für Ihre Anliegen da und haben ein offenes Ohr für Sie. \nSie können aber auch gern einen Termin außerhalb der Sprechzeit  vereinbaren.  Telefon:    0351 2632138   oder  015227717854  vielen Dank.
URL:https://dresden-gruna.de/event/sprechzeit-im-buergertreff-34/
LOCATION:Bürger-Treff „Grunaer Aue“ Winterbergstr.31c\, 01277 Dresden\, Winterbergstraße 31c\, Dresden\, 01277\, Deutschland
ORGANIZER;CN="'In Gruna leben' e.V.":MAILTO:post@dresden-gruna.de
END:VEVENT
BEGIN:VEVENT
DTSTART;TZID=Europe/Berlin:20230525T150000
DTEND;TZID=Europe/Berlin:20230525T180000
DTSTAMP:20260422T123634
CREATED:20230510T111449Z
LAST-MODIFIED:20230516T135153Z
UID:5278-1685026800-1685037600@dresden-gruna.de
SUMMARY:Sprechzeit im Bürgertreff
DESCRIPTION:Haben Sie Fragen oder Anregungen \, können Sie gern in dieser Zeit bei uns vorbeikommen. Benötigen Sie Hilfestellung im Alltag \, beim Einkauf oder mal ein Gespräch wir sind gern für Ihre Anliegen da und haben ein offenes Ohr für Sie. \nSie können aber auch gern einen Termin außerhalb der Sprechzeit  vereinbaren.  Telefon:    0351 2632138   oder  015227717854  vielen Dank.
URL:https://dresden-gruna.de/event/sprechzeit-im-buergertreff-32/
LOCATION:Bürger-Treff „Grunaer Aue“ Winterbergstr.31c\, 01277 Dresden\, Winterbergstraße 31c\, Dresden\, 01277\, Deutschland
ORGANIZER;CN="'In Gruna leben' e.V.":MAILTO:post@dresden-gruna.de
END:VEVENT
BEGIN:VEVENT
DTSTART;TZID=Europe/Berlin:20230526T100000
DTEND;TZID=Europe/Berlin:20230526T113000
DTSTAMP:20260422T123634
CREATED:20230411T042232Z
LAST-MODIFIED:20230424T105934Z
UID:5091-1685095200-1685100600@dresden-gruna.de
SUMMARY:Beikost - Frühstück zum Tag der Nachbarn
DESCRIPTION:Bei einem gemeinsamen Frühstück schauen wir uns an\, wie der Start in die Beikostzeit entspannt gelingen kann. Bitte melde dich vorher an.  Danke! \n\nDer 6. Lebensmonat deines Babys rückt näher und damit auch das Thema Beikost. Es gibt viele Informationen\, die z.T veraltet oder widersprüchlich sind.\nBei einem gemeinsamen Frühstück schauen wir uns an\, wie der Start in die Beikostzeit entspannt gelingen kann und wie du es gut in deinen Alltag integrieren kannst. Natürlich gibt es auch ein paar leckere Kostproben.Wir freuen uns über eine Spende und um ein kleines Mitbringsel zum gemeinsamen Buffett.
URL:https://dresden-gruna.de/event/beikost-fruehstueck-zum-tag-der-nachbarn/
LOCATION:Eltern-Kind-Büro\, Rosenbergstr. 10\, Dresden\, 01277\, Deutschland
CATEGORIES:Treffen und Kurse
ATTACH;FMTTYPE=image/png:https://dresden-gruna.de/wp-content/uploads/2023/04/EKB_FB-WP-3-1.png
ORGANIZER;CN="Mamutra":MAILTO:info@mamutra.de
END:VEVENT
BEGIN:VEVENT
DTSTART;TZID=Europe/Berlin:20230526T100000
DTEND;TZID=Europe/Berlin:20230526T130000
DTSTAMP:20260422T123634
CREATED:20230510T110417Z
LAST-MODIFIED:20230510T110417Z
UID:5269-1685095200-1685106000@dresden-gruna.de
SUMMARY:Wandergruppe „Grüne Wiese“
DESCRIPTION:Erarbeitung einer Broschüre mit dem Gesundheitsamt. \nAchtung anderer Ort : Garten Villa Akazienhof\, bei Regenwetter im Bürgertreff
URL:https://dresden-gruna.de/event/wandergruppe-gruene-wiese-3/
LOCATION:Bürger-Treff „Grunaer Aue“ Winterbergstr.31c\, 01277 Dresden\, Winterbergstraße 31c\, Dresden\, 01277\, Deutschland
ATTACH;FMTTYPE=image/jpeg:https://dresden-gruna.de/wp-content/uploads/2023/01/index.jpg
ORGANIZER;CN="'In Gruna leben' e.V.":MAILTO:post@dresden-gruna.de
END:VEVENT
BEGIN:VEVENT
DTSTART;TZID=Europe/Berlin:20230528T100000
DTEND;TZID=Europe/Berlin:20230528T120000
DTSTAMP:20260422T123634
CREATED:20230521T145639Z
LAST-MODIFIED:20230521T145639Z
UID:5305-1685268000-1685275200@dresden-gruna.de
SUMMARY:Garten-Aktion im Garten der Villa Akazienhof
DESCRIPTION:Hallo zusammen\, \nam Sonntag ist von 10 bis 12 wieder eine Garten-Aktion im Akazienhof. Wir wollen weiter aufräumen und die Wege freimachen\, damit für das Kinderfest am 03.06. auch alles begehbar ist. \nWer Lust und Zeit hat\, kann einfach vorbeikommen 😊 \n  \nVG und schönen Sonntag noch\, \nMichael
URL:https://dresden-gruna.de/event/garten-aktion-im-garten-der-villa-akazienhof/
LOCATION:Villa Akazienhof\, Schneebergstraße 16\, Schneebergstr. 16\, Dresden\, Sachsen\, 01277\, Deutschland
CATEGORIES:Akazienhof
ORGANIZER;CN="'In Gruna leben' e.V.":MAILTO:post@dresden-gruna.de
END:VEVENT
BEGIN:VEVENT
DTSTART;TZID=Europe/Berlin:20230529T160000
DTEND;TZID=Europe/Berlin:20230529T173000
DTSTAMP:20260422T123634
CREATED:20230525T025545Z
LAST-MODIFIED:20230525T025545Z
UID:5322-1685376000-1685381400@dresden-gruna.de
SUMMARY:Babyzeichen-Stammtisch
DESCRIPTION:Das Eltern-Kind-Büro in Gruna lädt alle ein die schon mit ihren Kinder Babyzeichen machen oder auch gern machen möchten. \nNeben bekannten und neuen Babyzeichen zur Jahreszeit gibt es Musik\, Tanz\, Bastelei und Austausch. Die Teilnahme ist wie immer kostenfrei\, über eine kleine Spende zur Deckung der Unkosten freuen wir uns ebenso wie über leckere Beiträge zum gemeinsamen Knabberbuffett 😉 \nZur besseren Planung bitte vorher anmelden.
URL:https://dresden-gruna.de/event/babyzeichen-stammtisch/
LOCATION:Eltern-Kind-Büro\, Rosenbergstr. 10\, Dresden\, 01277\, Deutschland
CATEGORIES:Treffen und Kurse
ATTACH;FMTTYPE=image/png:https://dresden-gruna.de/wp-content/uploads/2023/05/Mamutra-FB-Event-Wordpress-1.png
ORGANIZER;CN="Mamutra":MAILTO:info@mamutra.de
END:VEVENT
BEGIN:VEVENT
DTSTART;TZID=Europe/Berlin:20230530T100000
DTEND;TZID=Europe/Berlin:20230530T130000
DTSTAMP:20260422T123634
CREATED:20230510T110742Z
LAST-MODIFIED:20230510T110742Z
UID:5271-1685440800-1685451600@dresden-gruna.de
SUMMARY:Grunaer Frauenfrühstück
DESCRIPTION:Frauen mal unter sich. \nNach dem gemeinsamen Frühstück\, werden wir zu dem Thema “ Frühling “ etwas schönes machen.
URL:https://dresden-gruna.de/event/grunaer-frauenfruehstueck-6/
LOCATION:Bürger-Treff „Grunaer Aue“ Winterbergstr.31c\, 01277 Dresden\, Winterbergstraße 31c\, Dresden\, 01277\, Deutschland
ATTACH;FMTTYPE=image/jpeg:https://dresden-gruna.de/wp-content/uploads/2023/01/frauen.jpg
ORGANIZER;CN="'In Gruna leben' e.V.":MAILTO:post@dresden-gruna.de
END:VEVENT
BEGIN:VEVENT
DTSTART;TZID=Europe/Berlin:20230530T150000
DTEND;TZID=Europe/Berlin:20230530T180000
DTSTAMP:20260422T123634
CREATED:20230510T111254Z
LAST-MODIFIED:20230516T134718Z
UID:5274-1685458800-1685469600@dresden-gruna.de
SUMMARY:Sprechzeit im Bürgertreff
DESCRIPTION:Haben Sie Fragen oder Anregungen \, können Sie gern in dieser Zeit bei uns vorbeikommen. Benötigen Sie Hilfestellung im Alltag \, beim Einkauf oder mal ein Gespräch wir sind gern für Ihre Anliegen da und haben ein offenes Ohr für Sie. \nSie können aber auch gern einen Termin außerhalb der Sprechzeit  vereinbaren.  Telefon:    0351 2632138   oder  015227717854  vielen Dank.
URL:https://dresden-gruna.de/event/sprechzeit-im-buergertreff-31/
LOCATION:Bürger-Treff „Grunaer Aue“ Winterbergstr.31c\, 01277 Dresden\, Winterbergstraße 31c\, Dresden\, 01277\, Deutschland
ORGANIZER;CN="'In Gruna leben' e.V.":MAILTO:post@dresden-gruna.de
END:VEVENT
END:VCALENDAR