BEGIN:VCALENDAR
VERSION:2.0
PRODID:-//In Gruna leben e.V. - ECPv6.8.3//NONSGML v1.0//EN
CALSCALE:GREGORIAN
METHOD:PUBLISH
X-ORIGINAL-URL:https://dresden-gruna.de
X-WR-CALDESC:Veranstaltungen für In Gruna leben e.V.
REFRESH-INTERVAL;VALUE=DURATION:PT1H
X-Robots-Tag:noindex
X-PUBLISHED-TTL:PT1H
BEGIN:VTIMEZONE
TZID:Europe/Berlin
BEGIN:DAYLIGHT
TZOFFSETFROM:+0100
TZOFFSETTO:+0200
TZNAME:CEST
DTSTART:20230326T010000
END:DAYLIGHT
BEGIN:STANDARD
TZOFFSETFROM:+0200
TZOFFSETTO:+0100
TZNAME:CET
DTSTART:20231029T010000
END:STANDARD
END:VTIMEZONE
BEGIN:VEVENT
DTSTART;TZID=Europe/Berlin:20230301T140000
DTEND;TZID=Europe/Berlin:20230301T150000
DTSTAMP:20260422T160030
CREATED:20230214T054147Z
LAST-MODIFIED:20230214T054147Z
UID:4856-1677679200-1677682800@dresden-gruna.de
SUMMARY:Babyzeichensprache Eltern-Kind-Kurs
DESCRIPTION:Verständigung im Handumdrehen \nBabys benutzen gerne ihre Hände\, ja – ihren ganzen Körper\, um sich mitzuteilen. Stellen wir ihnen noch mehr Zeichen zur Verfügung\, erzählen sie uns bald begeistert\, woran sie grade denken (“Papa anrufen!”)\, woran sie sich erinnern (“die Blume gestern auf der Wiese?”)\, was sie gerne möchten (“Banane!”) und was in ihnen vorgeht (“Ich habe Angst vor dem lauten Rasenmäher!”). \n\nDie Kleinen benutzen die Handzeichen als Brücke bis zum Sprechen lernen und bescheren uns so faszinierende Einblicke in ihre Gedanken- und Gefühlswelt.\nIm Eltern-Kind-Kurs lernst du und dein Baby durch Kinderlieder\, Reime und Spiele das Grundvokabular an Babyzeichen für den Alltag zu Hause. Spaß und die Freude am Miteinander stehen dabei im Mittelpunkt. Der wöchentlich stattfindende Kurs ist für Babys ab 6 Monaten (bis etwa 18 Monaten) geeignet.\nDer Kurs geht über 8 Wochen und jede Stunde dauert etwa 45 Minuten.\nEr findet im Eltern-Kind-Büro in Gruna (Rosenbergstr. 10) statt.\nDies ist eine Kooperation des Eltern-Kind-Büros in Gruna mit Mamutra (www.mamutra.de)
URL:https://dresden-gruna.de/event/babyzeichensprache-eltern-kind-kurs-2/
LOCATION:Eltern-Kind-Büro\, Rosenbergstr. 10\, Dresden\, 01277\, Deutschland
CATEGORIES:Treffen und Kurse
ORGANIZER;CN="Mamutra":MAILTO:info@mamutra.de
END:VEVENT
BEGIN:VEVENT
DTSTART;TZID=Europe/Berlin:20230301T170000
DTEND;TZID=Europe/Berlin:20230301T173000
DTSTAMP:20260422T160030
CREATED:20230215T100156Z
LAST-MODIFIED:20230215T100156Z
UID:4870-1677690000-1677691800@dresden-gruna.de
SUMMARY:Bewerbungscheck & Optimierung
DESCRIPTION:Vier Augen sehen mehr als zwei“ – das trifft auch auf die Bewerbung zu. \nSchluss mit langem Grübeln alleine zu Hause: Ist meine Bewerbung so „richtig“? Sollte ich den einen Satz doch anders schreiben? Passt die Bewerbung überhaupt zu mir? Wie wirkt die Bewerbung auf Andere? \nKomm unverbindlich in die für dich kostenfreie Sprechstunde \nBitte anmelden bei: Tabea Grosser Tel. 0162 6370859\, Danke.
URL:https://dresden-gruna.de/event/bewerbungscheck-optimierung-5/
LOCATION:Bürger-Treff „Grunaer Aue“ Winterbergstr.31c\, 01277 Dresden\, Winterbergstraße 31c\, Dresden\, 01277\, Deutschland
ATTACH;FMTTYPE=image/png:https://dresden-gruna.de/wp-content/uploads/2023/01/Lebenslauf-Bewerbungsvorlagen-4-1.png
ORGANIZER;CN="'In Gruna leben' e.V.":MAILTO:post@dresden-gruna.de
END:VEVENT
BEGIN:VEVENT
DTSTART;TZID=Europe/Berlin:20230301T180000
DTEND;TZID=Europe/Berlin:20230301T203000
DTSTAMP:20260422T160030
CREATED:20230221T131854Z
LAST-MODIFIED:20230221T131854Z
UID:4916-1677693600-1677702600@dresden-gruna.de
SUMMARY:Gerda Pfingstmann:  Landschaften in Ölmalerei Nass in Nass
DESCRIPTION:Vernissage zur Ausstellung mit Klaviermusik
URL:https://dresden-gruna.de/event/gerda-pfingstmann-landschaften-in-oelmalerei-nass-in-nass/
LOCATION:Bürger-Treff „Grunaer Aue“ Winterbergstr.31c\, 01277 Dresden\, Winterbergstraße 31c\, Dresden\, 01277\, Deutschland
ORGANIZER;CN="Sigus e.V.":MAILTO:sigus-dd@t-online.de
END:VEVENT
BEGIN:VEVENT
DTSTART;TZID=Europe/Berlin:20230302T123000
DTEND;TZID=Europe/Berlin:20230302T133000
DTSTAMP:20260422T160030
CREATED:20230214T054838Z
LAST-MODIFIED:20230214T054838Z
UID:4859-1677760200-1677763800@dresden-gruna.de
SUMMARY:Babymassage Kursstart
DESCRIPTION:Entspannen – Beruhigen – Vertrauen stärken \nEine Babymassage ist liebevolle Kontaktaufnahme zum Kind. Sie regt alle Sinne an und unterstützt die geistige\, körperliche und motorische Entwicklung Ihres Kindes. Die behutsam und respektvoll ausgeführten Handgriffe sind leicht zu erlernen und werden den Bedürfnissen jedes Babys angepasst. \nDas optimale Alter der Babys (auch Frühgeborene oder Babys mit besonderen Bedürfnissen) liegt zwischen 4 Wochen und dem Krabbelalter. \nEin Babymassagekurs umfasst 4 Einheiten und dauert etwa 50 bis 60 Minuten. Ein Kurseinstieg ist jederzeit möglich! \nDieser Kurs ist kostenfrei\, wir bitten um eine Spende.\nZur besseren Planung bitten wir um Anmeldung. Danke!\nDas ist eine Kooperation von den Eltern-Kind-Büros und Mamutra
URL:https://dresden-gruna.de/event/babymassage-kursstart/
LOCATION:Eltern-Kind-Büro\, Rosenbergstr. 10\, Dresden\, 01277\, Deutschland
CATEGORIES:Treffen und Kurse
ORGANIZER;CN="Mamutra":MAILTO:info@mamutra.de
END:VEVENT
BEGIN:VEVENT
DTSTART;TZID=Europe/Berlin:20230302T150000
DTEND;TZID=Europe/Berlin:20230302T180000
DTSTAMP:20260422T160030
CREATED:20230215T101357Z
LAST-MODIFIED:20230215T101357Z
UID:4875-1677769200-1677780000@dresden-gruna.de
SUMMARY:Malraum im Bürgertreff Grunaer Aue
DESCRIPTION:Male\, was in dir ist! Jeweils 1 Stunde intuitives Malen im geschützten Raum unter Leitung . \nBei Interesse bitte unter folgender Telefonnummer 015201969994 oder per Mail Juliane.Franke@gmail.com anmelden.
URL:https://dresden-gruna.de/event/malraum-im-buergertreff-grunaer-aue-6/
LOCATION:Bürger-Treff „Grunaer Aue“ Winterbergstr.31c\, 01277 Dresden\, Winterbergstraße 31c\, Dresden\, 01277\, Deutschland
ATTACH;FMTTYPE=image/jpeg:https://dresden-gruna.de/wp-content/uploads/2023/01/images.jpg
ORGANIZER;CN="'In Gruna leben' e.V.":MAILTO:post@dresden-gruna.de
END:VEVENT
BEGIN:VEVENT
DTSTART;TZID=Europe/Berlin:20230303T093000
DTEND;TZID=Europe/Berlin:20230303T103000
DTSTAMP:20260422T160030
CREATED:20230214T055917Z
LAST-MODIFIED:20230214T055917Z
UID:4866-1677835800-1677839400@dresden-gruna.de
SUMMARY:Baby-& Bauch – Der Treff für (werdende) Eltern
DESCRIPTION:Die erste Zeit mit Kind ist meist sehr aufregend und es gibt viele Fragen oder Unsicherheiten. Gemeinsam wollen wir uns gegenseitig bestärken. Für die Kinder gibt es Spiel und Spaß mit Liedern\, Fingerspielen und Kniereitern. \nDer Treff findet immer am ersten Freitag im Monat statt und ist für Eltern mit Babys im ersten Lebensjahr gedacht. \nDer Treff ist kostenfrei\, wir bitten um eine Spende.
URL:https://dresden-gruna.de/event/baby-bauch-der-treff-fuer-werdende-eltern-3/
LOCATION:Eltern-Kind-Büro\, Rosenbergstr. 10\, Dresden\, 01277\, Deutschland
CATEGORIES:Treffen und Kurse
ATTACH;FMTTYPE=image/jpeg:https://dresden-gruna.de/wp-content/uploads/2022/09/resize.jpg
END:VEVENT
BEGIN:VEVENT
DTSTART;TZID=Europe/Berlin:20230303T100000
DTEND;TZID=Europe/Berlin:20230303T130000
DTSTAMP:20260422T160030
CREATED:20230221T132901Z
LAST-MODIFIED:20230221T133327Z
UID:4918-1677837600-1677848400@dresden-gruna.de
SUMMARY:Auf der Spur der Steine
DESCRIPTION:Wandern mit der Gruppe „Grüne Wiese“ durch Gruna \nACHTUNG ANDERER ORT:    Treffpunkt Café Möbius 
URL:https://dresden-gruna.de/event/auf-der-spur-der-steine/
LOCATION:Bürger-Treff „Grunaer Aue“ Winterbergstr.31c\, 01277 Dresden\, Winterbergstraße 31c\, Dresden\, 01277\, Deutschland
ATTACH;FMTTYPE=image/jpeg:https://dresden-gruna.de/wp-content/uploads/2023/01/index.jpg
ORGANIZER;CN="Sigus e.V.":MAILTO:sigus-dd@t-online.de
END:VEVENT
BEGIN:VEVENT
DTSTART;TZID=Europe/Berlin:20230306T100000
DTEND;TZID=Europe/Berlin:20230306T120000
DTSTAMP:20260422T160030
CREATED:20230215T100950Z
LAST-MODIFIED:20230215T100950Z
UID:4872-1678096800-1678104000@dresden-gruna.de
SUMMARY:Sprechzeit im Bürgertreff
DESCRIPTION:Haben Sie Fragen oder Anregungen \, können Sie gern in dieser Zeit bei uns vorbeikommen. Benötigen Sie Hilfestellung im Alltag \, beim Einkauf oder mal ein Gespräch wir sind gern für Ihre Anliegen da und haben ein offenes Ohr für Sie. \nSie können aber auch gern einen Termin außerhalb der Sprechzeit  vereinbaren.  Telefon:    0351 2632138   oder  015227717854  vielen Dank.
URL:https://dresden-gruna.de/event/sprechzeit-im-buergertreff-16/
LOCATION:Bürger-Treff „Grunaer Aue“ Winterbergstr.31c\, 01277 Dresden\, Winterbergstraße 31c\, Dresden\, 01277\, Deutschland
ORGANIZER;CN="'In Gruna leben' e.V.":MAILTO:post@dresden-gruna.de
END:VEVENT
BEGIN:VEVENT
DTSTART;TZID=Europe/Berlin:20230306T150000
DTEND;TZID=Europe/Berlin:20230306T170000
DTSTAMP:20260422T160030
CREATED:20230215T114316Z
LAST-MODIFIED:20230215T114316Z
UID:4911-1678114800-1678122000@dresden-gruna.de
SUMMARY:Treffen des Nachbarschaftskreises Gruna
DESCRIPTION:Gemeinsam geht`s uns besser. \nAlltägliches\, Gruna\, die Welt: zu schwatzen gibt es genug\, \nWir Nachbarn lernen uns kennen und stemmen gemeinsam den Alltag.
URL:https://dresden-gruna.de/event/treffen-des-nachbarschaftskreises-gruna-3/
LOCATION:Bürger-Treff „Grunaer Aue“ Winterbergstr.31c\, 01277 Dresden\, Winterbergstraße 31c\, Dresden\, 01277\, Deutschland
ATTACH;FMTTYPE=image/jpeg:https://dresden-gruna.de/wp-content/uploads/2022/10/Nachbarschaftskreis-Logo.jpg
ORGANIZER;CN="'In Gruna leben' e.V.":MAILTO:post@dresden-gruna.de
END:VEVENT
BEGIN:VEVENT
DTSTART;TZID=Europe/Berlin:20230307T160000
DTEND;TZID=Europe/Berlin:20230307T180000
DTSTAMP:20260422T160030
CREATED:20230215T101649Z
LAST-MODIFIED:20230215T101649Z
UID:4877-1678204800-1678212000@dresden-gruna.de
SUMMARY:Sprechzeit im Bürgertreff
DESCRIPTION:Haben Sie Fragen oder Anregungen \, können Sie gern in dieser Zeit bei uns vorbeikommen. Benötigen Sie Hilfestellung im Alltag \, beim Einkauf oder mal ein Gespräch wir sind gern für Ihre Anliegen da und haben ein offenes Ohr für Sie. \nSie können aber auch gern einen Termin außerhalb der Sprechzeit  vereinbaren.  Telefon:    0351 2632138   oder  015227717854  vielen Dank.
URL:https://dresden-gruna.de/event/sprechzeit-im-buergertreff-17/
LOCATION:Bürger-Treff „Grunaer Aue“ Winterbergstr.31c\, 01277 Dresden\, Winterbergstraße 31c\, Dresden\, 01277\, Deutschland
ORGANIZER;CN="'In Gruna leben' e.V.":MAILTO:post@dresden-gruna.de
END:VEVENT
BEGIN:VEVENT
DTSTART;TZID=Europe/Berlin:20230307T180000
DTEND;TZID=Europe/Berlin:20230307T190000
DTSTAMP:20260422T160030
CREATED:20230215T104234Z
LAST-MODIFIED:20230215T104234Z
UID:4884-1678212000-1678215600@dresden-gruna.de
SUMMARY:IGL – Plenum Nachbarn willkommen im Bürgertreff
DESCRIPTION:Ihrer Anregungen\, Ideen und Fragen sind uns wichtig.
URL:https://dresden-gruna.de/event/igl-plenum-nachbarn-willkommen-im-buergertreff-4/
LOCATION:Bürger-Treff „Grunaer Aue“ Winterbergstr.31c\, 01277 Dresden\, Winterbergstraße 31c\, Dresden\, 01277\, Deutschland
ATTACH;FMTTYPE=image/jpeg:https://dresden-gruna.de/wp-content/uploads/2023/02/junge-leute-stehen-und-reden-miteinander-sprachblase-smartphone-flache-vektorillustration-des-maedchens-kommunikation-und-diskussion_74855-8741.jpg
ORGANIZER;CN="'In Gruna leben' e.V.":MAILTO:post@dresden-gruna.de
END:VEVENT
BEGIN:VEVENT
DTSTART;TZID=Europe/Berlin:20230308T100000
DTEND;TZID=Europe/Berlin:20230308T113000
DTSTAMP:20260422T160030
CREATED:20230221T133752Z
LAST-MODIFIED:20230221T133752Z
UID:4923-1678269600-1678275000@dresden-gruna.de
SUMMARY:Biografie-und Schreibkreis
DESCRIPTION:Wir erzählen\, schreiben und lesen Geschichten aus unserem Leben – \nANMELDUNG ERFORDERLICH  unter 0351 2632138
URL:https://dresden-gruna.de/event/biografie-und-schreibkreis-4/
LOCATION:Bürger-Treff „Grunaer Aue“ Winterbergstr.31c\, 01277 Dresden\, Winterbergstraße 31c\, Dresden\, 01277\, Deutschland
ATTACH;FMTTYPE=image/png:https://dresden-gruna.de/wp-content/uploads/2023/01/Buch-1.png
ORGANIZER;CN="Sigus e.V.":MAILTO:sigus-dd@t-online.de
END:VEVENT
BEGIN:VEVENT
DTSTART;TZID=Europe/Berlin:20230308T190000
DTEND;TZID=Europe/Berlin:20230308T210000
DTSTAMP:20260422T160030
CREATED:20230215T110332Z
LAST-MODIFIED:20230215T110332Z
UID:4887-1678302000-1678309200@dresden-gruna.de
SUMMARY:Frauenabend
DESCRIPTION:Herzliche Einladung anlässlich zum Frauentag. \nWir möchten gern einen gemütlichen Abend zusammen verbringen. \nMit Musik und Spaß sowie kleinen Leckerrein\,  sagen wir mal Danke.
URL:https://dresden-gruna.de/event/frauenabend/
LOCATION:Bürger-Treff „Grunaer Aue“ Winterbergstr.31c\, 01277 Dresden\, Winterbergstraße 31c\, Dresden\, 01277\, Deutschland
ATTACH;FMTTYPE=image/jpeg:https://dresden-gruna.de/wp-content/uploads/2023/02/blumen-1.jpg
ORGANIZER;CN="'In Gruna leben' e.V.":MAILTO:post@dresden-gruna.de
END:VEVENT
BEGIN:VEVENT
DTSTART;TZID=Europe/Berlin:20230309T100000
DTEND;TZID=Europe/Berlin:20230309T120000
DTSTAMP:20260422T160030
CREATED:20230215T111138Z
LAST-MODIFIED:20230215T111138Z
UID:4892-1678356000-1678363200@dresden-gruna.de
SUMMARY:Interessengruppe Bild und Film
DESCRIPTION:Arbeitstreffen der Interessengruppe Bild und Film im Bürger-Treff Grunaer Aue“ auf der Winterbergstraße 31c\, 01277 Dresden statt. \nMiteinander entdecken wir die Möglichkeiten des Smartphones Bilder und Filme aufzunehmen und zu gestalten. Alle mit Interesse an Gesprächen zur Gestaltung mit Bild und Film sind eingeladen und Willkommen zu den Treffen der Gruppe.
URL:https://dresden-gruna.de/event/interessengruppe-bild-und-film-3/
LOCATION:Bürger-Treff „Grunaer Aue“ Winterbergstr.31c\, 01277 Dresden\, Winterbergstraße 31c\, Dresden\, 01277\, Deutschland
ORGANIZER;CN="'In Gruna leben' e.V.":MAILTO:post@dresden-gruna.de
END:VEVENT
BEGIN:VEVENT
DTSTART;TZID=Europe/Berlin:20230309T100000
DTEND;TZID=Europe/Berlin:20230309T120000
DTSTAMP:20260422T160030
CREATED:20230221T134323Z
LAST-MODIFIED:20230221T134323Z
UID:4925-1678356000-1678363200@dresden-gruna.de
SUMMARY:Treffen der Stadtteilrunde Gruna
DESCRIPTION:Beratung über das Jahresprogramm und den Weg zum Bewohnerbeirat für unseren Stadtteil \nACHTUNG ANDERER ORT:  Stadtteilbibliothek
URL:https://dresden-gruna.de/event/treffen-der-stadtteilrunde-gruna/
LOCATION:Bürger-Treff „Grunaer Aue“ Winterbergstr.31c\, 01277 Dresden\, Winterbergstraße 31c\, Dresden\, 01277\, Deutschland
ORGANIZER;CN="Sigus e.V.":MAILTO:sigus-dd@t-online.de
END:VEVENT
BEGIN:VEVENT
DTSTART;TZID=Europe/Berlin:20230309T150000
DTEND;TZID=Europe/Berlin:20230309T180000
DTSTAMP:20260422T160030
CREATED:20230215T111347Z
LAST-MODIFIED:20230215T111347Z
UID:4894-1678374000-1678384800@dresden-gruna.de
SUMMARY:Malraum im Bürgertreff Grunaer Aue
DESCRIPTION:Male\, was in dir ist! Jeweils 1 Stunde intuitives Malen im geschützten Raum unter Leitung . \nBei Interesse bitte unter folgender Telefonnummer 015201969994 oder per Mail Juliane.Franke@gmail.com anmelden.
URL:https://dresden-gruna.de/event/malraum-im-buergertreff-grunaer-aue-7/
LOCATION:Bürger-Treff „Grunaer Aue“ Winterbergstr.31c\, 01277 Dresden\, Winterbergstraße 31c\, Dresden\, 01277\, Deutschland
ATTACH;FMTTYPE=image/jpeg:https://dresden-gruna.de/wp-content/uploads/2023/01/images.jpg
ORGANIZER;CN="'In Gruna leben' e.V.":MAILTO:post@dresden-gruna.de
END:VEVENT
BEGIN:VEVENT
DTSTART;TZID=Europe/Berlin:20230313T100000
DTEND;TZID=Europe/Berlin:20230313T120000
DTSTAMP:20260422T160030
CREATED:20230215T112550Z
LAST-MODIFIED:20230215T112550Z
UID:4899-1678701600-1678708800@dresden-gruna.de
SUMMARY:Sprechzeit im Bürgertreff
DESCRIPTION:Haben Sie Fragen oder Anregungen \, können Sie gern in dieser Zeit bei uns vorbeikommen. Benötigen Sie Hilfestellung im Alltag \, beim Einkauf oder mal ein Gespräch wir sind gern für Ihre Anliegen da und haben ein offenes Ohr für Sie. \nSie können aber auch gern einen Termin außerhalb der Sprechzeit  vereinbaren.  Telefon:    0351 2632138   oder  015227717854  vielen Dank.
URL:https://dresden-gruna.de/event/sprechzeit-im-buergertreff-18/
LOCATION:Bürger-Treff „Grunaer Aue“ Winterbergstr.31c\, 01277 Dresden\, Winterbergstraße 31c\, Dresden\, 01277\, Deutschland
ORGANIZER;CN="'In Gruna leben' e.V.":MAILTO:post@dresden-gruna.de
END:VEVENT
BEGIN:VEVENT
DTSTART;TZID=Europe/Berlin:20230313T100000
DTEND;TZID=Europe/Berlin:20230313T120000
DTSTAMP:20260422T160030
CREATED:20230215T112802Z
LAST-MODIFIED:20230215T112802Z
UID:4901-1678701600-1678708800@dresden-gruna.de
SUMMARY:DigitalCafe\, die Sprechstunde zu Smartphone & Co.
DESCRIPTION:Das DigitalCafé findet als Sprechstunde ausgebildeter Technikbotschafter zu Fragen im Umgang mit Smartphone & Co.\nimmer am 2. Montag in der Zeit zwischen 10 und 12 Uhr im Bürgertreff „Grunaer Aue“\,\nWinterbergstr. 31c\, 10277 Dresden statt. \nWeitere Informationen  auf der WEB-Seite DigitalCafe!
URL:https://dresden-gruna.de/event/digitalcafe-die-sprechstunde-zu-smartphone-co-2/
LOCATION:Bürger-Treff „Grunaer Aue“ Winterbergstr.31c\, 01277 Dresden\, Winterbergstraße 31c\, Dresden\, 01277\, Deutschland
ATTACH;FMTTYPE=image/jpeg:https://dresden-gruna.de/wp-content/uploads/2022/12/images.jpg
ORGANIZER;CN="'In Gruna leben' e.V.":MAILTO:post@dresden-gruna.de
END:VEVENT
BEGIN:VEVENT
DTSTART;TZID=Europe/Berlin:20230313T150000
DTEND;TZID=Europe/Berlin:20230313T163000
DTSTAMP:20260422T160030
CREATED:20230221T135410Z
LAST-MODIFIED:20230221T135410Z
UID:4927-1678719600-1678725000@dresden-gruna.de
SUMMARY:Müllex lässt lesen –Die literarische Telefonzelle
DESCRIPTION:Diesmal: Dünne Haut. Tagebücher von Frauen;  Mitteldeutscher Verlag Halle/Leipzig 1987 \nANMELDUNG ZUM ERHALT DER ZUGANGSDATEN UNTER : 0351 26 321 38  ODER sigus-dd@t-online.de
URL:https://dresden-gruna.de/event/muellex-laesst-lesen-die-literarische-telefonzelle/
LOCATION:Bürger-Treff „Grunaer Aue“ Winterbergstr.31c\, 01277 Dresden\, Winterbergstraße 31c\, Dresden\, 01277\, Deutschland
ATTACH;FMTTYPE=image/png:https://dresden-gruna.de/wp-content/uploads/2023/01/telefon.png
ORGANIZER;CN="Sigus e.V.":MAILTO:sigus-dd@t-online.de
END:VEVENT
BEGIN:VEVENT
DTSTART;TZID=Europe/Berlin:20230314T160000
DTEND;TZID=Europe/Berlin:20230314T180000
DTSTAMP:20260422T160030
CREATED:20230215T112947Z
LAST-MODIFIED:20230215T112947Z
UID:4903-1678809600-1678816800@dresden-gruna.de
SUMMARY:Sprechzeit im Bürgertreff
DESCRIPTION:Haben Sie Fragen oder Anregungen \, können Sie gern in dieser Zeit bei uns vorbeikommen. Benötigen Sie Hilfestellung im Alltag \, beim Einkauf oder mal ein Gespräch wir sind gern für Ihre Anliegen da und haben ein offenes Ohr für Sie. \nSie können aber auch gern einen Termin außerhalb der Sprechzeit  vereinbaren.  Telefon:    0351 2632138   oder  015227717854  vielen Dank.
URL:https://dresden-gruna.de/event/sprechzeit-im-buergertreff-19/
LOCATION:Bürger-Treff „Grunaer Aue“ Winterbergstr.31c\, 01277 Dresden\, Winterbergstraße 31c\, Dresden\, 01277\, Deutschland
ORGANIZER;CN="'In Gruna leben' e.V.":MAILTO:post@dresden-gruna.de
END:VEVENT
BEGIN:VEVENT
DTSTART;TZID=Europe/Berlin:20230314T163000
DTEND;TZID=Europe/Berlin:20230314T180000
DTSTAMP:20260422T160030
CREATED:20230215T113551Z
LAST-MODIFIED:20230215T113551Z
UID:4905-1678811400-1678816800@dresden-gruna.de
SUMMARY:Öffentlichkeitsarbeit für unseren Verein
DESCRIPTION:Wir möchten bekannter werden.  Wer hat Lust mitzumachen\, seine Ideen und Vorschläge mit einzubringen\, es geht unter anderen um ein Schaukasten\, Flyer und Kontakte suchen.
URL:https://dresden-gruna.de/event/oeffentlichkeitsarbeit-fuer-unseren-verein-2/
LOCATION:Bürger-Treff „Grunaer Aue“ Winterbergstr.31c\, 01277 Dresden\, Winterbergstraße 31c\, Dresden\, 01277\, Deutschland
ORGANIZER;CN="'In Gruna leben' e.V.":MAILTO:post@dresden-gruna.de
END:VEVENT
BEGIN:VEVENT
DTSTART;TZID=Europe/Berlin:20230315T140000
DTEND;TZID=Europe/Berlin:20230315T153000
DTSTAMP:20260422T160030
CREATED:20230221T140207Z
LAST-MODIFIED:20230221T140207Z
UID:4929-1678888800-1678894200@dresden-gruna.de
SUMMARY:AG Wohnen und Wohnberatung
DESCRIPTION:Vorbereitung des Seniorenbeirates und der Studienfahrt zu den Quartiershäusern Bremen und Diskussion der Ergebnisse der “ Wünsche an die Pflege“
URL:https://dresden-gruna.de/event/ag-wohnen-und-wohnberatung/
LOCATION:Bürger-Treff „Grunaer Aue“ Winterbergstr.31c\, 01277 Dresden\, Winterbergstraße 31c\, Dresden\, 01277\, Deutschland
ORGANIZER;CN="Sigus e.V.":MAILTO:sigus-dd@t-online.de
END:VEVENT
BEGIN:VEVENT
DTSTART;TZID=Europe/Berlin:20230316T160000
DTEND;TZID=Europe/Berlin:20230316T200000
DTSTAMP:20260422T160030
CREATED:20230215T115046Z
LAST-MODIFIED:20230221T141916Z
UID:4913-1678982400-1678996800@dresden-gruna.de
SUMMARY:RepairCafé Gruna
DESCRIPTION:Sie möchten die Lebensdauer defekter Geräte verlängern? Dann sind Sie herzlich ins RepairCafé Gruna eingeladen. Als Gast oder Reparaturhelfer können Sie dazu beitragen\, Ressourcen zu schonen und Schrott zu vermeiden. Es können alle beweglichen Gegenstände mitgebracht werden\, die sich transportieren lassen. Ausgeschlossen sind Fahrräder und sperrige Haushaltsgroßgeräte wie Waschmaschinen und Kühlschränke. \nKooperationsprojekt\nDas RepairCafé Gruna ist eine Kooperation des „In Gruna leben e. V.“mit dem Netzwerk RepairCafé Dresden-Freital und dem Familienzentrum Pauline. Weiter Informationen zum Thema RepairCafé finden Sie hier. \nTeilnahme: Bitte vereinbaren Sie einen Reparaturtermin unter Tel: 0151 100 57 433. Wir empfehlen das Tragen einer FFP2-Maske in den Räumlichkeiten. Interessierte Reparaturtalente für den Standort Gruna melden sich bitte unter tanja@dresden-gruna.de oder Tel/ WhatsApp 0176/ 32918719.
URL:https://dresden-gruna.de/event/repaircafe-gruna-2/
LOCATION:Familienzentrum Pauline\, Papstdorfer Straße 41\, Dresden\, 01277\, Deutschland
ORGANIZER;CN="Familienzentrum Pauline":MAILTO:familienzentrum@pauline-dresden.de
END:VEVENT
BEGIN:VEVENT
DTSTART;TZID=Europe/Berlin:20230316T163000
DTEND;TZID=Europe/Berlin:20230316T180000
DTSTAMP:20260422T160030
CREATED:20230215T113742Z
LAST-MODIFIED:20230221T140509Z
UID:4907-1678984200-1678989600@dresden-gruna.de
SUMMARY:Malraum im Bürgertreff Grunaer Aue
DESCRIPTION:Male\, was in dir ist! Jeweils 1 Stunde intuitives Malen im geschützten Raum unter Leitung . \nBei Interesse bitte unter folgender Telefonnummer 015201969994 oder per Mail Juliane.Franke@gmail.com anmelden.
URL:https://dresden-gruna.de/event/malraum-im-buergertreff-grunaer-aue-8/
LOCATION:Bürger-Treff „Grunaer Aue“ Winterbergstr.31c\, 01277 Dresden\, Winterbergstraße 31c\, Dresden\, 01277\, Deutschland
ATTACH;FMTTYPE=image/jpeg:https://dresden-gruna.de/wp-content/uploads/2023/01/images.jpg
ORGANIZER;CN="'In Gruna leben' e.V.":MAILTO:post@dresden-gruna.de
END:VEVENT
BEGIN:VEVENT
DTSTART;TZID=Europe/Berlin:20230318T110000
DTEND;TZID=Europe/Berlin:20230318T143000
DTSTAMP:20260422T160030
CREATED:20230215T114046Z
LAST-MODIFIED:20230215T114046Z
UID:4909-1679137200-1679149800@dresden-gruna.de
SUMMARY:Gruna kocht!
DESCRIPTION:Es sind alle herzlich eingeladen\, die sich in der Grunaer Nachbarschaft engagieren möchten\, bzw. gerne kochen und in geselliger Runde speisen möchten. \nBitte melde dich bis zum 15.03.23 verbindlich an. Anmeldungen bitte direkt an die Mailadresse senden: tanja@dresden-gruna.de
URL:https://dresden-gruna.de/event/gruna-kocht-4/
LOCATION:Bürger-Treff „Grunaer Aue“ Winterbergstr.31c\, 01277 Dresden\, Winterbergstraße 31c\, Dresden\, 01277\, Deutschland
ATTACH;FMTTYPE=image/jpeg:https://dresden-gruna.de/wp-content/uploads/2023/01/kochen.jpg
ORGANIZER;CN="'In Gruna leben' e.V.":MAILTO:post@dresden-gruna.de
END:VEVENT
BEGIN:VEVENT
DTSTART;TZID=Europe/Berlin:20230320T150000
DTEND;TZID=Europe/Berlin:20230320T163000
DTSTAMP:20260422T160030
CREATED:20230221T141511Z
LAST-MODIFIED:20230221T141535Z
UID:4931-1679324400-1679329800@dresden-gruna.de
SUMMARY:ErzählCafe
DESCRIPTION:Das ErzählCafe des Nachbarschaftskreises öffnet seine Türen. \nWünsche an eine friedfertige und würdevolle Pflege; als Gast stellt Frau Ullrich von der Ökumenischen Seniorenhilfe die neue Tagespflege vor. \n 
URL:https://dresden-gruna.de/event/erzaehlcafe-3/
LOCATION:Bürger-Treff „Grunaer Aue“ Winterbergstr.31c\, 01277 Dresden\, Winterbergstraße 31c\, Dresden\, 01277\, Deutschland
ORGANIZER;CN="Sigus e.V.":MAILTO:sigus-dd@t-online.de
END:VEVENT
BEGIN:VEVENT
DTSTART;TZID=Europe/Berlin:20230321T180000
DTEND;TZID=Europe/Berlin:20230321T193000
DTSTAMP:20260422T160030
CREATED:20230221T144219Z
LAST-MODIFIED:20230221T144219Z
UID:4934-1679421600-1679427000@dresden-gruna.de
SUMMARY:IGL – Plenum Nachbarn willkommen im Bürgertreff
DESCRIPTION:Ihrer Anregungen\, Ideen und Fragen sind uns wichtig. Kommen Sie gern mit uns ins Gespräch.
URL:https://dresden-gruna.de/event/igl-plenum-nachbarn-willkommen-im-buergertreff-5/
LOCATION:Bürger-Treff „Grunaer Aue“ Winterbergstr.31c\, 01277 Dresden\, Winterbergstraße 31c\, Dresden\, 01277\, Deutschland
ATTACH;FMTTYPE=image/jpeg:https://dresden-gruna.de/wp-content/uploads/2023/02/junge-leute-stehen-und-reden-miteinander-sprachblase-smartphone-flache-vektorillustration-des-maedchens-kommunikation-und-diskussion_74855-8741.jpg
ORGANIZER;CN="'In Gruna leben' e.V.":MAILTO:post@dresden-gruna.de
END:VEVENT
BEGIN:VEVENT
DTSTART;TZID=Europe/Berlin:20230322T100000
DTEND;TZID=Europe/Berlin:20230322T113000
DTSTAMP:20260422T160030
CREATED:20230221T144459Z
LAST-MODIFIED:20230221T144459Z
UID:4936-1679479200-1679484600@dresden-gruna.de
SUMMARY:Biografie-und Schreibkreis
DESCRIPTION:Wir erzählen\, schreiben und lesen Geschichten aus unserem Leben – \nANMELDUNG ERFORDERLICH  unter 0351 2632138
URL:https://dresden-gruna.de/event/biografie-und-schreibkreis-5/
LOCATION:Bürger-Treff „Grunaer Aue“ Winterbergstr.31c\, 01277 Dresden\, Winterbergstraße 31c\, Dresden\, 01277\, Deutschland
ATTACH;FMTTYPE=image/png:https://dresden-gruna.de/wp-content/uploads/2023/01/Buch-1.png
ORGANIZER;CN="Sigus e.V.":MAILTO:sigus-dd@t-online.de
END:VEVENT
BEGIN:VEVENT
DTSTART;TZID=Europe/Berlin:20230323T150000
DTEND;TZID=Europe/Berlin:20230323T180000
DTSTAMP:20260422T160030
CREATED:20230221T145213Z
LAST-MODIFIED:20230221T145213Z
UID:4939-1679583600-1679594400@dresden-gruna.de
SUMMARY:Malraum im Bürgertreff Grunaer Aue
DESCRIPTION:Male\, was in dir ist! Jeweils 1 Stunde intuitives Malen im geschützten Raum unter Leitung . \nBei Interesse bitte unter folgender Telefonnummer 015201969994 oder per Mail Juliane.Franke@gmail.com anmelden.
URL:https://dresden-gruna.de/event/malraum-im-buergertreff-grunaer-aue-9/
LOCATION:Bürger-Treff „Grunaer Aue“ Winterbergstr.31c\, 01277 Dresden\, Winterbergstraße 31c\, Dresden\, 01277\, Deutschland
ATTACH;FMTTYPE=image/jpeg:https://dresden-gruna.de/wp-content/uploads/2023/01/images.jpg
ORGANIZER;CN="'In Gruna leben' e.V.":MAILTO:post@dresden-gruna.de
END:VEVENT
BEGIN:VEVENT
DTSTART;TZID=Europe/Berlin:20230324T100000
DTEND;TZID=Europe/Berlin:20230324T130000
DTSTAMP:20260422T160030
CREATED:20230221T145354Z
LAST-MODIFIED:20230221T145354Z
UID:4941-1679652000-1679662800@dresden-gruna.de
SUMMARY:Planungstreffen der Wandergruppe "Grüne Wiese"
DESCRIPTION:
URL:https://dresden-gruna.de/event/planungstreffen-der-wandergruppe-gruene-wiese/
LOCATION:Bürger-Treff „Grunaer Aue“ Winterbergstr.31c\, 01277 Dresden\, Winterbergstraße 31c\, Dresden\, 01277\, Deutschland
ATTACH;FMTTYPE=image/jpeg:https://dresden-gruna.de/wp-content/uploads/2023/01/index.jpg
ORGANIZER;CN="Sigus e.V.":MAILTO:sigus-dd@t-online.de
END:VEVENT
END:VCALENDAR