BEGIN:VCALENDAR
VERSION:2.0
PRODID:-//In Gruna leben e.V. - ECPv6.8.3//NONSGML v1.0//EN
CALSCALE:GREGORIAN
METHOD:PUBLISH
X-ORIGINAL-URL:https://dresden-gruna.de
X-WR-CALDESC:Veranstaltungen für In Gruna leben e.V.
REFRESH-INTERVAL;VALUE=DURATION:PT1H
X-Robots-Tag:noindex
X-PUBLISHED-TTL:PT1H
BEGIN:VTIMEZONE
TZID:Europe/Berlin
BEGIN:DAYLIGHT
TZOFFSETFROM:+0100
TZOFFSETTO:+0200
TZNAME:CEST
DTSTART:20220327T010000
END:DAYLIGHT
BEGIN:STANDARD
TZOFFSETFROM:+0200
TZOFFSETTO:+0100
TZNAME:CET
DTSTART:20221030T010000
END:STANDARD
END:VTIMEZONE
BEGIN:VEVENT
DTSTART;TZID=Europe/Berlin:20221201T160000
DTEND;TZID=Europe/Berlin:20221201T180000
DTSTAMP:20260422T205748
CREATED:20221010T104329Z
LAST-MODIFIED:20250708T114259Z
UID:4319-1669910400-1669917600@dresden-gruna.de
SUMMARY:Nähtreff im Eltern-Kind-Büro
DESCRIPTION:Deine „Das-müsste-ich-mal-Reparieren-Kiste“ quillt über? Du kommst mit deinem Nähprojekt nicht weiter? Du willst etwas upcyclen oder aufpeppen? \nKomm mit Deinen Hosen\, T-Shirts und Rucksäcken vorbei und stopf\, reparier und tausch dich aus.\nWir unterstützen Dich & helfen mit Erfahrung & Nähmaschine. \nBitte melde dich vorher an. Danke!\nEine Kinderbetreuung ist nach Anmeldung möglich. \nDer Treff ist kostenfrei\, wir freuen uns über eine Spende. \nDu hast auch die Möglichkeit in unserem Tauschschrank zu stöbern.
URL:https://dresden-gruna.de/event/naehtreff-2/
LOCATION:Eltern-Kind-Büro\, Rosenbergstr. 10\, Dresden\, 01277\, Deutschland
CATEGORIES:Treffen und Kurse
ATTACH;FMTTYPE=image/png:https://dresden-gruna.de/wp-content/uploads/2023/12/EKB_WP-.png
END:VEVENT
BEGIN:VEVENT
DTSTART;TZID=Europe/Berlin:20221202T093000
DTEND;TZID=Europe/Berlin:20221202T103000
DTSTAMP:20260422T205748
CREATED:20221010T081215Z
LAST-MODIFIED:20221010T081215Z
UID:4314-1669973400-1669977000@dresden-gruna.de
SUMMARY:Baby-& Bauch - Der Treff für (werdende) Eltern
DESCRIPTION:Die erste Zeit mit Kind ist meist sehr aufregend und es gibt viele Fragen oder Unsicherheiten. Gemeinsam wollen wir uns stärken. Aber auch Spiel und Spaß\, Lieder und Fingerspiele kommen nicht zu kurz. \nDer Treff findet immer am ersten Freitag im Monat statt und ist für Eltern mit Babys im ersten Lebensjahr gedacht. \nEr ist kostenfrei\, wir bitten um eine Spende.
URL:https://dresden-gruna.de/event/baby-bauch-der-treff-fuer-werdende-eltern-2/
LOCATION:Eltern-Kind-Büro\, Rosenbergstr. 10\, Dresden\, 01277\, Deutschland
CATEGORIES:Treffen und Kurse
ATTACH;FMTTYPE=image/jpeg:https://dresden-gruna.de/wp-content/uploads/2022/09/resize.jpg
END:VEVENT
BEGIN:VEVENT
DTSTART;TZID=Europe/Berlin:20221204T100000
DTEND;TZID=Europe/Berlin:20221204T103000
DTSTAMP:20260422T205748
CREATED:20221201T053444Z
LAST-MODIFIED:20221201T053444Z
UID:4469-1670148000-1670149800@dresden-gruna.de
SUMMARY:Wintermärchen "Es klopft bei Wanja in der Nacht"
DESCRIPTION:Das Eltern-Kind-Büro Gruna und die Musikanten von „Zugabe“ laden alle kleinen (ab 2 Jahre) und großen Menschen zum Kamishibai-Theater am 2. Advent ein. Mit Bildern und Musik wird die winterliche Geschichte von Wanja erzählt. \nDer Eintritt ist frei\, es darf gern etwas in die Spendendose geworfen werden.
URL:https://dresden-gruna.de/event/wintermaerchen-es-klopft-bei-wanja-in-der-nacht/
LOCATION:Eltern-Kind-Büro\, Rosenbergstr. 10\, Dresden\, 01277\, Deutschland
CATEGORIES:Feste
ATTACH;FMTTYPE=image/png:https://dresden-gruna.de/wp-content/uploads/2022/12/Zugabe_FB-Event-WP.png
END:VEVENT
BEGIN:VEVENT
DTSTART;TZID=Europe/Berlin:20221205T150000
DTEND;TZID=Europe/Berlin:20221205T170000
DTSTAMP:20260422T205748
CREATED:20221201T154501Z
LAST-MODIFIED:20221201T154501Z
UID:4473-1670252400-1670259600@dresden-gruna.de
SUMMARY:Treffen des Nachbarschaftskreises Gruna
DESCRIPTION:Wir treffen uns gemeinsam\, mit mitgebrachten Liedern\, Geschichten und Erinnerungen an die Weihnachtszeit.
URL:https://dresden-gruna.de/event/treffen-des-nachbarschaftskreises-gruna/
LOCATION:Bürger-Treff „Grunaer Aue“ Winterbergstr.31c\, 01277 Dresden\, Winterbergstraße 31c\, Dresden\, 01277\, Deutschland
ATTACH;FMTTYPE=image/jpeg:https://dresden-gruna.de/wp-content/uploads/2022/10/Nachbarschaftskreis-Logo.jpg
ORGANIZER;CN="Sigus e.V.":MAILTO:sigus-dd@t-online.de
END:VEVENT
BEGIN:VEVENT
DTSTART;TZID=Europe/Berlin:20221209T160000
DTEND;TZID=Europe/Berlin:20221209T163000
DTSTAMP:20260422T205748
CREATED:20221208T214210Z
LAST-MODIFIED:20221208T214210Z
UID:4492-1670601600-1670603400@dresden-gruna.de
SUMMARY:gemeinsames Weihnachtsliedersingen
DESCRIPTION:Zu Gitarre und Flöte sind alle eingeladen den Akazienhof stimmungsvoll zum Klingen zu bringen. Die professionelle Unterstüzung kommt von der Gruppe „Zugabe“
URL:https://dresden-gruna.de/event/gemeinsames-weihnachtsliedersingen/
LOCATION:Villa Akazienhof\, Schneebergstraße 16\, Schneebergstr. 16\, Dresden\, Sachsen\, 01277\, Deutschland
CATEGORIES:Akazienhof,Feste
ORGANIZER;CN="'In Gruna leben' e.V.":MAILTO:post@dresden-gruna.de
END:VEVENT
BEGIN:VEVENT
DTSTART;TZID=Europe/Berlin:20221211T170000
DTEND;TZID=Europe/Berlin:20221211T170000
DTSTAMP:20260422T205748
CREATED:20221208T214642Z
LAST-MODIFIED:20221208T214642Z
UID:4494-1670778000-1670778000@dresden-gruna.de
SUMMARY:Feuershow
DESCRIPTION:Im Rahmen des Grunaer Adventskalenders präsentiert Zafizu sein „Drachenfeuer“.
URL:https://dresden-gruna.de/event/feuershow/
LOCATION:Villa Akazienhof\, Schneebergstraße 16\, Schneebergstr. 16\, Dresden\, Sachsen\, 01277\, Deutschland
CATEGORIES:Akazienhof,Feste,Projekte und Aktionen
ATTACH;FMTTYPE=image/jpeg:https://dresden-gruna.de/wp-content/uploads/2022/12/DSC_2940-scaled.jpg
ORGANIZER;CN="'In Gruna leben' e.V.":MAILTO:post@dresden-gruna.de
END:VEVENT
BEGIN:VEVENT
DTSTART;TZID=Europe/Berlin:20221212T150000
DTEND;TZID=Europe/Berlin:20221212T163000
DTSTAMP:20260422T205748
CREATED:20221201T154931Z
LAST-MODIFIED:20221201T154931Z
UID:4480-1670857200-1670862600@dresden-gruna.de
SUMMARY:Müllex lässt lesen –Die literarische Teefonzelle
DESCRIPTION:Mit einer historischen Reise in die islamische Welt vor 1000 Jahren undJim Al-Khalili „Im Haus der Weisheit“ \nTELEFONKONFERENZ: Anmeldung unter 0351 26 321 38
URL:https://dresden-gruna.de/event/muellex-laesst-lesen-die-literarische-teefonzelle/
LOCATION:Bürger-Treff „Grunaer Aue“ Winterbergstr.31c\, 01277 Dresden\, Winterbergstraße 31c\, Dresden\, 01277\, Deutschland
ORGANIZER;CN="Sigus e.V.":MAILTO:sigus-dd@t-online.de
END:VEVENT
BEGIN:VEVENT
DTSTART;TZID=Europe/Berlin:20221213T140000
DTEND;TZID=Europe/Berlin:20221213T180000
DTSTAMP:20260422T205748
CREATED:20221128T125926Z
LAST-MODIFIED:20221128T125926Z
UID:4458-1670940000-1670954400@dresden-gruna.de
SUMMARY:Basteln mit Kindern
DESCRIPTION:Seid recht herzlich eingeladen\, gemeinsam weihnachtliche Basteleien herzustellen und vielleicht noch schnell eine Idee für ein Geschenk zu finden.
URL:https://dresden-gruna.de/event/basteln-mit-kindern/
LOCATION:Bürger-Treff „Grunaer Aue“ Winterbergstr.31c\, 01277 Dresden\, Winterbergstraße 31c\, Dresden\, 01277\, Deutschland
ORGANIZER;CN="'In Gruna leben' e.V.":MAILTO:post@dresden-gruna.de
END:VEVENT
BEGIN:VEVENT
DTSTART;TZID=Europe/Berlin:20221217T150000
DTEND;TZID=Europe/Berlin:20221217T170000
DTSTAMP:20260422T205748
CREATED:20221201T155547Z
LAST-MODIFIED:20221201T155547Z
UID:4483-1671289200-1671296400@dresden-gruna.de
SUMMARY:Der Nachbarschaftskreis lädt zur Stollenfahrt ein
DESCRIPTION:ANMELDUNG ERFORDERLICH
URL:https://dresden-gruna.de/event/der-nachbarschaftskreis-laedt-zur-stollenfahrt-ein/
LOCATION:Bürger-Treff „Grunaer Aue“ Winterbergstr.31c\, 01277 Dresden\, Winterbergstraße 31c\, Dresden\, 01277\, Deutschland
ATTACH;FMTTYPE=image/jpeg:https://dresden-gruna.de/wp-content/uploads/2022/10/Nachbarschaftskreis-Logo.jpg
ORGANIZER;CN="Sigus e.V.":MAILTO:sigus-dd@t-online.de
END:VEVENT
BEGIN:VEVENT
DTSTART;TZID=Europe/Berlin:20221218T150000
DTEND;TZID=Europe/Berlin:20221218T190000
DTSTAMP:20260422T205748
CREATED:20221130T231204Z
LAST-MODIFIED:20221130T231204Z
UID:4466-1671375600-1671390000@dresden-gruna.de
SUMMARY:Weihnachtsmarkt im Akazienhof
DESCRIPTION:Wir veranstalten einen kleinen\, nachbarschaftlichen Weihnachtsmarkt. Für Musik\, Geschichten\, Speis und Trank ist bereits gesorgt. Wer das (Floh-)Markttreibern mit bereichern möchte\, darf sich gern an das kleine Orga-Team wenden: webmaster@dresden-gruna.de
URL:https://dresden-gruna.de/event/weihnachtsmarkt-im-akazienhof/
LOCATION:Villa Akazienhof\, Schneebergstraße 16\, Schneebergstr. 16\, Dresden\, Sachsen\, 01277\, Deutschland
ORGANIZER;CN="'In Gruna leben' e.V.":MAILTO:post@dresden-gruna.de
END:VEVENT
BEGIN:VEVENT
DTSTART;TZID=Europe/Berlin:20221219T150000
DTEND;TZID=Europe/Berlin:20221219T163000
DTSTAMP:20260422T205748
CREATED:20221201T161200Z
LAST-MODIFIED:20221201T161200Z
UID:4488-1671462000-1671467400@dresden-gruna.de
SUMMARY:Müllex lässt lesen –Die literarische Teefonzelle
DESCRIPTION:Mit märchenhaften Erinnerungen und „Aladins Wunderlampe“ aus 1001 Nacht \nTELEFONKONFERENZ: Anmeldung unter 0351 26 321 38
URL:https://dresden-gruna.de/event/muellex-laesst-lesen-die-literarische-teefonzelle-2/
LOCATION:Bürger-Treff „Grunaer Aue“ Winterbergstr.31c\, 01277 Dresden\, Winterbergstraße 31c\, Dresden\, 01277\, Deutschland
ORGANIZER;CN="Sigus e.V.":MAILTO:sigus-dd@t-online.de
END:VEVENT
BEGIN:VEVENT
DTSTART;TZID=Europe/Berlin:20221221T100000
DTEND;TZID=Europe/Berlin:20221221T180000
DTSTAMP:20260422T205748
CREATED:20221108T113643Z
LAST-MODIFIED:20221108T113643Z
UID:4410-1671616800-1671645600@dresden-gruna.de
SUMMARY:Weihnachtstreff für Jung und Alt
DESCRIPTION:Das Eltern-Kind-Büro in  Gruna lädt alle kleinen und großen\, jungen und alten Menschen zu einem gemütlichen Weihnachtstreff ein. Ihr könnt bei uns  Plätzchen backen\, weihnachtlichen Geschichten lauschen\, gemeinsam singen oder spielen. Nutzt auch unseren Geschenke-Tausch-Tisch. Hier könnt ihr z.B. gut erhaltenen Spielzeug verschenken und euch etwas neues für euch aussuchen.
URL:https://dresden-gruna.de/event/weihnachtstreff-fuer-jung-und-alt/
LOCATION:Eltern-Kind-Büro\, Rosenbergstr. 10\, Dresden\, 01277\, Deutschland
CATEGORIES:Feste,Treffen und Kurse
ATTACH;FMTTYPE=image/png:https://dresden-gruna.de/wp-content/uploads/2022/11/EKB_FB-WP-2.png
END:VEVENT
END:VCALENDAR