BEGIN:VCALENDAR
VERSION:2.0
PRODID:-//In Gruna leben e.V. - ECPv6.8.3//NONSGML v1.0//EN
CALSCALE:GREGORIAN
METHOD:PUBLISH
X-ORIGINAL-URL:https://dresden-gruna.de
X-WR-CALDESC:Veranstaltungen für In Gruna leben e.V.
REFRESH-INTERVAL;VALUE=DURATION:PT1H
X-Robots-Tag:noindex
X-PUBLISHED-TTL:PT1H
BEGIN:VTIMEZONE
TZID:Europe/Berlin
BEGIN:DAYLIGHT
TZOFFSETFROM:+0100
TZOFFSETTO:+0200
TZNAME:CEST
DTSTART:20220327T010000
END:DAYLIGHT
BEGIN:STANDARD
TZOFFSETFROM:+0200
TZOFFSETTO:+0100
TZNAME:CET
DTSTART:20221030T010000
END:STANDARD
END:VTIMEZONE
BEGIN:VEVENT
DTSTART;TZID=Europe/Berlin:20221103T110000
DTEND;TZID=Europe/Berlin:20221103T120000
DTSTAMP:20260423T000522
CREATED:20221010T111348Z
LAST-MODIFIED:20221010T111348Z
UID:4321-1667473200-1667476800@dresden-gruna.de
SUMMARY:Babymassage
DESCRIPTION:Entspannen – Beruhigen – Vertrauen stärken \n\nEine Babymassage ist liebevolle Kontaktaufnahme zum Kind. Sie regt alle Sinne an und unterstützt die geistige\, körperliche und motorische Entwicklung Ihres Kindes. Die behutsam und respektvoll ausgeführten Handgriffe sind leicht zu erlernen und werden den Bedürfnissen jedes Babys angepasst.\nDas optimale Alter der Babys (auch Frühgeborene oder Babys mit besonderen Bedürfnissen) liegt zwischen 4 Wochen und dem Krabbelalter.\nEin Babymassagekurs umfasst 4 Einheiten und dauert etwa 50 bis 60 Minuten. Ein Kurseinstieg ist jederzeit möglich!\nAblauf:\n\n\n\nStunde: Beine\nStunde: Bauch\nStunde Brust und Arme\nStunde Gesicht und Rücken\n\n\n\n\n\n\nJede Stunde wird das aus der vorherigen Stunde wiederholt oder auch auf Wunsch etwas anderes\, je nachdem was die Kinder auch mögen.\n\nDieser Kurs findet in Kooperation mit Mamutra (www.mamutra.de) statt. Er ist kostenfrei\, es wird um einen Solibeitrag gebeten.
URL:https://dresden-gruna.de/event/babymassage-2/
LOCATION:Eltern-Kind-Büro\, Rosenbergstr. 10\, Dresden\, 01277\, Deutschland
CATEGORIES:Treffen und Kurse
END:VEVENT
BEGIN:VEVENT
DTSTART;TZID=Europe/Berlin:20221104T093000
DTEND;TZID=Europe/Berlin:20221104T103000
DTSTAMP:20260423T000522
CREATED:20221010T081049Z
LAST-MODIFIED:20221010T081049Z
UID:4312-1667554200-1667557800@dresden-gruna.de
SUMMARY:Baby-& Bauch - Der Treff für (werdende) Eltern
DESCRIPTION:Die erste Zeit mit Kind ist meist sehr aufregend und es gibt viele Fragen oder Unsicherheiten. Gemeinsam wollen wir uns stärken. Aber auch Spiel und Spaß\, Lieder und Fingerspiele kommen nicht zu kurz. \nDer Treff findet immer am ersten Freitag im Monat statt und ist für Eltern mit Babys im ersten Lebensjahr gedacht. \nEr ist kostenfrei\, wir bitten um eine Spende.
URL:https://dresden-gruna.de/event/baby-bauch-der-treff-fuer-werdende-eltern/
LOCATION:Eltern-Kind-Büro\, Rosenbergstr. 10\, Dresden\, 01277\, Deutschland
CATEGORIES:Treffen und Kurse
ATTACH;FMTTYPE=image/jpeg:https://dresden-gruna.de/wp-content/uploads/2022/09/resize.jpg
END:VEVENT
BEGIN:VEVENT
DTSTART;TZID=Europe/Berlin:20221107T150000
DTEND;TZID=Europe/Berlin:20221107T170000
DTSTAMP:20260423T000522
CREATED:20221106T145914Z
LAST-MODIFIED:20221106T145914Z
UID:4369-1667833200-1667840400@dresden-gruna.de
SUMMARY:Malraum im Grünen Pavillon
DESCRIPTION:Male\, was in dir ist! Jeweils 1 Stunde intuitives Malen im geschützten Raum unter Leitung mitten im Grünen. Bei schlechtem Wetter im Eltern-Kind-Büro (Rosenbergstraße 10).
URL:https://dresden-gruna.de/event/malraum-im-gruenen-pavillon-11/
LOCATION:Villa Akazienhof\, Schneebergstraße 16\, Schneebergstr. 16\, Dresden\, Sachsen\, 01277\, Deutschland
ORGANIZER;CN="'In Gruna leben' e.V.":MAILTO:post@dresden-gruna.de
END:VEVENT
BEGIN:VEVENT
DTSTART;TZID=Europe/Berlin:20221108T203000
DTEND;TZID=Europe/Berlin:20221108T220000
DTSTAMP:20260423T000522
CREATED:20221106T151856Z
LAST-MODIFIED:20221106T151856Z
UID:4387-1667939400-1667944800@dresden-gruna.de
SUMMARY:Vollmond-Feuer im November
DESCRIPTION:Zum Vollmond im November lädt der In Gruna leben e.V. zum gemeinsamen schweigen und schwelgen an der Feuerschale ein.
URL:https://dresden-gruna.de/event/vollmond-feuer-im-november/
LOCATION:Villa Akazienhof\, Schneebergstraße 16\, Schneebergstr. 16\, Dresden\, Sachsen\, 01277\, Deutschland
ORGANIZER;CN="'In Gruna leben' e.V.":MAILTO:post@dresden-gruna.de
END:VEVENT
BEGIN:VEVENT
DTSTART;TZID=Europe/Berlin:20221110T110000
DTEND;TZID=Europe/Berlin:20221110T120000
DTSTAMP:20260423T000522
CREATED:20221108T101731Z
LAST-MODIFIED:20221108T101731Z
UID:4406-1668078000-1668081600@dresden-gruna.de
SUMMARY:Babymassage
DESCRIPTION:Entspannen – Beruhigen – Vertrauen stärken \nEine Babymassage ist liebevolle Kontaktaufnahme zum Kind. Sie regt alle Sinne an und unterstützt die geistige\, körperliche und motorische Entwicklung Ihres Kindes. Die behutsam und respektvoll ausgeführten Handgriffe sind leicht zu erlernen und werden den Bedürfnissen jedes Babys angepasst. \nDas optimale Alter der Babys (auch Frühgeborene oder Babys mit besonderen Bedürfnissen) liegt zwischen 4 Wochen und dem Krabbelalter. \nEin Babymassagekurs umfasst 4 Einheiten und dauert etwa 50 bis 60 Minuten. Ein Kurseinstieg ist jederzeit möglich! \nDieser Kurs ist kostenfrei\, es wird um einen Solibeitrag gebeten.\nZur besseren Planung bitten wir um Anmeldung. Danke!\nDas ist eine Kooperation von den Eltern-Kind-Büros und Mamutra
URL:https://dresden-gruna.de/event/babymassage-3/
LOCATION:Eltern-Kind-Büro\, Rosenbergstr. 10\, Dresden\, 01277\, Deutschland
CATEGORIES:Treffen und Kurse
ORGANIZER;CN="Mamutra":MAILTO:info@mamutra.de
END:VEVENT
BEGIN:VEVENT
DTSTART;TZID=Europe/Berlin:20221110T160000
DTEND;TZID=Europe/Berlin:20221110T180000
DTSTAMP:20260423T000522
CREATED:20221106T150215Z
LAST-MODIFIED:20221108T005905Z
UID:4377-1668096000-1668103200@dresden-gruna.de
SUMMARY:Mitmach-Zirkus
DESCRIPTION:Jonglieren\, Zaubern\, Akrobatik – Zirkuspädagog:innen bringen Jung wie Alt die Faszination der Zirkuskunst näher. Ein Workshop für alle!
URL:https://dresden-gruna.de/event/mitmach-zirkus/
LOCATION:Villa Akazienhof\, Schneebergstraße 16\, Schneebergstr. 16\, Dresden\, Sachsen\, 01277\, Deutschland
ATTACH;FMTTYPE=image/jpeg:https://dresden-gruna.de/wp-content/uploads/2022/11/2022-08-27-19.58.42-scaled.jpg
ORGANIZER;CN="'In Gruna leben' e.V.":MAILTO:post@dresden-gruna.de
END:VEVENT
BEGIN:VEVENT
DTSTART;TZID=Europe/Berlin:20221111T160000
DTEND;TZID=Europe/Berlin:20221111T180000
DTSTAMP:20260423T000522
CREATED:20221106T150504Z
LAST-MODIFIED:20221106T150504Z
UID:4383-1668182400-1668189600@dresden-gruna.de
SUMMARY:Garten-Aktion: Häusle streichen
DESCRIPTION:Gemeinsam schuften und gemeinsam schlemmen! Im Anschluss ans Rumgärtnern im Garten laden wir alle Helfer:innen zum gemeinsamen Essen ein.
URL:https://dresden-gruna.de/event/garten-aktion-haeusle-streichen/
LOCATION:Villa Akazienhof\, Schneebergstraße 16\, Schneebergstr. 16\, Dresden\, Sachsen\, 01277\, Deutschland
ORGANIZER;CN="'In Gruna leben' e.V.":MAILTO:post@dresden-gruna.de
END:VEVENT
BEGIN:VEVENT
DTSTART;TZID=Europe/Berlin:20221114T150000
DTEND;TZID=Europe/Berlin:20221114T170000
DTSTAMP:20260423T000522
CREATED:20221106T145949Z
LAST-MODIFIED:20221106T145949Z
UID:4372-1668438000-1668445200@dresden-gruna.de
SUMMARY:Malraum im Grünen Pavillon
DESCRIPTION:Male\, was in dir ist! Jeweils 1 Stunde intuitives Malen im geschützten Raum unter Leitung mitten im Grünen. Bei schlechtem Wetter im Eltern-Kind-Büro (Rosenbergstraße 10).
URL:https://dresden-gruna.de/event/malraum-im-gruenen-pavillon-12/
LOCATION:Villa Akazienhof\, Schneebergstraße 16\, Schneebergstr. 16\, Dresden\, Sachsen\, 01277\, Deutschland
ORGANIZER;CN="'In Gruna leben' e.V.":MAILTO:post@dresden-gruna.de
END:VEVENT
BEGIN:VEVENT
DTSTART;TZID=Europe/Berlin:20221115T160000
DTEND;TZID=Europe/Berlin:20221115T180000
DTSTAMP:20260423T000522
CREATED:20221106T150341Z
LAST-MODIFIED:20221108T005928Z
UID:4379-1668528000-1668535200@dresden-gruna.de
SUMMARY:Mitmach-Zirkus
DESCRIPTION:Jonglieren\, Zaubern\, Akrobatik – Zirkuspädagog:innen bringen Jung wie Alt die Faszination der Zirkuskunst näher. Ein Workshop für alle!
URL:https://dresden-gruna.de/event/mitmach-zirkus-3/
LOCATION:Villa Akazienhof\, Schneebergstraße 16\, Schneebergstr. 16\, Dresden\, Sachsen\, 01277\, Deutschland
ATTACH;FMTTYPE=image/jpeg:https://dresden-gruna.de/wp-content/uploads/2022/11/2022-08-27-19.58.42-scaled.jpg
ORGANIZER;CN="'In Gruna leben' e.V.":MAILTO:post@dresden-gruna.de
END:VEVENT
BEGIN:VEVENT
DTSTART;TZID=Europe/Berlin:20221117T110000
DTEND;TZID=Europe/Berlin:20221117T120000
DTSTAMP:20260423T000522
CREATED:20221108T101943Z
LAST-MODIFIED:20221108T101943Z
UID:4408-1668682800-1668686400@dresden-gruna.de
SUMMARY:Babymassage
DESCRIPTION:Entspannen – Beruhigen – Vertrauen stärken \nEine Babymassage ist liebevolle Kontaktaufnahme zum Kind. Sie regt alle Sinne an und unterstützt die geistige\, körperliche und motorische Entwicklung Ihres Kindes. Die behutsam und respektvoll ausgeführten Handgriffe sind leicht zu erlernen und werden den Bedürfnissen jedes Babys angepasst. \nDas optimale Alter der Babys (auch Frühgeborene oder Babys mit besonderen Bedürfnissen) liegt zwischen 4 Wochen und dem Krabbelalter. \nEin Babymassagekurs umfasst 4 Einheiten und dauert etwa 50 bis 60 Minuten. Ein Kurseinstieg ist jederzeit möglich! \nDieser Kurs ist kostenfrei\, es wird um einen Solibeitrag gebeten.\nZur besseren Planung bitten wir um Anmeldung. Danke!\nDas ist eine Kooperation von den Eltern-Kind-Büros und Mamutra
URL:https://dresden-gruna.de/event/babymassage-4/
LOCATION:Eltern-Kind-Büro\, Rosenbergstr. 10\, Dresden\, 01277\, Deutschland
CATEGORIES:Treffen und Kurse
ORGANIZER;CN="Mamutra":MAILTO:info@mamutra.de
END:VEVENT
BEGIN:VEVENT
DTSTART;TZID=Europe/Berlin:20221118T093000
DTEND;TZID=Europe/Berlin:20221118T113000
DTSTAMP:20260423T000522
CREATED:20221010T080556Z
LAST-MODIFIED:20221010T080556Z
UID:4308-1668763800-1668771000@dresden-gruna.de
SUMMARY:Treff für Alleinerziehende
DESCRIPTION:Austausch – Kinderbetreuung – gemeinsame Mahlzeit \n\nDies ist eine durch das Sozialamt-Dresden geförderte Veranstaltung der Eltern-Kind-Büros \nWir möchten Alleinerziehende und ihre Kids zum Treff einladen! \nWir wollen euch zusammen bringen\, um sich auszutauschen\, Freundschaften zu knüpfen und von und miteinander zu lernen. Es gibt Inputs nach euren Wünschen\, Kinderbetreuung vor Ort und eine gemeinsame Mahlzeit! \n*Der Treff ist kostenlos!* \nAlles worum wir euch bitten ist eine Anmeldung\, damit wir gut Planen können. Gebt bitte das Alter eurer Kids mit an! \nDer Treff findet jeden dritte Freitag im Monat im Eltern-Kind-Büro in Gruna statt. Los geht es jeweils 9:30 Uhr
URL:https://dresden-gruna.de/event/treff-fuer-alleinerziehende-3/
LOCATION:Eltern-Kind-Büro\, Rosenbergstr. 10\, Dresden\, 01277\, Deutschland
CATEGORIES:Treffen und Kurse
ATTACH;FMTTYPE=image/jpeg:https://dresden-gruna.de/wp-content/uploads/2022/09/EKB_AlleinerziehendenTreff.jpg
END:VEVENT
BEGIN:VEVENT
DTSTART;TZID=Europe/Berlin:20221121T150000
DTEND;TZID=Europe/Berlin:20221121T170000
DTSTAMP:20260423T000522
CREATED:20221106T150013Z
LAST-MODIFIED:20221106T150013Z
UID:4371-1669042800-1669050000@dresden-gruna.de
SUMMARY:Malraum im Grünen Pavillon
DESCRIPTION:Male\, was in dir ist! Jeweils 1 Stunde intuitives Malen im geschützten Raum unter Leitung mitten im Grünen. Bei schlechtem Wetter im Eltern-Kind-Büro (Rosenbergstraße 10).
URL:https://dresden-gruna.de/event/malraum-im-gruenen-pavillon-13/
LOCATION:Villa Akazienhof\, Schneebergstraße 16\, Schneebergstr. 16\, Dresden\, Sachsen\, 01277\, Deutschland
ORGANIZER;CN="'In Gruna leben' e.V.":MAILTO:post@dresden-gruna.de
END:VEVENT
BEGIN:VEVENT
DTSTART;TZID=Europe/Berlin:20221125T160000
DTEND;TZID=Europe/Berlin:20221125T180000
DTSTAMP:20260423T000522
CREATED:20221106T150536Z
LAST-MODIFIED:20221106T150536Z
UID:4384-1669392000-1669399200@dresden-gruna.de
SUMMARY:Garten-Aktion: Vorbereitung für den Weihnachtsmarkt
DESCRIPTION:Gemeinsam schuften und gemeinsam schlemmen! Im Anschluss ans Rumgärtnern im Garten laden wir alle Helfer:innen zum gemeinsamen Essen ein.
URL:https://dresden-gruna.de/event/garten-aktion-vorbereitung-fuer-den-weihnachtsmarkt/
LOCATION:Villa Akazienhof\, Schneebergstraße 16\, Schneebergstr. 16\, Dresden\, Sachsen\, 01277\, Deutschland
ORGANIZER;CN="'In Gruna leben' e.V.":MAILTO:post@dresden-gruna.de
END:VEVENT
BEGIN:VEVENT
DTSTART;TZID=Europe/Berlin:20221125T173000
DTEND;TZID=Europe/Berlin:20221125T200000
DTSTAMP:20260423T000522
CREATED:20221106T151959Z
LAST-MODIFIED:20221106T151959Z
UID:4389-1669397400-1669406400@dresden-gruna.de
SUMMARY:Mitbring-Grillen
DESCRIPTION:Wir schmeißen Grill und Feuerschale an – und ihr bringt mit\, was ihr brutzeln wollt!\n(Bitte denkt an Geschirr & zieht euch warm an! Getränke werden gestellt.)
URL:https://dresden-gruna.de/event/mitbring-grillen-2/
LOCATION:Villa Akazienhof\, Schneebergstraße 16\, Schneebergstr. 16\, Dresden\, Sachsen\, 01277\, Deutschland
ORGANIZER;CN="'In Gruna leben' e.V.":MAILTO:post@dresden-gruna.de
END:VEVENT
BEGIN:VEVENT
DTSTART;TZID=Europe/Berlin:20221129T100000
DTEND;TZID=Europe/Berlin:20221129T120000
DTSTAMP:20260423T000522
CREATED:20221108T161752Z
LAST-MODIFIED:20221108T164356Z
UID:4414-1669716000-1669723200@dresden-gruna.de
SUMMARY:Frauenfrühstück
DESCRIPTION:Einstimmung auf die schöne Weihnachtszeit…… \nWir möchten gern gemeinsam weihnachtliche Gestecke gestalten und ein leckeres Frühstück genießen. \n 
URL:https://dresden-gruna.de/event/frauenfruehstueck/
LOCATION:Bürger-Treff „Grunaer Aue“ Winterbergstr.31c\, 01277 Dresden\, Winterbergstraße 31c\, Dresden\, 01277\, Deutschland
END:VEVENT
BEGIN:VEVENT
DTSTART;TZID=Europe/Berlin:20221129T140000
DTEND;TZID=Europe/Berlin:20221129T170000
DTSTAMP:20260423T000522
CREATED:20221108T165101Z
LAST-MODIFIED:20221108T165211Z
UID:4421-1669730400-1669741200@dresden-gruna.de
SUMMARY:Weihnachtliches basteln für alle.
DESCRIPTION:Wir möchten gern einladen \, gemeinsam uns auf die Weihnachtszeit  ein zustimmen und kleine Weihnachtsgestecke herstellen
URL:https://dresden-gruna.de/event/weihnachtliches-basteln-fuer-alle/
LOCATION:Bürger-Treff „Grunaer Aue“ Winterbergstr.31c\, 01277 Dresden\, Winterbergstraße 31c\, Dresden\, 01277\, Deutschland
END:VEVENT
BEGIN:VEVENT
DTSTART;TZID=Europe/Berlin:20221129T160000
DTEND;TZID=Europe/Berlin:20221129T180000
DTSTAMP:20260423T000522
CREATED:20221106T150322Z
LAST-MODIFIED:20221106T150322Z
UID:4378-1669737600-1669744800@dresden-gruna.de
SUMMARY:Mitmach-Zirkus
DESCRIPTION:Jonglieren\, Zaubern\, Akrobatik – Zirkuspädagog:innen bringen Jung wie Alt die Faszination der Zirkuskunst näher. Ein Workshop für alle!
URL:https://dresden-gruna.de/event/mitmach-zirkus-2/
LOCATION:Villa Akazienhof\, Schneebergstraße 16\, Schneebergstr. 16\, Dresden\, Sachsen\, 01277\, Deutschland
ORGANIZER;CN="'In Gruna leben' e.V.":MAILTO:post@dresden-gruna.de
END:VEVENT
END:VCALENDAR