BEGIN:VCALENDAR
VERSION:2.0
PRODID:-//In Gruna leben e.V. - ECPv6.8.3//NONSGML v1.0//EN
CALSCALE:GREGORIAN
METHOD:PUBLISH
X-ORIGINAL-URL:https://dresden-gruna.de
X-WR-CALDESC:Veranstaltungen für In Gruna leben e.V.
REFRESH-INTERVAL;VALUE=DURATION:PT1H
X-Robots-Tag:noindex
X-PUBLISHED-TTL:PT1H
BEGIN:VTIMEZONE
TZID:Europe/Berlin
BEGIN:DAYLIGHT
TZOFFSETFROM:+0100
TZOFFSETTO:+0200
TZNAME:CEST
DTSTART:20220327T010000
END:DAYLIGHT
BEGIN:STANDARD
TZOFFSETFROM:+0200
TZOFFSETTO:+0100
TZNAME:CET
DTSTART:20221030T010000
END:STANDARD
END:VTIMEZONE
BEGIN:VEVENT
DTSTART;TZID=Europe/Berlin:20220823T103000
DTEND;TZID=Europe/Berlin:20221011T113000
DTSTAMP:20260423T001302
CREATED:20220818T170205Z
LAST-MODIFIED:20220818T170205Z
UID:4120-1661250600-1665487800@dresden-gruna.de
SUMMARY:Europäische Mobilitätswoche: Senior Fit im Rothermundtpark
DESCRIPTION:Dienstags von 10.30 bis 11.30 Uhr Senior-Fit Gruna \nBleiben Sie fit und genießen Sie Bewegung an der frischen Luft. Erlernen Sie gemeinsam in der Gruppe vielfältige Übungen zur Kräftigung der Muskulatur und Verbesserung von Balance und Koordination. Bewegung unter freiem Himmel zusammen mit anderen macht Spaß\, dehnt und wärmt viele Muskelgruppen und lindert auch bestehende Beschwerden. \nEine Anmeldung ist nicht notwendig. Zum Kurs sind Sportkleidung und eine Trinkflasche erforderlich. Bei Regen und Sturm fallen die Kurse aus. \n\nTreffpunkt: Rothermundtpark\nVeranstalter: Amt für Gesundheit und Prävention der Landeshauptstadt Dresden\nTeilnahme kostenfrei\nWeitere Informationen unter Senior-Fit\n\nWeitere Informationen zur Mobilitätswoche unter: https://www.dresden.de/de/stadtraum/umwelt/umwelt/klima-und-energie/klimaschutz/aktuelles/mobilitaetswoche.php
URL:https://dresden-gruna.de/event/europaeische-mobilitaetswoche-senior-fit-im-rothermundtpark/
LOCATION:Rothermundtpark\, Dresden\, 01277\, Deutschland
END:VEVENT
BEGIN:VEVENT
DTSTART;TZID=Europe/Berlin:20221008T150000
DTEND;TZID=Europe/Berlin:20221008T180000
DTSTAMP:20260423T001302
CREATED:20220105T095139Z
LAST-MODIFIED:20220105T100136Z
UID:3709-1665241200-1665252000@dresden-gruna.de
SUMMARY:Familien-Herbstfest
DESCRIPTION:Das Familienzentrum Pauline lädt Familien und Anwohner zu einem kleinen Herbstfest ein. \nFür unsere Feste halten wir allerlei unterhaltsame Dinge wie Hüpfburg\, Spiele und Basteleien und natürlich Schmackhaftes zum Kaffee und zum Snacken bereit. \nAb 18 Uhr sammeln wir uns zu einem gemeinsamen Lampionumzug als Abschluss des Festes. Bitte bringt eine Laterne und ein Licht mit! 🙂
URL:https://dresden-gruna.de/event/herbstfest-2/
LOCATION:Familienzentrum Pauline\, Papstdorfer Straße 41\, Dresden\, 01277\, Deutschland
ORGANIZER;CN="Familienzentrum Pauline":MAILTO:familienzentrum@pauline-dresden.de
END:VEVENT
BEGIN:VEVENT
DTSTART;TZID=Europe/Berlin:20221009T210000
DTEND;TZID=Europe/Berlin:20221009T230000
DTSTAMP:20260423T001302
CREATED:20221005T162807Z
LAST-MODIFIED:20221005T162807Z
UID:4263-1665349200-1665356400@dresden-gruna.de
SUMMARY:Vollmond-Feuer
DESCRIPTION:Zum Vollmond im Oktober lädt der In Gruna leben e.V. zum gemeinsamen schweigen und schwelgen an der Feuerschale ein.
URL:https://dresden-gruna.de/event/vollmond-feuer/
LOCATION:Villa Akazienhof\, Schneebergstraße 16\, Schneebergstr. 16\, Dresden\, Sachsen\, 01277\, Deutschland
CATEGORIES:Akazienhof
ORGANIZER;CN="'In Gruna leben' e.V.":MAILTO:post@dresden-gruna.de
END:VEVENT
BEGIN:VEVENT
DTSTART;TZID=Europe/Berlin:20221010T150000
DTEND;TZID=Europe/Berlin:20221010T160000
DTSTAMP:20260423T001302
CREATED:20221005T163416Z
LAST-MODIFIED:20221005T163416Z
UID:4271-1665414000-1665417600@dresden-gruna.de
SUMMARY:Malraum im Grünen Pavillon
DESCRIPTION:Male\, was in dir ist! Intuitives malen im geschützten Raum unter Leitung mitten im Grünen. Bei schlechtem Wetter im Eltern-Kind-Büro (Rosenbergstraße 10).
URL:https://dresden-gruna.de/event/malraum-im-gruenen-pavillon-5/
LOCATION:Villa Akazienhof\, Schneebergstraße 16\, Schneebergstr. 16\, Dresden\, Sachsen\, 01277\, Deutschland
CATEGORIES:Akazienhof,Projekte und Aktionen
ORGANIZER;CN="'In Gruna leben' e.V.":MAILTO:post@dresden-gruna.de
END:VEVENT
BEGIN:VEVENT
DTSTART;TZID=Europe/Berlin:20221010T160000
DTEND;TZID=Europe/Berlin:20221010T170000
DTSTAMP:20260423T001302
CREATED:20221005T163447Z
LAST-MODIFIED:20221005T163447Z
UID:4272-1665417600-1665421200@dresden-gruna.de
SUMMARY:Malraum im Grünen Pavillon
DESCRIPTION:Male\, was in dir ist! Intuitives malen im geschützten Raum unter Leitung mitten im Grünen. Bei schlechtem Wetter im Eltern-Kind-Büro (Rosenbergstraße 10).
URL:https://dresden-gruna.de/event/malraum-im-gruenen-pavillon-6/
LOCATION:Villa Akazienhof\, Schneebergstraße 16\, Schneebergstr. 16\, Dresden\, Sachsen\, 01277\, Deutschland
CATEGORIES:Akazienhof,Projekte und Aktionen
ORGANIZER;CN="'In Gruna leben' e.V.":MAILTO:post@dresden-gruna.de
END:VEVENT
BEGIN:VEVENT
DTSTART;TZID=Europe/Berlin:20221011T180000
DTEND;TZID=Europe/Berlin:20221011T210000
DTSTAMP:20260423T001302
CREATED:20221005T163021Z
LAST-MODIFIED:20221005T163021Z
UID:4265-1665511200-1665522000@dresden-gruna.de
SUMMARY:Mitbring-Grillen
DESCRIPTION:Wir schmeißen Grill und Feuerschale an – und ihr bringt mit\, was ihr brutzeln wollt!\n(Bitte denkt an Geschirr & zieht euch warm an! Getränke werden gestellt.)
URL:https://dresden-gruna.de/event/mitbring-grillen/
LOCATION:Villa Akazienhof\, Schneebergstraße 16\, Schneebergstr. 16\, Dresden\, Sachsen\, 01277\, Deutschland
CATEGORIES:Akazienhof
ORGANIZER;CN="'In Gruna leben' e.V.":MAILTO:post@dresden-gruna.de
END:VEVENT
BEGIN:VEVENT
DTSTART;TZID=Europe/Berlin:20221012T100000
DTEND;TZID=Europe/Berlin:20221012T110000
DTSTAMP:20260423T001302
CREATED:20221010T074739Z
LAST-MODIFIED:20221010T074739Z
UID:4303-1665568800-1665572400@dresden-gruna.de
SUMMARY:Babyzeichensprache Eltern-Kind-Kurs am Morgen
DESCRIPTION:Verständigung im Handumdrehen \nBabys benutzen gerne ihre Hände\, ja – ihren ganzen Körper\, um sich mitzuteilen. Stellen wir ihnen noch mehr Zeichen zur Verfügung\, erzählen sie uns bald begeistert\, woran sie grade denken (“Papa anrufen!”)\, woran sie sich erinnern (“die Blume gestern auf der Wiese?”)\, was sie gerne möchten (“Banane!”) und was in ihnen vorgeht (“Ich habe Angst vor dem lauten Rasenmäher!”). \n\nDie Kleinen benutzen die Handzeichen als Brücke bis zum Sprechen lernen und bescheren uns so faszinierende Einblicke in ihre Gedanken- und Gefühlswelt.\nIm Eltern-Kind-Kurs lernst du und dein Baby durch Kinderlieder\, Reime und Spiele das Grundvokabular an Babyzeichen für den Alltag zu Hause. Spaß und die Freude am Miteinander stehen dabei im Mittelpunkt. Der wöchentlich stattfindende Kurs ist für Babys ab 6 Monaten (bis etwa 18 Monaten) geeignet.\nDer Kurs geht über 8 Wochen und jede Stunde dauert etwa 45 Minuten.\nEr findet im Eltern-Kind-Büro in Gruna (Rosenbergstr. 10) statt.\nDies ist eine Kooperation des Eltern-Kind-Büros in Gruna mit Mamutra (www.mamutra.de)
URL:https://dresden-gruna.de/event/babyzeichensprache-eltern-kind-kurs-am-morgen/
LOCATION:Eltern-Kind-Büro\, Rosenbergstr. 10\, Dresden\, 01277\, Deutschland
ATTACH;FMTTYPE=image/png:https://dresden-gruna.de/wp-content/uploads/2022/10/Mamutra-FB-Event-Wordpress.png
ORGANIZER;CN="Mamutra":MAILTO:info@mamutra.de
END:VEVENT
BEGIN:VEVENT
DTSTART;TZID=Europe/Berlin:20221012T140000
DTEND;TZID=Europe/Berlin:20221012T150000
DTSTAMP:20260423T001302
CREATED:20221010T074518Z
LAST-MODIFIED:20221010T074806Z
UID:4300-1665583200-1665586800@dresden-gruna.de
SUMMARY:Babyzeichensprache Eltern-Kind-Kurs am Nachmittag
DESCRIPTION:Verständigung im Handumdrehen \nBabys benutzen gerne ihre Hände\, ja – ihren ganzen Körper\, um sich mitzuteilen. Stellen wir ihnen noch mehr Zeichen zur Verfügung\, erzählen sie uns bald begeistert\, woran sie grade denken (“Papa anrufen!”)\, woran sie sich erinnern (“die Blume gestern auf der Wiese?”)\, was sie gerne möchten (“Banane!”) und was in ihnen vorgeht (“Ich habe Angst vor dem lauten Rasenmäher!”). \n\nDie Kleinen benutzen die Handzeichen als Brücke bis zum Sprechen lernen und bescheren uns so faszinierende Einblicke in ihre Gedanken- und Gefühlswelt.\nIm Eltern-Kind-Kurs lernst du und dein Baby durch Kinderlieder\, Reime und Spiele das Grundvokabular an Babyzeichen für den Alltag zu Hause. Spaß und die Freude am Miteinander stehen dabei im Mittelpunkt. Der wöchentlich stattfindende Kurs ist für Babys ab 6 Monaten (bis etwa 18 Monaten) geeignet.\nDer Kurs geht über 8 Wochen und jede Stunde dauert etwa 45 Minuten.\nEr findet im Eltern-Kind-Büro in Gruna (Rosenbergstr. 10) statt.\nDies ist eine Kooperation des Eltern-Kind-Büros in Gruna mit Mamutra (www.mamutra.de)
URL:https://dresden-gruna.de/event/babyzeichensprache-eltern-kind-kurs/
LOCATION:Eltern-Kind-Büro\, Rosenbergstr. 10\, Dresden\, 01277\, Deutschland
CATEGORIES:Treffen und Kurse
ATTACH;FMTTYPE=image/png:https://dresden-gruna.de/wp-content/uploads/2022/10/Mamutra-FB-Event-Wordpress.png
ORGANIZER;CN="Mamutra":MAILTO:info@mamutra.de
END:VEVENT
BEGIN:VEVENT
DTSTART;TZID=Europe/Berlin:20221014T160000
DTEND;TZID=Europe/Berlin:20221014T180000
DTSTAMP:20260423T001302
CREATED:20221005T163123Z
LAST-MODIFIED:20221005T163123Z
UID:4267-1665763200-1665770400@dresden-gruna.de
SUMMARY:Garten-Aktion
DESCRIPTION:Gemeinsam schuften und gemeinsam schlemmen! Im Anschluss ans Rumgärtnern im Garten laden wir alle Helfer:innen zum gemeinsamen Essen ein.
URL:https://dresden-gruna.de/event/garten-aktion-6/
LOCATION:Villa Akazienhof\, Schneebergstraße 16\, Schneebergstr. 16\, Dresden\, Sachsen\, 01277\, Deutschland
CATEGORIES:Akazienhof
ORGANIZER;CN="'In Gruna leben' e.V.":MAILTO:post@dresden-gruna.de
END:VEVENT
BEGIN:VEVENT
DTSTART;TZID=Europe/Berlin:20221017T150000
DTEND;TZID=Europe/Berlin:20221017T160000
DTSTAMP:20260423T001302
CREATED:20221005T163607Z
LAST-MODIFIED:20221005T163607Z
UID:4273-1666018800-1666022400@dresden-gruna.de
SUMMARY:Malraum im Grünen Pavillon
DESCRIPTION:Male\, was in dir ist! Intuitives malen im geschützten Raum unter Leitung mitten im Grünen. Bei schlechtem Wetter im Eltern-Kind-Büro (Rosenbergstraße 10).
URL:https://dresden-gruna.de/event/malraum-im-gruenen-pavillon-7/
LOCATION:Villa Akazienhof\, Schneebergstraße 16\, Schneebergstr. 16\, Dresden\, Sachsen\, 01277\, Deutschland
CATEGORIES:Akazienhof,Projekte und Aktionen
ORGANIZER;CN="'In Gruna leben' e.V.":MAILTO:post@dresden-gruna.de
END:VEVENT
BEGIN:VEVENT
DTSTART;TZID=Europe/Berlin:20221017T160000
DTEND;TZID=Europe/Berlin:20221017T170000
DTSTAMP:20260423T001302
CREATED:20221005T163631Z
LAST-MODIFIED:20221005T163631Z
UID:4274-1666022400-1666026000@dresden-gruna.de
SUMMARY:Malraum im Grünen Pavillon
DESCRIPTION:Male\, was in dir ist! Intuitives malen im geschützten Raum unter Leitung mitten im Grünen. Bei schlechtem Wetter im Eltern-Kind-Büro (Rosenbergstraße 10).
URL:https://dresden-gruna.de/event/malraum-im-gruenen-pavillon-8/
LOCATION:Villa Akazienhof\, Schneebergstraße 16\, Schneebergstr. 16\, Dresden\, Sachsen\, 01277\, Deutschland
CATEGORIES:Akazienhof,Projekte und Aktionen
ORGANIZER;CN="'In Gruna leben' e.V.":MAILTO:post@dresden-gruna.de
END:VEVENT
BEGIN:VEVENT
DTSTART;TZID=Europe/Berlin:20221021T093000
DTEND;TZID=Europe/Berlin:20221021T113000
DTSTAMP:20260423T001302
CREATED:20221010T080331Z
LAST-MODIFIED:20221010T080331Z
UID:4306-1666344600-1666351800@dresden-gruna.de
SUMMARY:Treff für Alleinerziehende
DESCRIPTION:Austausch – Kinderbetreuung – gemeinsame Mahlzeit \n\nDies ist eine durch das Sozialamt-Dresden geförderte Veranstaltung der Eltern-Kind-Büros \nWir möchten Alleinerziehende und ihre Kids zum Treff einladen! \nWir wollen euch zusammen bringen\, um sich auszutauschen\, Freundschaften zu knüpfen und von und miteinander zu lernen. Es gibt Inputs nach euren Wünschen\, Kinderbetreuung vor Ort und eine gemeinsame Mahlzeit! \n*Der Treff ist kostenlos!* \nAlles worum wir euch bitten ist eine Anmeldung\, damit wir gut Planen können. Gebt bitte das Alter eurer Kids mit an! \nDer Treff findet jeden dritte Freitag im Monat im Eltern-Kind-Büro in Gruna statt. Los geht es jeweils 9:30 Uhr
URL:https://dresden-gruna.de/event/treff-fuer-alleinerziehende-2/
LOCATION:Eltern-Kind-Büro\, Rosenbergstr. 10\, Dresden\, 01277\, Deutschland
CATEGORIES:Treffen und Kurse
ATTACH;FMTTYPE=image/jpeg:https://dresden-gruna.de/wp-content/uploads/2022/09/EKB_AlleinerziehendenTreff.jpg
END:VEVENT
BEGIN:VEVENT
DTSTART;TZID=Europe/Berlin:20221024T150000
DTEND;TZID=Europe/Berlin:20221024T160000
DTSTAMP:20260423T001302
CREATED:20221005T163649Z
LAST-MODIFIED:20221005T163649Z
UID:4275-1666623600-1666627200@dresden-gruna.de
SUMMARY:Malraum im Grünen Pavillon
DESCRIPTION:Male\, was in dir ist! Intuitives malen im geschützten Raum unter Leitung mitten im Grünen. Bei schlechtem Wetter im Eltern-Kind-Büro (Rosenbergstraße 10).
URL:https://dresden-gruna.de/event/malraum-im-gruenen-pavillon-9/
LOCATION:Villa Akazienhof\, Schneebergstraße 16\, Schneebergstr. 16\, Dresden\, Sachsen\, 01277\, Deutschland
CATEGORIES:Akazienhof,Projekte und Aktionen
ORGANIZER;CN="'In Gruna leben' e.V.":MAILTO:post@dresden-gruna.de
END:VEVENT
BEGIN:VEVENT
DTSTART;TZID=Europe/Berlin:20221024T160000
DTEND;TZID=Europe/Berlin:20221024T170000
DTSTAMP:20260423T001302
CREATED:20221005T163706Z
LAST-MODIFIED:20221005T163706Z
UID:4276-1666627200-1666630800@dresden-gruna.de
SUMMARY:Malraum im Grünen Pavillon
DESCRIPTION:Male\, was in dir ist! Intuitives malen im geschützten Raum unter Leitung mitten im Grünen. Bei schlechtem Wetter im Eltern-Kind-Büro (Rosenbergstraße 10).
URL:https://dresden-gruna.de/event/malraum-im-gruenen-pavillon-10/
LOCATION:Villa Akazienhof\, Schneebergstraße 16\, Schneebergstr. 16\, Dresden\, Sachsen\, 01277\, Deutschland
CATEGORIES:Akazienhof,Projekte und Aktionen
ORGANIZER;CN="'In Gruna leben' e.V.":MAILTO:post@dresden-gruna.de
END:VEVENT
BEGIN:VEVENT
DTSTART;TZID=Europe/Berlin:20221025T100000
DTEND;TZID=Europe/Berlin:20221025T100000
DTSTAMP:20260423T001302
CREATED:20221017T204834Z
LAST-MODIFIED:20221017T204945Z
UID:4324-1666692000-1666692000@dresden-gruna.de
SUMMARY:Grunaer Frauenfrühstück
DESCRIPTION:Frauen mal unter sich. \nBringen Sie/bring du gern Ihre/deine Ideen mit:\n– Was wollen Sie/willst du gern wissen?\n– Was wollen Sie/willst du gern gemeinsam mit anderen Frauen tun?\n– Welche Frauen-Themen interessieren Sie/dich? \nFür das leibliche Wohl sorgen wir und bitten dafür um eine kleine Spende.\nWir freuen uns auf Sie/dich – egal wie alt\, ob alleinlebend\, in Partnerschaft oder Familie – auf interessante Gespräche\, ein leckeres Frühstück\, auf eine gute gemeinsame Zeit! \nAnsprechpartnerin: Steffi Müller-Effenberger\nNachbarschaftskreis Gruna\nEin Projekt von Sigus e.V. und dem Stadtteilverein „In Gruna leben“ e.V.\n0351 2632138 | nachbarschaftshilfe@dresden-gruna.de
URL:https://dresden-gruna.de/event/grunaer-frauenfruehstueck/
LOCATION:Bürger-Treff „Grunaer Aue“ Winterbergstr.31c\, 01277 Dresden\, Winterbergstraße 31c\, Dresden\, 01277\, Deutschland
CATEGORIES:Projekte und Aktionen
ATTACH;FMTTYPE=image/jpeg:https://dresden-gruna.de/wp-content/uploads/2022/10/Nachbarschaftskreis-Logo.jpg
ORGANIZER;CN="'In Gruna leben' e.V.":MAILTO:post@dresden-gruna.de
END:VEVENT
BEGIN:VEVENT
DTSTART;TZID=Europe/Berlin:20221028T160000
DTEND;TZID=Europe/Berlin:20221028T180000
DTSTAMP:20260423T001302
CREATED:20221005T163213Z
LAST-MODIFIED:20221005T163213Z
UID:4269-1666972800-1666980000@dresden-gruna.de
SUMMARY:Garten-Aktion
DESCRIPTION:Gemeinsam schuften und gemeinsam schlemmen! Im Anschluss ans Rumgärtnern im Garten laden wir alle Helfer:innen zum gemeinsamen Essen ein.
URL:https://dresden-gruna.de/event/garten-aktion-7/
LOCATION:Villa Akazienhof\, Schneebergstraße 16\, Schneebergstr. 16\, Dresden\, Sachsen\, 01277\, Deutschland
CATEGORIES:Akazienhof,Projekte und Aktionen
ORGANIZER;CN="'In Gruna leben' e.V.":MAILTO:post@dresden-gruna.de
END:VEVENT
END:VCALENDAR