BEGIN:VCALENDAR
VERSION:2.0
PRODID:-//In Gruna leben e.V. - ECPv6.8.3//NONSGML v1.0//EN
CALSCALE:GREGORIAN
METHOD:PUBLISH
X-ORIGINAL-URL:https://dresden-gruna.de
X-WR-CALDESC:Veranstaltungen für In Gruna leben e.V.
REFRESH-INTERVAL;VALUE=DURATION:PT1H
X-Robots-Tag:noindex
X-PUBLISHED-TTL:PT1H
BEGIN:VTIMEZONE
TZID:Europe/Berlin
BEGIN:DAYLIGHT
TZOFFSETFROM:+0100
TZOFFSETTO:+0200
TZNAME:CEST
DTSTART:20220327T010000
END:DAYLIGHT
BEGIN:STANDARD
TZOFFSETFROM:+0200
TZOFFSETTO:+0100
TZNAME:CET
DTSTART:20221030T010000
END:STANDARD
END:VTIMEZONE
BEGIN:VEVENT
DTSTART;TZID=Europe/Berlin:20220823T103000
DTEND;TZID=Europe/Berlin:20221011T113000
DTSTAMP:20260423T015846
CREATED:20220818T170205Z
LAST-MODIFIED:20220818T170205Z
UID:4120-1661250600-1665487800@dresden-gruna.de
SUMMARY:Europäische Mobilitätswoche: Senior Fit im Rothermundtpark
DESCRIPTION:Dienstags von 10.30 bis 11.30 Uhr Senior-Fit Gruna \nBleiben Sie fit und genießen Sie Bewegung an der frischen Luft. Erlernen Sie gemeinsam in der Gruppe vielfältige Übungen zur Kräftigung der Muskulatur und Verbesserung von Balance und Koordination. Bewegung unter freiem Himmel zusammen mit anderen macht Spaß\, dehnt und wärmt viele Muskelgruppen und lindert auch bestehende Beschwerden. \nEine Anmeldung ist nicht notwendig. Zum Kurs sind Sportkleidung und eine Trinkflasche erforderlich. Bei Regen und Sturm fallen die Kurse aus. \n\nTreffpunkt: Rothermundtpark\nVeranstalter: Amt für Gesundheit und Prävention der Landeshauptstadt Dresden\nTeilnahme kostenfrei\nWeitere Informationen unter Senior-Fit\n\nWeitere Informationen zur Mobilitätswoche unter: https://www.dresden.de/de/stadtraum/umwelt/umwelt/klima-und-energie/klimaschutz/aktuelles/mobilitaetswoche.php
URL:https://dresden-gruna.de/event/europaeische-mobilitaetswoche-senior-fit-im-rothermundtpark/
LOCATION:Rothermundtpark\, Dresden\, 01277\, Deutschland
END:VEVENT
BEGIN:VEVENT
DTSTART;TZID=Europe/Berlin:20220902T093000
DTEND;TZID=Europe/Berlin:20220902T103000
DTSTAMP:20260423T015846
CREATED:20220901T093651Z
LAST-MODIFIED:20220901T101751Z
UID:4130-1662111000-1662114600@dresden-gruna.de
SUMMARY:Baby-& Bauch  Der Treff für werdende und frischgebackene Eltern
DESCRIPTION:Die erste Zeit mit Kind ist meist sehr aufregend und es gibt viele Fragen oder Unsicherheiten.  Beim Baby-& Bauch-Treff könnt ihr euch in gemütlicher Runde über alle Themen rund um Schwangerschaft und Babyzeit austauschen. Gemeinsam wollen wir uns stärken. Aber auch Spiel und Spaß\, Lieder und Fingerspiele kommen nicht zu kurz. \nDer Treff findet immer am ersten Freitag im Monat statt. \nEr ist kostenfrei\, wir bitten um eine Spende. \nZur besseren Planung bitten wir um eine kurze Anmeldung.
URL:https://dresden-gruna.de/event/baby-bauch-der-treff-fuer-werdende-und-frischgebackene-eltern/
LOCATION:Eltern-Kind-Büro\, Rosenbergstr. 10\, Dresden\, 01277\, Deutschland
CATEGORIES:Treffen und Kurse
ATTACH;FMTTYPE=image/jpeg:https://dresden-gruna.de/wp-content/uploads/2022/09/resize.jpg
END:VEVENT
BEGIN:VEVENT
DTSTART;VALUE=DATE:20220908
DTEND;VALUE=DATE:20220926
DTSTAMP:20260423T015846
CREATED:20220413T234621Z
LAST-MODIFIED:20220831T221600Z
UID:3849-1662595200-1664150399@dresden-gruna.de
SUMMARY:Nachbarschaftstage
DESCRIPTION:Während der Nachbarschaftstage wird es wieder viele verschiedene Veranstaltungen in ganz Gruna und zu unterschiedlichsten Themen geben.
URL:https://dresden-gruna.de/event/nachbarschaftstage-3/
CATEGORIES:Feste,Projekte und Aktionen
ORGANIZER;CN="'In Gruna leben' e.V.":MAILTO:post@dresden-gruna.de
END:VEVENT
BEGIN:VEVENT
DTSTART;TZID=Europe/Berlin:20220908T110000
DTEND;TZID=Europe/Berlin:20220908T120000
DTSTAMP:20260423T015846
CREATED:20220901T101426Z
LAST-MODIFIED:20220901T102027Z
UID:4136-1662634800-1662638400@dresden-gruna.de
SUMMARY:Babymassage
DESCRIPTION:Entspannen – Beruhigen – Vertrauen stärken \nEine Babymassage ist liebevolle Kontaktaufnahme zum Kind. Sie regt alle Sinne an und unterstützt die geistige\, körperliche und motorische Entwicklung Ihres Kindes. Die behutsam und respektvoll ausgeführten Handgriffe sind leicht zu erlernen und werden den Bedürfnissen jedes Babys angepasst. \nDas optimale Alter der Babys (auch Frühgeborene oder Babys mit besonderen Bedürfnissen) liegt zwischen 4 Wochen und dem Krabbelalter. \nEin Babymassagekurs umfasst 4 Einheiten und dauert etwa 50 bis 60  Minuten. Ein Kurseinstieg ist jederzeit möglich! \nAblauf: \n1. Stunde: Beine \n2. Stunde: Bauch \n3. Stunde Brust und Arme \n4. Stunde Gesicht und Rücken \nJede Stunde wird das Gelernte aus der vorherigen Stunde wiederholt oder auch auf Wunsch etwas anderes\, je nachdem was die Kinder gerade mögen. \nDieser Kurs findet in Kooperation mit „Mamutra“ statt. Er ist kostenfrei\, es wird um einen Solibeitrag gebeten. \nZur besseren Planung\, bitten wir um Anmeldung. Dazu einfach auf den Link bei Webseite klicken.
URL:https://dresden-gruna.de/event/babymassage/
LOCATION:Eltern-Kind-Büro\, Rosenbergstr. 10\, Dresden\, 01277\, Deutschland
CATEGORIES:Treffen und Kurse
ORGANIZER;CN="Mamutra":MAILTO:info@mamutra.de
END:VEVENT
BEGIN:VEVENT
DTSTART;TZID=Europe/Berlin:20220908T170000
DTEND;TZID=Europe/Berlin:20220908T180000
DTSTAMP:20260423T015846
CREATED:20220817T141000Z
LAST-MODIFIED:20220817T141000Z
UID:4069-1662656400-1662660000@dresden-gruna.de
SUMMARY:Treffen der Interessengruppe Bild und Film
DESCRIPTION:Das Gespräch zur Bildgestaltung und Software!\nhttps://www.ddigl.de/…\nOder einfachmal zusehen!
URL:https://dresden-gruna.de/event/treffen-der-interessengruppe-bild-und-film/
LOCATION:Bürger-Treff „Grunaer Aue“ Winterbergstr.31c\, 01277 Dresden\, Winterbergstraße 31c\, Dresden\, 01277\, Deutschland
CATEGORIES:Arbeitsgruppen
ORGANIZER;CN="'In Gruna leben' e.V.":MAILTO:post@dresden-gruna.de
END:VEVENT
BEGIN:VEVENT
DTSTART;TZID=Europe/Berlin:20220909T170000
DTEND;TZID=Europe/Berlin:20220909T190000
DTSTAMP:20260423T015846
CREATED:20220905T221304Z
LAST-MODIFIED:20220905T221313Z
UID:4159-1662742800-1662750000@dresden-gruna.de
SUMMARY:Ideenwerkstatt "Kultur"
DESCRIPTION:Nach der fruchtbaren Ideenwerkstatt im letzten Jahr wollen wir uns noch einmal ungezwungen austauschen – diesmal zum Thema „Kultur in Gruna“. Moderieren wird wieder Birgit Lies.\nBei ganz unpässlichem Wetter ziehen wir um in den Bürgertreff auf der Winterbergstraße 31c.
URL:https://dresden-gruna.de/event/ideenwerkstatt-kultur/
LOCATION:Villa Akazienhof\, Schneebergstraße 16\, Schneebergstr. 16\, Dresden\, Sachsen\, 01277\, Deutschland
CATEGORIES:Akazienhof,Feste,Nachbarschaftstage,Planungs- und Absprachetreffen,Projekte und Aktionen
ATTACH;FMTTYPE=image/jpeg:https://dresden-gruna.de/wp-content/uploads/2018/04/meeting.jpg
ORGANIZER;CN="'In Gruna leben' e.V.":MAILTO:post@dresden-gruna.de
END:VEVENT
BEGIN:VEVENT
DTSTART;TZID=Europe/Berlin:20220909T190000
DTEND;TZID=Europe/Berlin:20220909T210000
DTSTAMP:20260423T015846
CREATED:20220905T221545Z
LAST-MODIFIED:20220906T220440Z
UID:4161-1662750000-1662757200@dresden-gruna.de
SUMMARY:Konzert "tricando"
DESCRIPTION:„Frühlingssturm … … Soll sein“\nAndreas Zöllner und Ennosch singen \nRio Reiser … … Gerhard Gundermann \nWas hätten Rio Reiser und Gundermann\,die zwar fast gleichzeitig aber in ganz verschiedenen Welten lebten\,\nsich erzählt oder miteinander gesungen?\nAndreas Zöllner\,\nseinerzeit Gitarrist der Band Das Blaue Einhorn und nun Solo oder im Duo unterwegs\, und\nEnnosch\,\nseinerzeit Gitarrist bei Stilbruch und nun bei Weltkind\,\nbegegnen sich für eine längst überfällige Begegnung.\nMit zwei Stimmen\, zwei Gitarren\, Cajon\, Ukulele\, Bouzuki\, Klarinette\, Konzertina …\nrocken und flüstern\, singen und spielen sie mit den Songs von Reiser und Gundermann über das Leben und die Liebe\, hier wie dort\, damals wie heute.
URL:https://dresden-gruna.de/event/konzert-tricando/
LOCATION:Villa Akazienhof\, Schneebergstraße 16\, Schneebergstr. 16\, Dresden\, Sachsen\, 01277\, Deutschland
CATEGORIES:Akazienhof,Feste,Nachbarschaftstage,Projekte und Aktionen
ATTACH;FMTTYPE=image/jpeg:https://dresden-gruna.de/wp-content/uploads/2022/09/tricando-Duo.jpg
ORGANIZER;CN="'In Gruna leben' e.V.":MAILTO:post@dresden-gruna.de
END:VEVENT
BEGIN:VEVENT
DTSTART;TZID=Europe/Berlin:20220910T100000
DTEND;TZID=Europe/Berlin:20220910T160000
DTSTAMP:20260423T015846
CREATED:20220731T124616Z
LAST-MODIFIED:20220731T124616Z
UID:4059-1662804000-1662825600@dresden-gruna.de
SUMMARY:Workshop Dresdner Nachbarschaften Teil I
DESCRIPTION:Mein Leben in einem Buch selbst gestalten  \nDer Tisch ist reich gedeckt: Verschiedene Blei-\, Filz- und Buntstifte\, Far­ben\, Pinsel\, Cuttermesser und Scheren\, Klebebänder\, Tuschen\, Aufkleber mit diversen Textbotschaften und natürlich wieder Bücher. Und wie die Fülle an Speisen auf einer langen Tafel zum Kosten einlädt\, so wollen alle diese Schreib- und Gestaltungswerkzeuge an diesem Samstag in Gruna ausprobiert und benutzt werden.  \nEs kann beginnen. \nWenn wir sagen\, dass der Mensch grundsätzlich auch ein Spielender ist \, so ist er im selben Atemzug mindestens ebenso ein Erzählender. Und wo sich das Erzählen ereignet\, passiert das Erinnern nahezu von ganz allein.  \nWir möchten Sie einladen uns Ihre Geschichten über die Nachbarschaften in ihrem Leben zu erzählen und neu in Form eines Buches zu gestalten. \nOb jung ob alt\, jeder hat was zu erzählen und wir möchten ihre Geschichten hören. \nBringen Sie ein altes Buch mit\, gerne auch Fotos und Erinnerungen und gestalten sie ihr eigenes Buch. Unsere Künstlerin\, Anne Ibelings lädt Sie herzlich ein. \nSonnabend\, 10.09. und 17.09.\, Villa Akazienhof\, Schneebergstraße 16\, 10:00 – 16:00 Uhr\n \nWir freuen uns auf euch. \nAlles weitere findet ihr unter: https://kulturaktiv.org/dresdner-nachbarschaften/
URL:https://dresden-gruna.de/event/workshop-dresdner-nachbarschaften-teil-i/
LOCATION:Villa Akazienhof\, Schneebergstraße 16\, Schneebergstr. 16\, Dresden\, Sachsen\, 01277\, Deutschland
END:VEVENT
BEGIN:VEVENT
DTSTART;TZID=Europe/Berlin:20220912T150000
DTEND;TZID=Europe/Berlin:20220912T160000
DTSTAMP:20260423T015846
CREATED:20220905T223210Z
LAST-MODIFIED:20220907T231945Z
UID:4171-1662994800-1662998400@dresden-gruna.de
SUMMARY:Malraum im grünen Pavillon
DESCRIPTION:Male\, was in dir ist! Ein besonderer Raum für dich! Nach dem Arno-Stern- Konzept\, mit tollen Farben und mit Pinsel\, ohne Bewertung und mit ganz viel Freude;   \nDiese Veranstaltungen am 12. und 25.9. dienen zum gegenseitigen Kennenlernen und ausrobieren. Ab Herbst soll es dann regelmäßige Malorte in Gruna geben. \nAnmeldung: 015201969994 (Juliane Franke) \nBei ganz unpässlichem Wetter wird im Bürgertreff (Winterbergstr. 31c) gemalt.
URL:https://dresden-gruna.de/event/malraum-im-gruenen-pavillon/
LOCATION:Villa Akazienhof\, Schneebergstraße 16\, Schneebergstr. 16\, Dresden\, Sachsen\, 01277\, Deutschland
CATEGORIES:Nachbarschaftstage
ATTACH;FMTTYPE=image/jpeg:https://dresden-gruna.de/wp-content/uploads/2022/09/malort.jpg
ORGANIZER;CN="'In Gruna leben' e.V.":MAILTO:post@dresden-gruna.de
END:VEVENT
BEGIN:VEVENT
DTSTART;TZID=Europe/Berlin:20220912T160000
DTEND;TZID=Europe/Berlin:20220912T170000
DTSTAMP:20260423T015846
CREATED:20220905T223752Z
LAST-MODIFIED:20220907T232035Z
UID:4176-1662998400-1663002000@dresden-gruna.de
SUMMARY:Malraum im grünen Pavillon
DESCRIPTION:Male\, was in dir ist! Ein besonderer Raum für dich! Nach dem Arno-Stern- Konzept\, mit tollen Farben und mit Pinsel\, ohne Bewertung und mit ganz viel Freude;   \nDiese Veranstaltungen am 12. und 25.9. dienen zum gegenseitigen Kennenlernen und ausrobieren. Ab Herbst soll es dann regelmäßige Malorte in Gruna geben. \nAnmeldung: 015201969994 (Juliane Franke) \nBei ganz unpässlichem Wetter wird im Bürgertreff (Winterbergstr. 31c) gemalt.
URL:https://dresden-gruna.de/event/malraum-im-gruenen-pavillon-2/
LOCATION:Villa Akazienhof\, Schneebergstraße 16\, Schneebergstr. 16\, Dresden\, Sachsen\, 01277\, Deutschland
CATEGORIES:Nachbarschaftstage,Projekte und Aktionen
ATTACH;FMTTYPE=image/jpeg:https://dresden-gruna.de/wp-content/uploads/2022/09/malort.jpg
ORGANIZER;CN="'In Gruna leben' e.V.":MAILTO:post@dresden-gruna.de
END:VEVENT
BEGIN:VEVENT
DTSTART;TZID=Europe/Berlin:20220913T163000
DTEND;TZID=Europe/Berlin:20220913T163000
DTSTAMP:20260423T015846
CREATED:20220912T212836Z
LAST-MODIFIED:20220912T212836Z
UID:4214-1663086600-1663086600@dresden-gruna.de
SUMMARY:Garteneinsatz im Akazienhof
DESCRIPTION:Wir legen das Theater frei und sichern den Pfad durchs Dickicht.
URL:https://dresden-gruna.de/event/garteneinsatz-im-akazienhof/
LOCATION:Villa Akazienhof\, Schneebergstraße 16\, Schneebergstr. 16\, Dresden\, Sachsen\, 01277\, Deutschland
CATEGORIES:Akazienhof,Arbeitsgruppen,Nachbarschaftstage,Trash Out
ORGANIZER;CN="'In Gruna leben' e.V.":MAILTO:post@dresden-gruna.de
END:VEVENT
BEGIN:VEVENT
DTSTART;TZID=Europe/Berlin:20220915T140000
DTEND;TZID=Europe/Berlin:20220915T160000
DTSTAMP:20260423T015846
CREATED:20220911T234857Z
LAST-MODIFIED:20220911T234857Z
UID:4202-1663250400-1663257600@dresden-gruna.de
SUMMARY:Wir haben noch etwas zu sagen
DESCRIPTION:Nachbarinnen lesen aus ihren Erinnerungen. Von Teedosen und goldenen Kellen\, Fischen und Katern\, Milchpudding und Zwiebel\, einem alten Fahrrad und neuen Fabriken\, Reisen in ferne und nahe Länder – von\nden vielen Farben des Lebens
URL:https://dresden-gruna.de/event/wir-haben-noch-etwas-zu-sagen-2/
LOCATION:fidelio\, Papstdorfer Str. 25\, Dresden\, 01277\, Deutschland
ORGANIZER;CN="'In Gruna leben' e.V.":MAILTO:post@dresden-gruna.de
END:VEVENT
BEGIN:VEVENT
DTSTART;TZID=Europe/Berlin:20220916T093000
DTEND;TZID=Europe/Berlin:20220916T120000
DTSTAMP:20260423T015846
CREATED:20220908T134646Z
LAST-MODIFIED:20220908T144035Z
UID:4191-1663320600-1663329600@dresden-gruna.de
SUMMARY:Treff für Alleinerziehende
DESCRIPTION:Austausch – Kinderbetreuung – gemeinsame Mahlzeit \n\nWir laden Alleinerziehende mit ihren Kindern zu einem gemeinsamen Vormittag ein! \nWir wollen euch zusammen bringen\, um sich auszutauschen\, Freundschaften zu knüpfen und von und miteinander zu lernen. Es gibt Inputs nach euren Wünschen\, Kinderbetreuung vor Ort und eine gemeinsame Mahlzeit! \n*Der Treff ist kostenlos!* \nAlles worum wir euch bitten ist eine Anmeldung\, damit wir gut Planen können. Gebt bitte das Alter eurer Kids mit an! \nBei schönem Wetter findet der Treff diesmal in der Villa Akazienhof statt. Bei schlechtem Wetter treffen wir uns im Eltern-Kind-Büro Grun (Rosenbergstr. 10) \nDer Treff findet jeden dritte Freitag im Monat im Eltern-Kind-Büro in Gruna statt. Los geht es jeweils 9:30 Uhr \nDies ist eine durch das Sozialamt-Dresden geförderte Veranstaltung der Eltern-Kind-Büros.
URL:https://dresden-gruna.de/event/treff-fuer-alleinerziehende/
LOCATION:Villa Akazienhof\, Schneebergstraße 16\, Schneebergstr. 16\, Dresden\, Sachsen\, 01277\, Deutschland
CATEGORIES:Treffen und Kurse
ATTACH;FMTTYPE=image/jpeg:https://dresden-gruna.de/wp-content/uploads/2022/09/EKB_AlleinerziehendenTreff.jpg
END:VEVENT
BEGIN:VEVENT
DTSTART;TZID=Europe/Berlin:20220916T163000
DTEND;TZID=Europe/Berlin:20220916T183000
DTSTAMP:20260423T015846
CREATED:20220911T235316Z
LAST-MODIFIED:20220911T235316Z
UID:4205-1663345800-1663353000@dresden-gruna.de
SUMMARY:Orte und Originale - mit Conrad Richter durch Grunas Industriegeschichte
DESCRIPTION:Einführungsvortrag im Bürgertreff „Grunaer Aue“\, dann Rundgang zu frühen Industriestandorten
URL:https://dresden-gruna.de/event/orte-und-originale-mit-conrad-richter-durch-grunas-industriegeschichte/
LOCATION:Bürger-Treff „Grunaer Aue“ Winterbergstr.31c\, 01277 Dresden\, Winterbergstraße 31c\, Dresden\, 01277\, Deutschland
CATEGORIES:Akazienhof,Historische Rundgänge,Projekte und Aktionen
ORGANIZER;CN="'In Gruna leben' e.V.":MAILTO:post@dresden-gruna.de
END:VEVENT
BEGIN:VEVENT
DTSTART;TZID=Europe/Berlin:20220917T100000
DTEND;TZID=Europe/Berlin:20220917T160000
DTSTAMP:20260423T015846
CREATED:20220731T124629Z
LAST-MODIFIED:20220731T124629Z
UID:4061-1663408800-1663430400@dresden-gruna.de
SUMMARY:Workshop Dresdner Nachbarschaften Teil II
DESCRIPTION:Mein Leben in einem Buch selbst gestalten  \nDer Tisch ist reich gedeckt: Verschiedene Blei-\, Filz- und Buntstifte\, Far­ben\, Pinsel\, Cuttermesser und Scheren\, Klebebänder\, Tuschen\, Aufkleber mit diversen Textbotschaften und natürlich wieder Bücher. Und wie die Fülle an Speisen auf einer langen Tafel zum Kosten einlädt\, so wollen alle diese Schreib- und Gestaltungswerkzeuge an diesem Samstag in Gruna ausprobiert und benutzt werden.  \nEs kann beginnen. \nWenn wir sagen\, dass der Mensch grundsätzlich auch ein Spielender ist \, so ist er im selben Atemzug mindestens ebenso ein Erzählender. Und wo sich das Erzählen ereignet\, passiert das Erinnern nahezu von ganz allein.  \nWir möchten Sie einladen uns Ihre Geschichten über die Nachbarschaften in ihrem Leben zu erzählen und neu in Form eines Buches zu gestalten. \nOb jung ob alt\, jeder hat was zu erzählen und wir möchten ihre Geschichten hören. \nBringen Sie ein altes Buch mit\, gerne auch Fotos und Erinnerungen und gestalten sie ihr eigenes Buch. Unsere Künstlerin\, Anne Ibelings lädt Sie herzlich ein. \nSonnabend\, 10.09. und 17.09.\, Villa Akazienhof\, Schneebergstraße 16\, 10:00 – 16:00 Uhr\n \nWir freuen uns auf euch. \nAlles weitere findet ihr unter: https://kulturaktiv.org/dresdner-nachbarschaften/
URL:https://dresden-gruna.de/event/workshop-dresdner-nachbarschaften-teil-ii/
END:VEVENT
BEGIN:VEVENT
DTSTART;TZID=Europe/Berlin:20220917T170000
DTEND;TZID=Europe/Berlin:20220917T213000
DTSTAMP:20260423T015846
CREATED:20220905T221809Z
LAST-MODIFIED:20220914T225240Z
UID:4163-1663434000-1663450200@dresden-gruna.de
SUMMARY:Rock im Garten
DESCRIPTION:Gruna rockt!\nWir veranstalten ein kleines Rockfestivalchen im Akazienhof (bei ganz unpassendem Wetter wird verlegt).\nMit dabei sind:\n– Zugabe (gegen 17:30)\n– Bad Ted (gegen 18:30)\n– Periode 6 (gegen 19:30)\n– Feuershow (gegen 20:15)\n– Bionic Cell (gegen 20:45) \nFür Musik\, Feuerschale und Grill ist gesorgt. Bringt euch gern eigene Verpflegung samt Geschirr mit.
URL:https://dresden-gruna.de/event/rock-im-garten/
LOCATION:Villa Akazienhof\, Schneebergstraße 16\, Schneebergstr. 16\, Dresden\, Sachsen\, 01277\, Deutschland
CATEGORIES:Akazienhof,Feste,Nachbarschaftstage
ORGANIZER;CN="'In Gruna leben' e.V.":MAILTO:post@dresden-gruna.de
END:VEVENT
BEGIN:VEVENT
DTSTART;TZID=Europe/Berlin:20220918T100000
DTEND;TZID=Europe/Berlin:20220918T130000
DTSTAMP:20260423T015846
CREATED:20220105T095641Z
LAST-MODIFIED:20220105T095641Z
UID:3713-1663495200-1663506000@dresden-gruna.de
SUMMARY:Herbst-Flohmarkt
DESCRIPTION:Auf unseren Flohmärkten können Sie Kinderkleidung\, Spielwaren und vieles andere preiswert kaufen und verkaufen. Es wird auch einen kleinen Verkauf von Kaffee\, Tee und Kuchen geben. \nWeitere Informationen gibt es hier: https://pauline-dresden.de/weiteres/flohmarkt
URL:https://dresden-gruna.de/event/herbst-flohmarkt/
LOCATION:Familienzentrum Pauline\, Papstdorfer Straße 41\, Dresden\, 01277\, Deutschland
ORGANIZER;CN="Familienzentrum Pauline":MAILTO:familienzentrum@pauline-dresden.de
END:VEVENT
BEGIN:VEVENT
DTSTART;TZID=Europe/Berlin:20220919T150000
DTEND;TZID=Europe/Berlin:20220919T163000
DTSTAMP:20260423T015846
CREATED:20220911T235924Z
LAST-MODIFIED:20220911T235924Z
UID:4211-1663599600-1663605000@dresden-gruna.de
SUMMARY:GenerationenCafé
DESCRIPTION:Mut und Entdeckerfreude der Jungen im Bunde mit Weisheit und Geduld der Alten – In Hemingways „Der alte Mann und das Meer“ ringt der betagte Fischer nicht nur um seinen Fang\, sondern preist gegenseitige Hilfe und Anerkennung mit „dem Jungen“. In diesem GenerationenCafé befragen wir diese Parabel für uns heute.
URL:https://dresden-gruna.de/event/generationencafe/
LOCATION:Bürger-Treff „Grunaer Aue“ Winterbergstr.31c\, 01277 Dresden\, Winterbergstraße 31c\, Dresden\, 01277\, Deutschland
CATEGORIES:Nachbarschaftstage,Projekte und Aktionen
ORGANIZER;CN="'In Gruna leben' e.V.":MAILTO:post@dresden-gruna.de
END:VEVENT
BEGIN:VEVENT
DTSTART;TZID=Europe/Berlin:20220923T140000
DTEND;TZID=Europe/Berlin:20220923T160000
DTSTAMP:20260423T015846
CREATED:20220905T222600Z
LAST-MODIFIED:20220905T222600Z
UID:4169-1663941600-1663948800@dresden-gruna.de
SUMMARY:Rundgang Friedhof Striesen
DESCRIPTION:mit Anteil auf\nGrunaer Flur mit der Spazierganggruppe\n„Bewegung im Stadtteil“ Treff: Friedhof Striesen
URL:https://dresden-gruna.de/event/rundgang-friedhof-striesen/
CATEGORIES:Historische Rundgänge,Nachbarschaftstage
END:VEVENT
BEGIN:VEVENT
DTSTART;TZID=Europe/Berlin:20220923T183000
DTEND;TZID=Europe/Berlin:20220923T183000
DTSTAMP:20260423T015846
CREATED:20220911T235626Z
LAST-MODIFIED:20220912T085104Z
UID:4207-1663957800-1663957800@dresden-gruna.de
SUMMARY:Patenschaftlich Wohnen I Auf dem Weg zu Sorgenden Nachbarschaften
DESCRIPTION:Übersichtsforum zu den Bremer Quartiershäusern als ein verschiedene Wohnformen im Stadtteil integrierendes Angebot
URL:https://dresden-gruna.de/event/patenschaftlich-wohnen-i-auf-dem-weg-zu-sorgenden-nachbarschaften/
LOCATION:ASB Wiesenhäuser\, Wiesenstraße 17\, Dresden\, 01277\, Deutschland
CATEGORIES:Nachbarschaftstage
ATTACH;FMTTYPE=image/jpeg:https://dresden-gruna.de/wp-content/uploads/2022/09/patenschaftlichWohnen.jpg
ORGANIZER;CN="'In Gruna leben' e.V.":MAILTO:post@dresden-gruna.de
END:VEVENT
BEGIN:VEVENT
DTSTART;TZID=Europe/Berlin:20220923T193000
DTEND;TZID=Europe/Berlin:20220923T203000
DTSTAMP:20260423T015846
CREATED:20220905T222420Z
LAST-MODIFIED:20220905T222420Z
UID:4167-1663961400-1663965000@dresden-gruna.de
SUMMARY:Klavierkonzert
DESCRIPTION:Evang.-Kirchl. Gemeinschaft\nEva Glöß spielt eigene Kompositionen
URL:https://dresden-gruna.de/event/klavierkonzert/
LOCATION:Evangelisch-Kirchliche Gemeinschaft\, Winterbergstr. 19\, Dresden\, 01277\, Deutschland
CATEGORIES:Nachbarschaftstage
END:VEVENT
BEGIN:VEVENT
DTSTART;TZID=Europe/Berlin:20220924T100000
DTEND;TZID=Europe/Berlin:20220924T170000
DTSTAMP:20260423T015846
CREATED:20220911T235738Z
LAST-MODIFIED:20220912T085040Z
UID:4209-1664013600-1664038800@dresden-gruna.de
SUMMARY:Patenschaftlich Wohnen II Generationenwerkstatt
DESCRIPTION:Auf dem Weg zu Sorgenden Nachbarschaften in Gruna werden verschiedene Wohnformen wie „Wohnen für Hilfe“\, Quartiersprojekte diskutiert …
URL:https://dresden-gruna.de/event/patenschaftlich-wohnen-ii-generationenwerkstatt/
LOCATION:ASB Wiesenhäuser\, Wiesenstraße 17\, Dresden\, 01277\, Deutschland
CATEGORIES:Nachbarschaftstage
ATTACH;FMTTYPE=image/jpeg:https://dresden-gruna.de/wp-content/uploads/2022/09/patenschaftlichWohnen.jpg
ORGANIZER;CN="'In Gruna leben' e.V.":MAILTO:post@dresden-gruna.de
END:VEVENT
BEGIN:VEVENT
DTSTART;TZID=Europe/Berlin:20220925T150000
DTEND;TZID=Europe/Berlin:20220925T160000
DTSTAMP:20260423T015846
CREATED:20220905T223919Z
LAST-MODIFIED:20220907T232052Z
UID:4178-1664118000-1664121600@dresden-gruna.de
SUMMARY:Malraum im Grünen Pavillon
DESCRIPTION:Male\, was in dir ist! Ein besonderer Raum für dich! Nach dem Arno-Stern- Konzept\, mit tollen Farben und mit Pinsel\, ohne Bewertung und mit ganz viel Freude;   \nDiese Veranstaltungen am 12. und 25.9. dienen zum gegenseitigen Kennenlernen und ausrobieren. Ab Herbst soll es dann regelmäßige Malorte in Gruna geben. \nAnmeldung: 015201969994 (Juliane Franke) \nBei ganz unpässlichem Wetter wird im Bürgertreff (Winterbergstr. 31c) gemalt.
URL:https://dresden-gruna.de/event/malraum-im-gruenen-pavillon-3/
LOCATION:Villa Akazienhof\, Schneebergstraße 16\, Schneebergstr. 16\, Dresden\, Sachsen\, 01277\, Deutschland
CATEGORIES:Akazienhof,Nachbarschaftstage
ATTACH;FMTTYPE=image/jpeg:https://dresden-gruna.de/wp-content/uploads/2022/09/malort.jpg
ORGANIZER;CN="'In Gruna leben' e.V.":MAILTO:post@dresden-gruna.de
END:VEVENT
BEGIN:VEVENT
DTSTART;TZID=Europe/Berlin:20220925T160000
DTEND;TZID=Europe/Berlin:20220925T170000
DTSTAMP:20260423T015846
CREATED:20220905T224006Z
LAST-MODIFIED:20220907T232111Z
UID:4180-1664121600-1664125200@dresden-gruna.de
SUMMARY:Malraum im Grünen Pavillon
DESCRIPTION:Male\, was in dir ist! Ein besonderer Raum für dich! Nach dem Arno-Stern- Konzept\, mit tollen Farben und mit Pinsel\, ohne Bewertung und mit ganz viel Freude;   \nDiese Veranstaltungen am 12. und 25.9. dienen zum gegenseitigen Kennenlernen und ausrobieren. Ab Herbst soll es dann regelmäßige Malorte in Gruna geben. \nAnmeldung: 015201969994 (Juliane Franke) \nBei ganz unpässlichem Wetter wird im Bürgertreff (Winterbergstr. 31c) gemalt.
URL:https://dresden-gruna.de/event/malraum-im-gruenen-pavillon-4/
LOCATION:Villa Akazienhof\, Schneebergstraße 16\, Schneebergstr. 16\, Dresden\, Sachsen\, 01277\, Deutschland
CATEGORIES:Akazienhof,Nachbarschaftstage
ATTACH;FMTTYPE=image/jpeg:https://dresden-gruna.de/wp-content/uploads/2022/09/malort.jpg
ORGANIZER;CN="'In Gruna leben' e.V.":MAILTO:post@dresden-gruna.de
END:VEVENT
BEGIN:VEVENT
DTSTART;TZID=Europe/Berlin:20220925T170000
DTEND;TZID=Europe/Berlin:20220925T170000
DTSTAMP:20260423T015846
CREATED:20220905T222239Z
LAST-MODIFIED:20220905T222239Z
UID:4165-1664125200-1664125200@dresden-gruna.de
SUMMARY:musikalisches Nachbarschaftspicknick
DESCRIPTION:Als Ausklang der Nachbarschaftstage setzten wir uns zusammen und tauschen mitgebrachts Essen und Trinken aus. Angemeldet hat sich schon der Posaunenchor der Kirchgemeinde Dresden Gruna/Seidnitz. Eigene Instrumente und Liederbücher können auch gern mitgebracht werden.
URL:https://dresden-gruna.de/event/musikalisches-nachbarschaftspicknick-2/
LOCATION:Villa Akazienhof\, Schneebergstraße 16\, Schneebergstr. 16\, Dresden\, Sachsen\, 01277\, Deutschland
CATEGORIES:Akazienhof,Feste,Nachbarschaftstage,Projekte und Aktionen
ORGANIZER;CN="'In Gruna leben' e.V.":MAILTO:post@dresden-gruna.de
END:VEVENT
END:VCALENDAR