BEGIN:VCALENDAR
VERSION:2.0
PRODID:-//In Gruna leben e.V. - ECPv6.8.3//NONSGML v1.0//EN
CALSCALE:GREGORIAN
METHOD:PUBLISH
X-ORIGINAL-URL:https://dresden-gruna.de
X-WR-CALDESC:Veranstaltungen für In Gruna leben e.V.
REFRESH-INTERVAL;VALUE=DURATION:PT1H
X-Robots-Tag:noindex
X-PUBLISHED-TTL:PT1H
BEGIN:VTIMEZONE
TZID:Europe/Berlin
BEGIN:DAYLIGHT
TZOFFSETFROM:+0100
TZOFFSETTO:+0200
TZNAME:CEST
DTSTART:20220327T010000
END:DAYLIGHT
BEGIN:STANDARD
TZOFFSETFROM:+0200
TZOFFSETTO:+0100
TZNAME:CET
DTSTART:20221030T010000
END:STANDARD
END:VTIMEZONE
BEGIN:VEVENT
DTSTART;TZID=Europe/Berlin:20220802T180000
DTEND;TZID=Europe/Berlin:20220802T190000
DTSTAMP:20260423T032442
CREATED:20220707T161952Z
LAST-MODIFIED:20220707T161952Z
UID:3989-1659463200-1659466800@dresden-gruna.de
SUMMARY:Gespräch mit Vertreter:innen der Stadtverwaltung
DESCRIPTION:Im gemeinsamen Gespräch soll es um die Zukunft und weitere Nutzung des Akazienhofes gehen. Interessierte Zuhörer:innen willkommen!
URL:https://dresden-gruna.de/event/gespraech-mit-vertreterinnen-der-stadtverwaltung/
LOCATION:Villa Akazienhof\, Schneebergstraße 16\, Schneebergstr. 16\, Dresden\, Sachsen\, 01277\, Deutschland
CATEGORIES:Akazienhof,Projekte und Aktionen
ATTACH;FMTTYPE=image/png:https://dresden-gruna.de/wp-content/uploads/2022/07/beitragsbild_akazienhof-min.png
ORGANIZER;CN="'In Gruna leben' e.V.":MAILTO:post@dresden-gruna.de
END:VEVENT
BEGIN:VEVENT
DTSTART;TZID=Europe/Berlin:20220803T180000
DTEND;TZID=Europe/Berlin:20220803T200000
DTSTAMP:20260423T032442
CREATED:20220728T214706Z
LAST-MODIFIED:20220728T214706Z
UID:4049-1659549600-1659556800@dresden-gruna.de
SUMMARY:Feuerschalen-Beieinander
DESCRIPTION:Gemütlich beisammen am Feuerchen quatschen über Gott\, die Welt und Gruna. Jede:r willkommen!
URL:https://dresden-gruna.de/event/feuerschalen-beieinander-3/
LOCATION:Villa Akazienhof\, Schneebergstraße 16\, Schneebergstr. 16\, Dresden\, Sachsen\, 01277\, Deutschland
CATEGORIES:Akazienhof,Projekte und Aktionen
ATTACH;FMTTYPE=image/jpeg:https://dresden-gruna.de/wp-content/uploads/2022/07/20220713_202557-scaled.jpg
ORGANIZER;CN="'In Gruna leben' e.V.":MAILTO:post@dresden-gruna.de
END:VEVENT
BEGIN:VEVENT
DTSTART;TZID=Europe/Berlin:20220805T180000
DTEND;TZID=Europe/Berlin:20220805T200000
DTSTAMP:20260423T032442
CREATED:20220728T213453Z
LAST-MODIFIED:20220728T213453Z
UID:4039-1659722400-1659729600@dresden-gruna.de
SUMMARY:Garten-Aktion: Visionen gesucht!
DESCRIPTION:Statt die Hacke schwingen wir an diesem Abend den Stift! Zusammen wollen wir in gemütlicher Runde Ideen und Wünsche für den Garten sammeln.
URL:https://dresden-gruna.de/event/garten-aktion-visionen-gesucht/
LOCATION:Villa Akazienhof\, Schneebergstraße 16\, Schneebergstr. 16\, Dresden\, Sachsen\, 01277\, Deutschland
CATEGORIES:Akazienhof,Projekte und Aktionen
ATTACH;FMTTYPE=image/jpeg:https://dresden-gruna.de/wp-content/uploads/2022/07/InShot_20220719_135909027.jpg
ORGANIZER;CN="'In Gruna leben' e.V.":MAILTO:post@dresden-gruna.de
END:VEVENT
BEGIN:VEVENT
DTSTART;TZID=Europe/Berlin:20220808T170000
DTEND;TZID=Europe/Berlin:20220808T180000
DTSTAMP:20260423T032442
CREATED:20220728T222524Z
LAST-MODIFIED:20220728T222524Z
UID:4055-1659978000-1659981600@dresden-gruna.de
SUMMARY:Zeitzeugen-Treff
DESCRIPTION:Auf der Suche nach der Vergangenheit des Akazienhofes. Alle ehemaligen Kindergartenkinder und Hobby-Historiker:innen willkommen!
URL:https://dresden-gruna.de/event/zeitzeugen-treff-3/
LOCATION:Villa Akazienhof\, Schneebergstraße 16\, Schneebergstr. 16\, Dresden\, Sachsen\, 01277\, Deutschland
CATEGORIES:Akazienhof,Projekte und Aktionen
ATTACH;FMTTYPE=image/png:https://dresden-gruna.de/wp-content/uploads/2022/07/beitragsbild_akazienhof-min.png
ORGANIZER;CN="'In Gruna leben' e.V.":MAILTO:post@dresden-gruna.de
END:VEVENT
BEGIN:VEVENT
DTSTART;TZID=Europe/Berlin:20220809T180000
DTEND;TZID=Europe/Berlin:20220809T210000
DTSTAMP:20260423T032442
CREATED:20220728T213054Z
LAST-MODIFIED:20220728T213054Z
UID:4035-1660068000-1660078800@dresden-gruna.de
SUMMARY:Garten-Aktion
DESCRIPTION:Gemeinsam schuften und gemeinsam schlemmen! Im Anschluss ans Rumgärtnern im Garten laden wir alle Helfer:innen zum gemeinsamen Essen ein.
URL:https://dresden-gruna.de/event/garten-aktion-4/
LOCATION:Villa Akazienhof\, Schneebergstraße 16\, Schneebergstr. 16\, Dresden\, Sachsen\, 01277\, Deutschland
CATEGORIES:Akazienhof,Projekte und Aktionen
ATTACH;FMTTYPE=image/jpeg:https://dresden-gruna.de/wp-content/uploads/2022/07/220712_7.jpeg
ORGANIZER;CN="'In Gruna leben' e.V.":MAILTO:post@dresden-gruna.de
END:VEVENT
BEGIN:VEVENT
DTSTART;TZID=Europe/Berlin:20220816T180000
DTEND;TZID=Europe/Berlin:20220816T210000
DTSTAMP:20260423T032442
CREATED:20220728T213216Z
LAST-MODIFIED:20220728T213216Z
UID:4037-1660672800-1660683600@dresden-gruna.de
SUMMARY:Garten-Aktion
DESCRIPTION:Gemeinsam schuften und gemeinsam schlemmen! Im Anschluss ans Rumgärtnern im Garten laden wir alle Helfer:innen zum gemeinsamen Essen ein.
URL:https://dresden-gruna.de/event/garten-aktion-5/
LOCATION:Villa Akazienhof\, Schneebergstraße 16\, Schneebergstr. 16\, Dresden\, Sachsen\, 01277\, Deutschland
CATEGORIES:Akazienhof,Projekte und Aktionen
ATTACH;FMTTYPE=image/jpeg:https://dresden-gruna.de/wp-content/uploads/2022/07/220712_7.jpeg
ORGANIZER;CN="'In Gruna leben' e.V.":MAILTO:post@dresden-gruna.de
END:VEVENT
BEGIN:VEVENT
DTSTART;TZID=Europe/Berlin:20220819T180000
DTEND;TZID=Europe/Berlin:20220819T200000
DTSTAMP:20260423T032442
CREATED:20220728T213629Z
LAST-MODIFIED:20220728T213629Z
UID:4041-1660932000-1660939200@dresden-gruna.de
SUMMARY:Garten-Aktion: Visionen gesucht!
DESCRIPTION:Statt die Hacke schwingen wir an diesem Abend den Stift! Zusammen wollen wir in gemütlicher Runde Ideen und Wünsche für den Garten sammeln.
URL:https://dresden-gruna.de/event/garten-aktion-visionen-gesucht-2/
LOCATION:Villa Akazienhof\, Schneebergstraße 16\, Schneebergstr. 16\, Dresden\, Sachsen\, 01277\, Deutschland
CATEGORIES:Akazienhof,Projekte und Aktionen
ATTACH;FMTTYPE=image/jpeg:https://dresden-gruna.de/wp-content/uploads/2022/07/InShot_20220719_135909027.jpg
ORGANIZER;CN="'In Gruna leben' e.V.":MAILTO:post@dresden-gruna.de
END:VEVENT
BEGIN:VEVENT
DTSTART;TZID=Europe/Berlin:20220823T103000
DTEND;TZID=Europe/Berlin:20221011T113000
DTSTAMP:20260423T032442
CREATED:20220818T170205Z
LAST-MODIFIED:20220818T170205Z
UID:4120-1661250600-1665487800@dresden-gruna.de
SUMMARY:Europäische Mobilitätswoche: Senior Fit im Rothermundtpark
DESCRIPTION:Dienstags von 10.30 bis 11.30 Uhr Senior-Fit Gruna \nBleiben Sie fit und genießen Sie Bewegung an der frischen Luft. Erlernen Sie gemeinsam in der Gruppe vielfältige Übungen zur Kräftigung der Muskulatur und Verbesserung von Balance und Koordination. Bewegung unter freiem Himmel zusammen mit anderen macht Spaß\, dehnt und wärmt viele Muskelgruppen und lindert auch bestehende Beschwerden. \nEine Anmeldung ist nicht notwendig. Zum Kurs sind Sportkleidung und eine Trinkflasche erforderlich. Bei Regen und Sturm fallen die Kurse aus. \n\nTreffpunkt: Rothermundtpark\nVeranstalter: Amt für Gesundheit und Prävention der Landeshauptstadt Dresden\nTeilnahme kostenfrei\nWeitere Informationen unter Senior-Fit\n\nWeitere Informationen zur Mobilitätswoche unter: https://www.dresden.de/de/stadtraum/umwelt/umwelt/klima-und-energie/klimaschutz/aktuelles/mobilitaetswoche.php
URL:https://dresden-gruna.de/event/europaeische-mobilitaetswoche-senior-fit-im-rothermundtpark/
LOCATION:Rothermundtpark\, Dresden\, 01277\, Deutschland
END:VEVENT
BEGIN:VEVENT
DTSTART;TZID=Europe/Berlin:20220826T180000
DTEND;TZID=Europe/Berlin:20220826T200000
DTSTAMP:20260423T032442
CREATED:20220728T213747Z
LAST-MODIFIED:20220728T213747Z
UID:4043-1661536800-1661544000@dresden-gruna.de
SUMMARY:Garten-Aktion: Visionen gesucht!
DESCRIPTION:Statt die Hacke schwingen wir an diesem Abend den Stift! Zusammen wollen wir in gemütlicher Runde Ideen und Wünsche für den Garten sammeln.
URL:https://dresden-gruna.de/event/garten-aktion-visionen-gesucht-3/
LOCATION:Villa Akazienhof\, Schneebergstraße 16\, Schneebergstr. 16\, Dresden\, Sachsen\, 01277\, Deutschland
CATEGORIES:Akazienhof,Projekte und Aktionen
ATTACH;FMTTYPE=image/jpeg:https://dresden-gruna.de/wp-content/uploads/2022/07/InShot_20220719_135909027.jpg
ORGANIZER;CN="'In Gruna leben' e.V.":MAILTO:post@dresden-gruna.de
END:VEVENT
BEGIN:VEVENT
DTSTART;TZID=Europe/Berlin:20220830T100000
DTEND;TZID=Europe/Berlin:20220830T120000
DTSTAMP:20260423T032442
CREATED:20220818T170552Z
LAST-MODIFIED:20220818T170552Z
UID:4125-1661853600-1661860800@dresden-gruna.de
SUMMARY:1. Grunaer Frauenfrühstück
DESCRIPTION:  \nWann? Dienstag\, 30. August 2022 um 10 Uhr\nWo? Im Bürgertreff „Grunaer Aue“ Winterbergstraße 31c \nBringen Sie/bring du gern Ihre/deine Themen mit:\n• Was wollen Sie/willst du gern wissen?\n• Was wollen Sie/willst du gern gemeinsam mit anderen Frauen tun?\n• Welche Frauen-Themen interessieren Sie/dich? \nFür das leibliche Wohl sorgen wir und bitten dafür um eine kleine Spende.\nWir freuen uns auf Sie/dich – egal wie alt\, ob alleinlebend\, in Partnerschaft oder Familie – auf interessante Gespräche\, ein leckeres Frühstück\, auf eine gute gemeinsame Zeit! \nAnsprechpartnerin: Steffi Müller-Effenberger
URL:https://dresden-gruna.de/event/1-grunaer-frauenfruehstueck/
LOCATION:Bürger-Treff „Grunaer Aue“ Winterbergstr.31c\, 01277 Dresden\, Winterbergstraße 31c\, Dresden\, 01277\, Deutschland
ORGANIZER;CN="'In Gruna leben' e.V.":MAILTO:post@dresden-gruna.de
END:VEVENT
BEGIN:VEVENT
DTSTART;TZID=Europe/Berlin:20220830T180000
DTEND;TZID=Europe/Berlin:20220830T210000
DTSTAMP:20260423T032442
CREATED:20220728T214007Z
LAST-MODIFIED:20220728T214007Z
UID:4045-1661882400-1661893200@dresden-gruna.de
SUMMARY:Offener IGL e.V.-Treff
DESCRIPTION:Beim gemütlichen Grillen lädt der Stadtteilverein In Gruna leben e.V. zum Kennenlernen ein. (Getränke werden gestellt\, Grillzeug bitte selber mitbringen!)
URL:https://dresden-gruna.de/event/offener-igl-e-v-treff/
LOCATION:Villa Akazienhof\, Schneebergstraße 16\, Schneebergstr. 16\, Dresden\, Sachsen\, 01277\, Deutschland
CATEGORIES:Feste
ATTACH;FMTTYPE=image/jpeg:https://dresden-gruna.de/wp-content/uploads/2021/03/6450771E-8A77-4C68-B2E4-FDFB6B57A7F5.jpeg
ORGANIZER;CN="'In Gruna leben' e.V.":MAILTO:post@dresden-gruna.de
END:VEVENT
END:VCALENDAR