BEGIN:VCALENDAR
VERSION:2.0
PRODID:-//In Gruna leben e.V. - ECPv6.8.3//NONSGML v1.0//EN
CALSCALE:GREGORIAN
METHOD:PUBLISH
X-ORIGINAL-URL:https://dresden-gruna.de
X-WR-CALDESC:Veranstaltungen für In Gruna leben e.V.
REFRESH-INTERVAL;VALUE=DURATION:PT1H
X-Robots-Tag:noindex
X-PUBLISHED-TTL:PT1H
BEGIN:VTIMEZONE
TZID:Europe/Berlin
BEGIN:DAYLIGHT
TZOFFSETFROM:+0100
TZOFFSETTO:+0200
TZNAME:CEST
DTSTART:20220327T010000
END:DAYLIGHT
BEGIN:STANDARD
TZOFFSETFROM:+0200
TZOFFSETTO:+0100
TZNAME:CET
DTSTART:20221030T010000
END:STANDARD
END:VTIMEZONE
BEGIN:VEVENT
DTSTART;TZID=Europe/Berlin:20220708T170000
DTEND;TZID=Europe/Berlin:20220708T180000
DTSTAMP:20260423T050736
CREATED:20220728T214224Z
LAST-MODIFIED:20220728T214224Z
UID:4047-1657299600-1657303200@dresden-gruna.de
SUMMARY:Zeitzeugen-Treff
DESCRIPTION:Auf der Suche nach der Vergangenheit des Akazienhofes. Alle ehemaligen Kindergartenkinder und Hobby-Historiker:innen willkommen!
URL:https://dresden-gruna.de/event/zeitzeugen-treff-2/
LOCATION:Villa Akazienhof\, Schneebergstraße 16\, Schneebergstr. 16\, Dresden\, Sachsen\, 01277\, Deutschland
CATEGORIES:Akazienhof,Projekte und Aktionen
ATTACH;FMTTYPE=image/png:https://dresden-gruna.de/wp-content/uploads/2022/07/beitragsbild_akazienhof-min.png
ORGANIZER;CN="'In Gruna leben' e.V.":MAILTO:post@dresden-gruna.de
END:VEVENT
BEGIN:VEVENT
DTSTART;TZID=Europe/Berlin:20220712T180000
DTEND;TZID=Europe/Berlin:20220712T200000
DTSTAMP:20260423T050736
CREATED:20220707T155849Z
LAST-MODIFIED:20220707T155849Z
UID:3971-1657648800-1657656000@dresden-gruna.de
SUMMARY:Garten-Aktion
DESCRIPTION:Gemeinsam schuften und gemeinsam schlemmen! Im Anschluss ans Rumgärtnern im Garten laden wir alle Helfer:innen zum gemeinsamen Essen ein.
URL:https://dresden-gruna.de/event/garten-aktion/
LOCATION:Villa Akazienhof\, Schneebergstraße 16\, Schneebergstr. 16\, Dresden\, Sachsen\, 01277\, Deutschland
CATEGORIES:Akazienhof,Projekte und Aktionen
ATTACH;FMTTYPE=image/png:https://dresden-gruna.de/wp-content/uploads/2022/07/beitragsbild_akazienhof-min.png
ORGANIZER;CN="'In Gruna leben' e.V.":MAILTO:post@dresden-gruna.de
END:VEVENT
BEGIN:VEVENT
DTSTART;TZID=Europe/Berlin:20220713T193000
DTEND;TZID=Europe/Berlin:20220713T213000
DTSTAMP:20260423T050736
CREATED:20220711T231208Z
LAST-MODIFIED:20220711T231208Z
UID:4002-1657740600-1657747800@dresden-gruna.de
SUMMARY:Vollmondfeuer
DESCRIPTION:Wir feiern den größten und hellsten Vollmond des Jahres gemeinsam an der Feuerschale. Bringt gern nach Herzenslust Essen\, Trinken\, Instrumente oder Räucherwerk mit.
URL:https://dresden-gruna.de/event/vollmondfeuer/
LOCATION:Villa Akazienhof\, Schneebergstraße 16\, Schneebergstr. 16\, Dresden\, Sachsen\, 01277\, Deutschland
CATEGORIES:Akazienhof,Feste,Kultur am (4.) Mittwoch
ORGANIZER;CN="'In Gruna leben' e.V.":MAILTO:post@dresden-gruna.de
END:VEVENT
BEGIN:VEVENT
DTSTART;TZID=Europe/Berlin:20220715T170000
DTEND;TZID=Europe/Berlin:20220715T190000
DTSTAMP:20260423T050736
CREATED:20220707T161007Z
LAST-MODIFIED:20220707T161007Z
UID:3979-1657904400-1657911600@dresden-gruna.de
SUMMARY:Feuerschalen-Beieinander
DESCRIPTION:Gemütlich beisammen am Feuerchen quatschen über Gott\, die Welt und Gruna. Jede:r ist willkommen!
URL:https://dresden-gruna.de/event/feuerschalen-beieinander/
LOCATION:Villa Akazienhof\, Schneebergstraße 16\, Schneebergstr. 16\, Dresden\, Sachsen\, 01277\, Deutschland
CATEGORIES:Akazienhof,Projekte und Aktionen
ATTACH;FMTTYPE=image/png:https://dresden-gruna.de/wp-content/uploads/2022/07/beitragsbild_akazienhof-min.png
ORGANIZER;CN="'In Gruna leben' e.V.":MAILTO:post@dresden-gruna.de
END:VEVENT
BEGIN:VEVENT
DTSTART;TZID=Europe/Berlin:20220722T180000
DTEND;TZID=Europe/Berlin:20220722T200000
DTSTAMP:20260423T050736
CREATED:20220707T160659Z
LAST-MODIFIED:20220719T114447Z
UID:3975-1658512800-1658520000@dresden-gruna.de
SUMMARY:Garten-Aktion
DESCRIPTION:Gemeinsam schuften und gemeinsam schlemmen! Im Anschluss ans Rumgärtnern im Garten laden wir alle Helfer:innen zum gemeinsamen Essen ein.
URL:https://dresden-gruna.de/event/garten-aktion-2/
LOCATION:Villa Akazienhof\, Schneebergstraße 16\, Schneebergstr. 16\, Dresden\, Sachsen\, 01277\, Deutschland
CATEGORIES:Akazienhof,Projekte und Aktionen
ATTACH;FMTTYPE=image/png:https://dresden-gruna.de/wp-content/uploads/2022/07/beitragsbild_akazienhof-min.png
ORGANIZER;CN="'In Gruna leben' e.V.":MAILTO:post@dresden-gruna.de
END:VEVENT
BEGIN:VEVENT
DTSTART;TZID=Europe/Berlin:20220724T170000
DTEND;TZID=Europe/Berlin:20220724T190000
DTSTAMP:20260423T050736
CREATED:20220707T161119Z
LAST-MODIFIED:20220707T161119Z
UID:3981-1658682000-1658689200@dresden-gruna.de
SUMMARY:Feuerschalen-Beieinander
DESCRIPTION:Gemütlich beisammen am Feuerchen quatschen über Gott\, die Welt und Gruna. Jede:r ist willkommen!
URL:https://dresden-gruna.de/event/feuerschalen-beieinander-2/
LOCATION:Villa Akazienhof\, Schneebergstraße 16\, Schneebergstr. 16\, Dresden\, Sachsen\, 01277\, Deutschland
CATEGORIES:Akazienhof,Projekte und Aktionen
ATTACH;FMTTYPE=image/png:https://dresden-gruna.de/wp-content/uploads/2022/07/beitragsbild_akazienhof-min.png
ORGANIZER;CN="'In Gruna leben' e.V.":MAILTO:post@dresden-gruna.de
END:VEVENT
BEGIN:VEVENT
DTSTART;TZID=Europe/Berlin:20220725T170000
DTEND;TZID=Europe/Berlin:20220725T183000
DTSTAMP:20260423T050736
CREATED:20220707T161404Z
LAST-MODIFIED:20220707T161404Z
UID:3983-1658768400-1658773800@dresden-gruna.de
SUMMARY:Zeitzeugen-Treff
DESCRIPTION:Auf der Suche nach der Vergangenheit des Akazienhofes. Alle ehemaligen Kindergartenkinder und Hobby-Historiker:innen willkommen!
URL:https://dresden-gruna.de/event/zeitzeugen-treff/
LOCATION:Villa Akazienhof\, Schneebergstraße 16\, Schneebergstr. 16\, Dresden\, Sachsen\, 01277\, Deutschland
CATEGORIES:Akazienhof,Projekte und Aktionen
ATTACH;FMTTYPE=image/png:https://dresden-gruna.de/wp-content/uploads/2022/07/beitragsbild_akazienhof-min.png
ORGANIZER;CN="'In Gruna leben' e.V.":MAILTO:post@dresden-gruna.de
END:VEVENT
BEGIN:VEVENT
DTSTART;TZID=Europe/Berlin:20220726T180000
DTEND;TZID=Europe/Berlin:20220726T200000
DTSTAMP:20260423T050736
CREATED:20220707T160802Z
LAST-MODIFIED:20220707T160802Z
UID:3977-1658858400-1658865600@dresden-gruna.de
SUMMARY:Garten-Aktion
DESCRIPTION:Gemeinsam schuften und gemeinsam schlemmen! Im Anschluss ans Rumgärtnern im Garten laden wir alle Helfer:innen zum gemeinsamen Essen ein.
URL:https://dresden-gruna.de/event/garten-aktion-3/
LOCATION:Villa Akazienhof\, Schneebergstraße 16\, Schneebergstr. 16\, Dresden\, Sachsen\, 01277\, Deutschland
CATEGORIES:Akazienhof,Projekte und Aktionen
ATTACH;FMTTYPE=image/png:https://dresden-gruna.de/wp-content/uploads/2022/07/beitragsbild_akazienhof-min.png
ORGANIZER;CN="'In Gruna leben' e.V.":MAILTO:post@dresden-gruna.de
END:VEVENT
BEGIN:VEVENT
DTSTART;TZID=Europe/Berlin:20220728T200000
DTEND;TZID=Europe/Berlin:20220728T220000
DTSTAMP:20260423T050736
CREATED:20220707T161627Z
LAST-MODIFIED:20220707T161627Z
UID:3985-1659038400-1659045600@dresden-gruna.de
SUMMARY:Gruna kocht! // Nachbarschafts-Picknick
DESCRIPTION:Ihr seid alle herzlich eingeladen\, an unserem „Mitbring-Abendessen“ am 28. Juli ab 20:00 an der Villa Akazienhof teilzunehmen – und bringt gerne eure Freund*innen\, Familienmitglieder und Bekannte mit 🙂 \nDas Team um Gruna kocht! wird eine Auswahl belegter Brötchen vorbereiten. Wenn ihr dabei helfen wollt\, meldet euch gerne per Mail an post@dresden-gruna.de 🙂
URL:https://dresden-gruna.de/event/gruna-kocht-nachbarschafts-picknick/
LOCATION:Villa Akazienhof\, Schneebergstraße 16\, Schneebergstr. 16\, Dresden\, Sachsen\, 01277\, Deutschland
CATEGORIES:Gruna kocht!,Projekte und Aktionen
ATTACH;FMTTYPE=image/jpeg:https://dresden-gruna.de/wp-content/uploads/2022/05/72acaddd-936c-44af-be3a-4ade2002a3f0.jpg
ORGANIZER;CN="'In Gruna leben' e.V.":MAILTO:post@dresden-gruna.de
END:VEVENT
BEGIN:VEVENT
DTSTART;TZID=Europe/Berlin:20220731T160000
DTEND;TZID=Europe/Berlin:20220731T220000
DTSTAMP:20260423T050736
CREATED:20220707T161815Z
LAST-MODIFIED:20220726T142630Z
UID:3987-1659283200-1659304800@dresden-gruna.de
SUMMARY:Eröffnung des Nachbarschaftsgartens!
DESCRIPTION:Gemeinsam mit Euch wollen wir offiziell den Nachbarschaftsgarten in Gruna eröffnen. Alle Nachbar:innen und Unterstützer:innen sind herzlichst eingeladen\, den Abend im Garten der Villa Akazienhof bei Speis\, Trank und Musik zu verbringen. \nWir freuen uns auf euch! 🙂
URL:https://dresden-gruna.de/event/eroeffnung-des-nachbarschaftsgartens/
LOCATION:Villa Akazienhof\, Schneebergstraße 16\, Schneebergstr. 16\, Dresden\, Sachsen\, 01277\, Deutschland
CATEGORIES:Akazienhof,Feste
ATTACH;FMTTYPE=image/png:https://dresden-gruna.de/wp-content/uploads/2022/07/Handzettel-Eroeffnung-Akazienhof.png
ORGANIZER;CN="'In Gruna leben' e.V.":MAILTO:post@dresden-gruna.de
END:VEVENT
END:VCALENDAR