BEGIN:VCALENDAR
VERSION:2.0
PRODID:-//In Gruna leben e.V. - ECPv6.8.3//NONSGML v1.0//EN
CALSCALE:GREGORIAN
METHOD:PUBLISH
X-ORIGINAL-URL:https://dresden-gruna.de
X-WR-CALDESC:Veranstaltungen für In Gruna leben e.V.
REFRESH-INTERVAL;VALUE=DURATION:PT1H
X-Robots-Tag:noindex
X-PUBLISHED-TTL:PT1H
BEGIN:VTIMEZONE
TZID:Europe/Berlin
BEGIN:DAYLIGHT
TZOFFSETFROM:+0100
TZOFFSETTO:+0200
TZNAME:CEST
DTSTART:20220327T010000
END:DAYLIGHT
BEGIN:STANDARD
TZOFFSETFROM:+0200
TZOFFSETTO:+0100
TZNAME:CET
DTSTART:20221030T010000
END:STANDARD
END:VTIMEZONE
BEGIN:VEVENT
DTSTART;TZID=Europe/Berlin:20220609T140000
DTEND;TZID=Europe/Berlin:20220611T180000
DTSTAMP:20260423T063922
CREATED:20220530T221716Z
LAST-MODIFIED:20220530T221716Z
UID:3916-1654783200-1654970400@dresden-gruna.de
SUMMARY:Kinderliteraturfestival
DESCRIPTION:Die große Festivaleröffnung vom Kinderliteraturfestival findet am 9.Juni\, um 14 Uhr\, in der  Bibliothek Gruna statt.\nGast ist Kai Pannen mit „Rumba Summba“.\nOle Könnecke und Johannes Till mit „Dulcinea im Zauberwald“ kommt um 16:30 Uhr in die Bibliothek Gruna.\nEin  vielfältiges Programm zwischen den beiden Veranstaltungen erwartet die Kinder .Wie z.B. Kamishibai\, Bilderbuchkino\, Kinderbuchhelden zeichnen\, Quiz und vieles mehr.
URL:https://dresden-gruna.de/event/kinderliteraturfestival/
LOCATION:Bibliothek Gruna\, Papdtdorfer Str. 13\, Dresden\, 01277\, Deutschland
CATEGORIES:Feste,Projekte und Aktionen
ATTACH;FMTTYPE=image/jpeg:https://dresden-gruna.de/wp-content/uploads/2022/05/Graffiti.jpg
ORGANIZER;CN="Bibliothek Gruna":MAILTO:gruna@bibo-dresden.de
END:VEVENT
BEGIN:VEVENT
DTSTART;TZID=Europe/Berlin:20220618T150000
DTEND;TZID=Europe/Berlin:20220618T180000
DTSTAMP:20260423T063922
CREATED:20220105T094037Z
LAST-MODIFIED:20220105T100048Z
UID:3702-1655564400-1655575200@dresden-gruna.de
SUMMARY:Familien-Sommerfest
DESCRIPTION:Das Familienzentrum Pauline lädt Familien und Anwohner zu einem kleinen Sommerfest ein. \nFür unsere Feste halten wir allerlei unterhaltsame Dinge wie Hüpfburg\, Spiele und Basteleien und natürlich Schmackhaftes zum Kaffee und zum Snacken bereit.
URL:https://dresden-gruna.de/event/sommerfest/
LOCATION:Familienzentrum Pauline\, Papstdorfer Straße 41\, Dresden\, 01277\, Deutschland
ORGANIZER;CN="Familienzentrum Pauline":MAILTO:familienzentrum@pauline-dresden.de
END:VEVENT
BEGIN:VEVENT
DTSTART;TZID=Europe/Berlin:20220630T170000
DTEND;TZID=Europe/Berlin:20220630T170000
DTSTAMP:20260423T063922
CREATED:20220411T213427Z
LAST-MODIFIED:20220411T213434Z
UID:3841-1656608400-1656608400@dresden-gruna.de
SUMMARY:Gründungsveranstaltung "Team Kanal Gruna"
DESCRIPTION:Für das Projekt Film im Kanal Gruna werden interessierte Mitmacherinnen und Mitmacher gesucht. \nVorkenntnisse sind von Vorteil\, jedoch nicht erforderlich. Geplant sind Filme in und um Dresden-Gruna. Weitere Informationen auf www.ddigl.de oder einfach mal auf den Kanal Gruna reinschauen. \nBei Interesse bitten wir um eine Mail an hcs@ddigl.de zur Anmeldung für die Informations- und Gründungsveranstaltung des Teams IGL Media am 30. Juni 2022 ab 17 Uhr
URL:https://dresden-gruna.de/event/gruendungsveranstaltung-team-kanal-gruna/
LOCATION:Bürger-Treff „Grunaer Aue“ Winterbergstr.31c\, 01277 Dresden\, Winterbergstraße 31c\, Dresden\, 01277\, Deutschland
CATEGORIES:Planungs- und Absprachetreffen,Projekte und Aktionen
ORGANIZER;CN="'In Gruna leben' e.V.":MAILTO:post@dresden-gruna.de
END:VEVENT
END:VCALENDAR