BEGIN:VCALENDAR
VERSION:2.0
PRODID:-//In Gruna leben e.V. - ECPv6.8.3//NONSGML v1.0//EN
CALSCALE:GREGORIAN
METHOD:PUBLISH
X-ORIGINAL-URL:https://dresden-gruna.de
X-WR-CALDESC:Veranstaltungen für In Gruna leben e.V.
REFRESH-INTERVAL;VALUE=DURATION:PT1H
X-Robots-Tag:noindex
X-PUBLISHED-TTL:PT1H
BEGIN:VTIMEZONE
TZID:Europe/Berlin
BEGIN:DAYLIGHT
TZOFFSETFROM:+0100
TZOFFSETTO:+0200
TZNAME:CEST
DTSTART:20220327T010000
END:DAYLIGHT
BEGIN:STANDARD
TZOFFSETFROM:+0200
TZOFFSETTO:+0100
TZNAME:CET
DTSTART:20221030T010000
END:STANDARD
END:VTIMEZONE
BEGIN:VEVENT
DTSTART;TZID=Europe/Berlin:20220507T150000
DTEND;TZID=Europe/Berlin:20220507T150000
DTSTAMP:20260423T081210
CREATED:20220426T214300Z
LAST-MODIFIED:20220426T214300Z
UID:3871-1651935600-1651935600@dresden-gruna.de
SUMMARY:Jane's Walk: Fuß\, Hand und Kopf – die Trinität der Schöpferkraft
DESCRIPTION:Mit einem Malblatt und Stiften\, offenen Augen und Ohren von Gruna zur Gartenstadt Striesen – im Rahmen des Beteiligungsprojekts „Die Eine & die Andere“ in Annäherung an das Leben der Künstlerinnen Elfriede Lohse-Wächtler und Etha Richter \nWir starten vor der ehemaligen Villa Akazienhof\, Schneebergstraße 16\, wo seit März 2022 Grunaer Nachbarn das brach liegende Grundstück mit Kreativität und Phantasie wieder beleben. Weiter geht es zu den Stolpersteinen für Clara und Eva Weiss auf der Schlüterstr. 22b (s. „Stolpersteine für Dresden e.V.“ – http://stolpersteine-dresden.de/). Von dort aus bewegen wir uns dann westwärts über den Hepkeplatz in die Gartenstadt Striesen. In diesem neuen Wohnviertel stoßen wir auf Straßen\, die nach Elfriede Lohse-Wächtler und Etha Richter benannt sind. Das Leben dieser beiden Frauen vor 100 Jahren ist Anlass zum Austausch über menschliches Kreativsein. Beim Flanieren durch die Striesener Gartenstadt erinnern wir uns des Schicksals und der unbändigen Schöpferkraft der beiden Künstlerinnen in dunkler Zeit und unter den Bedingungen des nationalsozialistischen Rassenwahns. Ein interessantes Detail auf einem Foto mit Elfriede Lohse-Wächtler von 1929 bietet auf einem Malblatt mit den Fragen: „Was ist denn da?“ und „Was macht mich kreativ?“ zum Abschluss gleich die Anregung zum eigenen Tätigwerden. Viele Sitzgelegenheiten in den Grünanlagen der Gartenstadt laden ein\, Platz zu nehmen. (Eigene Lieblingsstifte können gern mitgebracht werden.)
URL:https://dresden-gruna.de/event/janes-walk-fuss-hand-und-kopf-die-trinitaet-der-schoepferkraft/
LOCATION:Villa Akazienhof\, Schneebergstraße 16\, Schneebergstr. 16\, Dresden\, Sachsen\, 01277\, Deutschland
CATEGORIES:Historische Rundgänge,Jane's Walks in Gruna,Projekte und Aktionen
ORGANIZER;CN="Sigus e.V.":MAILTO:sigus-dd@t-online.de
END:VEVENT
BEGIN:VEVENT
DTSTART;TZID=Europe/Berlin:20220509T150000
DTEND;TZID=Europe/Berlin:20220509T170000
DTSTAMP:20260423T081210
CREATED:20220504T153514Z
LAST-MODIFIED:20220504T153514Z
UID:3875-1652108400-1652115600@dresden-gruna.de
SUMMARY:Vogelbeobachtungstour
DESCRIPTION:Alle Vögel sind schon da… ? \nBei der Vogelbeobachtungstour im Garten der Villa Akazienhof kann man die heimischen Stadtvögel auf eine neue Art kennenlernen! Gemeinsam mit dem Jugend-Öko-Haus entdecken wir die wilde Seite Grunas.
URL:https://dresden-gruna.de/event/vogelbeobachtungstour/
LOCATION:Villa Akazienhof\, Schneebergstraße 16\, Schneebergstr. 16\, Dresden\, Sachsen\, 01277\, Deutschland
CATEGORIES:Projekte und Aktionen
ATTACH;FMTTYPE=image/jpeg:https://dresden-gruna.de/wp-content/uploads/2022/05/Vogelbeobachtungstour_Plakat-scaled.jpg
ORGANIZER;CN="'In Gruna leben' e.V.":MAILTO:post@dresden-gruna.de
END:VEVENT
BEGIN:VEVENT
DTSTART;VALUE=DATE:20220521
DTEND;VALUE=DATE:20220523
DTSTAMP:20260423T081210
CREATED:20220421T220300Z
LAST-MODIFIED:20220421T220354Z
UID:3859-1653091200-1653263999@dresden-gruna.de
SUMMARY:Beilstraßenfest
DESCRIPTION:Am 22. Mai 2022 jährt sich zum 200. Mal der Geburtstag der Namensgeberin der Beilstraße\, Stifterin der Thomaskirche und Grunaer Wohltäterin Eva Rosine Beil.\nDie Nachbarschaft der Straße nimmt das Jubiläum zum Anlass für ein halb privates\, halb öffentliches Fest der Anwohnerinnen und Anwohner in Gärten und Höfen sowie auf der Straße. Die Grunaer Nachbarschaft ist zu folgende Aktivitäten auf dem Festgelände – der zwischen Bodenbacher und Herkulessstr. gesperrten Beilstraße – herzlich willkommen:\n21.05.: 17.00 – 18.30 Uhr: Folktanz für alle! mit Tanzanleiter Jörg Becker\n21.05.: 19.00 – 20.00 Uhr: Musik mit der Schülerband des Vitzthum-Gymnasiums\n21.05.: 21.00 – 23.00 Uhr: Musik mit aBallaró\n22.05.: 11.00 – 16.00 Uhr: Kinderspaß mit historischem Kinderkettenkarusell\n22.05.: 14.30 – 16.30 Uhr: Stadtteilführung durch Dresden Gruna mit Stadtführer Conrad Richter und Kunsthistorikerin Cornelia Reimann\nAchtung: Es gibt vor Ort keine öffentlichen Toiletten\, da es sich um ein Anwohnerfest handelt!
URL:https://dresden-gruna.de/event/beilstrassenfest/
LOCATION:Beilstraße 20
CATEGORIES:Feste,Historische Rundgänge,Projekte und Aktionen
ATTACH;FMTTYPE=image/png:https://dresden-gruna.de/wp-content/uploads/2022/04/Bild_IGL-Seite.png
ORGANIZER;CN="Anwohner der Beilstra%C3%9Fe":MAILTO:rosine.beil@gmx.de
END:VEVENT
END:VCALENDAR