BEGIN:VCALENDAR
VERSION:2.0
PRODID:-//In Gruna leben e.V. - ECPv6.8.3//NONSGML v1.0//EN
CALSCALE:GREGORIAN
METHOD:PUBLISH
X-ORIGINAL-URL:https://dresden-gruna.de
X-WR-CALDESC:Veranstaltungen für In Gruna leben e.V.
REFRESH-INTERVAL;VALUE=DURATION:PT1H
X-Robots-Tag:noindex
X-PUBLISHED-TTL:PT1H
BEGIN:VTIMEZONE
TZID:Europe/Berlin
BEGIN:DAYLIGHT
TZOFFSETFROM:+0100
TZOFFSETTO:+0200
TZNAME:CEST
DTSTART:20220327T010000
END:DAYLIGHT
BEGIN:STANDARD
TZOFFSETFROM:+0200
TZOFFSETTO:+0100
TZNAME:CET
DTSTART:20221030T010000
END:STANDARD
END:VTIMEZONE
BEGIN:VEVENT
DTSTART;TZID=Europe/Berlin:20220402T150000
DTEND;TZID=Europe/Berlin:20220402T170000
DTSTAMP:20260423T094431
CREATED:20220311T132055Z
LAST-MODIFIED:20220320T231008Z
UID:3769-1648911600-1648918800@dresden-gruna.de
SUMMARY:Auftakttreffen Akazienhof mit Mitbringpicknick
DESCRIPTION:Der Garten der „Villa Akazienhof“ (ehemaliger Kinderdergarten Schneebergstraße 16) soll in diesem Jahr temporär für nachbarschaftliche Aktionen und Veranstaltungen genutzt werden. \nNach dem Tag der offenen Tür im Oktober lädt die IGL nun alle Interessierten zu einem Picknick dort ein. \nAm Sonnabend\, den 2.4. von 15 bis 17 Uhr können wir gemeinsam schwatzen\, Ideen spinnen\, planen und von mitgebrachte Snacks teilen. \nNäheres zum Projekt Akazienhof-Garten steht -> hier!
URL:https://dresden-gruna.de/event/auftakttreffen-akazienhof-mit-mitbringpicknick/
LOCATION:Villa Akazienhof\, Schneebergstraße 16\, Schneebergstr. 16\, Dresden\, Sachsen\, 01277\, Deutschland
CATEGORIES:Feste,Planungs- und Absprachetreffen,Projekte und Aktionen
ATTACH;FMTTYPE=image/gif:https://dresden-gruna.de/wp-content/uploads/2022/03/Akazienhof-Google-Streetview.gif
ORGANIZER;CN="'In Gruna leben' e.V.":MAILTO:post@dresden-gruna.de
END:VEVENT
BEGIN:VEVENT
DTSTART;TZID=Europe/Berlin:20220403T100000
DTEND;TZID=Europe/Berlin:20220403T130000
DTSTAMP:20260423T094431
CREATED:20220105T095551Z
LAST-MODIFIED:20220105T095551Z
UID:3711-1648980000-1648990800@dresden-gruna.de
SUMMARY:Frühjahrs-Flohmarkt
DESCRIPTION:Auf unseren Flohmärkten können Sie Kinderkleidung\, Spielwaren und vieles andere preiswert kaufen und verkaufen. Es wird auch einen kleinen Verkauf von Kaffee\, Tee und Kuchen geben. \nWeitere Informationen gibt es hier: https://pauline-dresden.de/weiteres/flohmarkt
URL:https://dresden-gruna.de/event/fruehjahrs-flohmarkt/
LOCATION:Familienzentrum Pauline\, Papstdorfer Straße 41\, Dresden\, 01277\, Deutschland
ORGANIZER;CN="Familienzentrum Pauline":MAILTO:familienzentrum@pauline-dresden.de
END:VEVENT
BEGIN:VEVENT
DTSTART;TZID=Europe/Berlin:20220413T100000
DTEND;TZID=Europe/Berlin:20220413T120000
DTSTAMP:20260423T094431
CREATED:20220314T014710Z
LAST-MODIFIED:20220314T014710Z
UID:3788-1649844000-1649851200@dresden-gruna.de
SUMMARY:Grunaer Stadtteilrunde
DESCRIPTION:Die Grunaer Stadtteilrunde trifft sich alle 1-2 Monate um aktuelle Themen zu besprechen und institutionsübergreifende Dinge zu planen. Dabei sind Vereine\, soziale Träger\, religiöse Gemeinschaften\, stätzische Einrichtungen\, …\nTreff ist im Garten der Vialla Akazienhof. Sollte das z.B. aus Witerungsgründen nicht klappen\, sind wir im fidelio.
URL:https://dresden-gruna.de/event/grunaer-stadtteilrunde/
LOCATION:Villa Akazienhof\, Schneebergstraße 16\, Schneebergstr. 16\, Dresden\, Sachsen\, 01277\, Deutschland
CATEGORIES:Planungs- und Absprachetreffen
ORGANIZER;CN="'In Gruna leben' e.V.":MAILTO:post@dresden-gruna.de
END:VEVENT
BEGIN:VEVENT
DTSTART;TZID=Europe/Berlin:20220423T140000
DTEND;TZID=Europe/Berlin:20220423T180000
DTSTAMP:20260423T094431
CREATED:20220319T004850Z
LAST-MODIFIED:20220319T004850Z
UID:3800-1650722400-1650736800@dresden-gruna.de
SUMMARY:Mitgliederversammlung und Leitbild-Gespräch
DESCRIPTION:Die „ordentliche Mitgliederversammlung“ der IGL steht an. Verbinden wollen wir diesen doch eher formalen Akt mit einem intensiven Gespräch über unser 2020 verfasstest Leitbild. Wir schauen was unsere Ziele und Pläne waren\, ob sich etwas geändert hat und ob wir uns\, undere Arbeit oder das Leitbild erweitern oder verändern sollten.
URL:https://dresden-gruna.de/event/mitgliederversammlung-und-leitbild-gespraech/
LOCATION:Bürger-Treff „Grunaer Aue“ Winterbergstr.31c\, 01277 Dresden\, Winterbergstraße 31c\, Dresden\, 01277\, Deutschland
CATEGORIES:Planungs- und Absprachetreffen
ATTACH;FMTTYPE=image/jpeg:https://dresden-gruna.de/wp-content/uploads/2018/04/meeting.jpg
ORGANIZER;CN="'In Gruna leben' e.V.":MAILTO:post@dresden-gruna.de
END:VEVENT
END:VCALENDAR