BEGIN:VCALENDAR
VERSION:2.0
PRODID:-//In Gruna leben e.V. - ECPv6.8.3//NONSGML v1.0//EN
CALSCALE:GREGORIAN
METHOD:PUBLISH
X-ORIGINAL-URL:https://dresden-gruna.de
X-WR-CALDESC:Veranstaltungen für In Gruna leben e.V.
REFRESH-INTERVAL;VALUE=DURATION:PT1H
X-Robots-Tag:noindex
X-PUBLISHED-TTL:PT1H
BEGIN:VTIMEZONE
TZID:Europe/Berlin
BEGIN:DAYLIGHT
TZOFFSETFROM:+0100
TZOFFSETTO:+0200
TZNAME:CEST
DTSTART:20220327T010000
END:DAYLIGHT
BEGIN:STANDARD
TZOFFSETFROM:+0200
TZOFFSETTO:+0100
TZNAME:CET
DTSTART:20221030T010000
END:STANDARD
END:VTIMEZONE
BEGIN:VEVENT
DTSTART;TZID=Europe/Berlin:20220330T180000
DTEND;TZID=Europe/Berlin:20220330T180000
DTSTAMP:20260423T111359
CREATED:20220323T225728Z
LAST-MODIFIED:20220323T230234Z
UID:3807-1648663200-1648663200@dresden-gruna.de
SUMMARY:Vernissage:  „Stadtansichten von Dresden“ von Karlheinz Becker
DESCRIPTION:Endlich ist es wieder soweit: im Bürgertreff „Grunaer Aue“ in der Winterbergstraße 31c sind neue Bilder zu besichtigen. Es handelt sich um „Stadtansichten von Dresden“ von Karlheinz Becker\, musikalisch umrahmt durch Noam Baltrusch (Horn) und Tara Müller (Klavier). \nWir laden herzlich ein zur Vernissage am Mittwoch\, dem 30. März 2022 um 18 Uhr. \nEs wird eine kleine Einführung in die Ausstellung geben und im Anschluss besteht\, wie immer die Möglichkeit\, mit dem Maler (und natürlich auch miteinander) ins Gespräch zu kommen. \nDie Veranstaltung findet unter Beachtung der aktuell geltenden Hygienebestimmungen statt. \nWir bitten um Anmeldung unter 0351 263218 oder 0351 2523325. \nWir freuen uns auf interessante Ansichten und Gespräche.
URL:https://dresden-gruna.de/event/vernissage-stadtansichten-von-dresden-von-karlheinz-becker/
LOCATION:Bürger-Treff „Grunaer Aue“ Winterbergstr.31c\, 01277 Dresden\, Winterbergstraße 31c\, Dresden\, 01277\, Deutschland
CATEGORIES:Kultur am (4.) Mittwoch,Projekte und Aktionen
ATTACH;FMTTYPE=image/gif:https://dresden-gruna.de/wp-content/uploads/2022/03/karlheinz-becker.gif
ORGANIZER;CN="'In Gruna leben' e.V.":MAILTO:post@dresden-gruna.de
END:VEVENT
END:VCALENDAR