BEGIN:VCALENDAR
VERSION:2.0
PRODID:-//In Gruna leben e.V. - ECPv6.8.3//NONSGML v1.0//EN
CALSCALE:GREGORIAN
METHOD:PUBLISH
X-ORIGINAL-URL:https://dresden-gruna.de
X-WR-CALDESC:Veranstaltungen für In Gruna leben e.V.
REFRESH-INTERVAL;VALUE=DURATION:PT1H
X-Robots-Tag:noindex
X-PUBLISHED-TTL:PT1H
BEGIN:VTIMEZONE
TZID:Europe/Berlin
BEGIN:DAYLIGHT
TZOFFSETFROM:+0100
TZOFFSETTO:+0200
TZNAME:CEST
DTSTART:20210328T010000
END:DAYLIGHT
BEGIN:STANDARD
TZOFFSETFROM:+0200
TZOFFSETTO:+0100
TZNAME:CET
DTSTART:20211031T010000
END:STANDARD
END:VTIMEZONE
BEGIN:VEVENT
DTSTART;VALUE=DATE:20210413
DTEND;VALUE=DATE:20210614
DTSTAMP:20260424T025607
CREATED:20210412T235602Z
LAST-MODIFIED:20210529T234524Z
UID:3303-1618272000-1623628799@dresden-gruna.de
SUMMARY:Onlinebefragung zu Altgruna
DESCRIPTION:Das Stadtplanungsamt macht eine Online-Umfrage zu Altgruna:\nhttps://www.dresden.de/de/stadtraum/planen/stadtentwicklung/weitere-beteiligungsmoeglichkeiten/altgruna.php
URL:https://dresden-gruna.de/event/onlinebefragung-zu-altgruna/
CATEGORIES:Projekte und Aktionen
ORGANIZER;CN="'In Gruna leben' e.V.":MAILTO:post@dresden-gruna.de
END:VEVENT
BEGIN:VEVENT
DTSTART;TZID=Europe/Berlin:20210602T150000
DTEND;TZID=Europe/Berlin:20210602T150000
DTSTAMP:20260424T025607
CREATED:20210529T234256Z
LAST-MODIFIED:20210529T234256Z
UID:3354-1622646000-1622646000@dresden-gruna.de
SUMMARY:Spaziergang: Die Papsdorfer Str. als Flaniermeile inkl. Wohnhof – revitalisieren?
DESCRIPTION:Treff am „fidelio“\nRoute: Entlang der Papstdorfer Str. bis zur Rosenbergstr. mit Begehung Innenhof\nThema: Strahlt die Papstdorfer Str. Erlebnisqualität aus oder wird sie nur funktional\nempfunden? Können die Grünen Wohnhöfe des „Aktivistenviertels “als Vorbild für den heute eher abweisenden Innenhof zwischen Papstdorfer Str. und Rothermundstr dienen.?\nGastgeber*innen: Jana Baumgart (Begegnungsstätte „fidelio“) und Peter Müller (AG Stadtteilentwicklung in der IGL\, WGA (angefragt)
URL:https://dresden-gruna.de/event/spaziergang-die-papsdorfer-str-als-flaniermeile-inkl-wohnhof-revitalisieren/
LOCATION:fidelio\, Papstdorfer Str. 25\, Dresden\, 01277\, Deutschland
CATEGORIES:Projekte und Aktionen
ORGANIZER;CN="'In Gruna leben' e.V.":MAILTO:post@dresden-gruna.de
END:VEVENT
BEGIN:VEVENT
DTSTART;TZID=Europe/Berlin:20210604T170000
DTEND;TZID=Europe/Berlin:20210604T170000
DTSTAMP:20260424T025607
CREATED:20210529T234506Z
LAST-MODIFIED:20210529T234506Z
UID:3356-1622826000-1622826000@dresden-gruna.de
SUMMARY:Spaziergang: Die Grüne Wiese – vom Verschwinden der Geschichte unter einer Straßenkreuzung?
DESCRIPTION:Treff vor dem Pflegeheim Elbwiesenhof\nRoute: vom historisch erster Standort der „Grünen Wiese“\, bis zur Trauerweide\nDer Weg führt über den Parkplatz an der Kreuzung Bodenbacher\nStr./Zwinglistr./Rothermundtstr. (Standort der „Grünen Wiese“ bis 1945) und dann zu einem evtl. künftigen Standort für die „Grüne Wiese“ an der Einmündung der Stübelallee in die Zwinglistr.\nGastgeber*innen: Gudrun Böhmig\, Peter Müller (beide AG Stadtteilgeschichte)\, Helmut\nPruggmayer (ev.-luth. Kirchgemeinde Gruna-Seidnitz)
URL:https://dresden-gruna.de/event/spaziergang-die-gruene-wiese-vom-verschwinden-der-geschichte-unter-einer-strassenkreuzung/
LOCATION:Elbwiesenhof\, Bodenbacher Str. 47\, Dresden\, 01277\, Deutschland
CATEGORIES:Projekte und Aktionen
ORGANIZER;CN="'In Gruna leben' e.V.":MAILTO:post@dresden-gruna.de
END:VEVENT
BEGIN:VEVENT
DTSTART;TZID=Europe/Berlin:20210605T160000
DTEND;TZID=Europe/Berlin:20210605T160000
DTSTAMP:20260424T025607
CREATED:20210529T235505Z
LAST-MODIFIED:20210529T235505Z
UID:3368-1622908800-1622908800@dresden-gruna.de
SUMMARY:Spaziergang: Gruna wird's nicht!?
DESCRIPTION:Treff: Findlingsbrunnen\nRoute: Brunnen – Papstdorfer Straße – Rothermundtpark – Landgraben – Frauensteiner Platz\nThema: Von Biodiversität bis Kaltluftschneise – Ist Gruna noch die „grüne Aue“? Wir thematisieren das Stadtgrün\, seine Bedeutung\, Entwicklung sowie die heutigen und künftigen Ansprüche daran.\nGastgeber*innen: Carsten\, Peter Rausendorf („In Gruna leben“ e.V.)
URL:https://dresden-gruna.de/event/spaziergang-gruna-wirds-nicht/
LOCATION:Findlingsbrunnen\, 2QMP+M5 Dresden\, Dresden\, 01277\, Deutschland
CATEGORIES:Projekte und Aktionen
ORGANIZER;CN="'In Gruna leben' e.V.":MAILTO:post@dresden-gruna.de
END:VEVENT
BEGIN:VEVENT
DTSTART;TZID=Europe/Berlin:20210607T170000
DTEND;TZID=Europe/Berlin:20210607T170000
DTSTAMP:20260424T025607
CREATED:20210529T235649Z
LAST-MODIFIED:20210529T235649Z
UID:3370-1623085200-1623085200@dresden-gruna.de
SUMMARY:Spaziergang: Sicherheit und Verantwortung
DESCRIPTION:Treff: Findlingsbrunnen\nRoute: quer durch Gruna\nThema: Unfall\, Diebstahl\, Ruhestörung – was sind die Brennpunkte Grunas aus Sicht der Bürger und aus Sicht der Polizei. Was sind die Möglichkeiten und wer sind die (richtigen) Ansprechpartner für jeden einzeln und für uns als Gemeinschaft?\nGastgeber: Carsten („In Gruna leben“ e.V.)\, Herr Füssel (Bürgerpolizist)
URL:https://dresden-gruna.de/event/spaziergang-sicherheit-und-verantwortung/
LOCATION:Findlingsbrunnen\, 2QMP+M5 Dresden\, Dresden\, 01277\, Deutschland
CATEGORIES:Projekte und Aktionen
ORGANIZER;CN="'In Gruna leben' e.V.":MAILTO:post@dresden-gruna.de
END:VEVENT
BEGIN:VEVENT
DTSTART;TZID=Europe/Berlin:20210609T100000
DTEND;TZID=Europe/Berlin:20210609T100000
DTSTAMP:20260424T025607
CREATED:20210529T235320Z
LAST-MODIFIED:20210529T235320Z
UID:3366-1623232800-1623232800@dresden-gruna.de
SUMMARY:Spaziergang: Gruna von Eltern für Eltern
DESCRIPTION:Treff: Eltern-Kind-Büro\nRoute: wird den Interessen und Bedürfnissen der Eltern angepasst\nThema: Bei einem gemeinsamen Spaziergang entdecken wir die schönsten Plätze und wichtige Anlaufstellen für junge Familien.\nGastgeber*innen: Carsten („In Gruna leben“ e.V.)\, Marianne Irmer (Eltern-Kind-Büro)
URL:https://dresden-gruna.de/event/spaziergang-gruna-von-eltern-fuer-eltern/
LOCATION:Eltern-Kind-Büro\, Rosenbergstr. 10\, Dresden\, 01277\, Deutschland
CATEGORIES:Projekte und Aktionen
END:VEVENT
BEGIN:VEVENT
DTSTART;TZID=Europe/Berlin:20210611T170000
DTEND;TZID=Europe/Berlin:20210611T170000
DTSTAMP:20260424T025607
CREATED:20210529T234645Z
LAST-MODIFIED:20210529T234645Z
UID:3358-1623430800-1623430800@dresden-gruna.de
SUMMARY:Spaziergang: Das Erbe Rosenbergs\, die Villa Akazienhof in der Schneebergstr. 16
DESCRIPTION:Treff: am Findlingsbrunnen\nRoute: Über die Rosenbergstr.\, vorbei an den Kitas zur Junghansstr.\, zur Schrammsteinstr. und Schlüterstr. zurück\nThema: Die Villa Schneebergstr. 16 ist dem Verfall preis gegeben? Nein\, wir entwickeln Ideen und tauschen unsere Eindrücke aus rund um dieses im Stadtteilbuch mehrfach erwähnte Grundstück.\nGastgeber*innen: Iris Gleichmann(Stadtplanerin und Architektin) und Peter Müller(AG Stadtteilentwicklung\nin der IGL)
URL:https://dresden-gruna.de/event/spaziergang-das-erbe-rosenbergs-die-villa-akazienhof-in-der-schneebergstr-16/
LOCATION:Findlingsbrunnen\, 2QMP+M5 Dresden\, Dresden\, 01277\, Deutschland
CATEGORIES:Projekte und Aktionen
ORGANIZER;CN="'In Gruna leben' e.V.":MAILTO:post@dresden-gruna.de
END:VEVENT
BEGIN:VEVENT
DTSTART;TZID=Europe/Berlin:20210614T160000
DTEND;TZID=Europe/Berlin:20210614T160000
DTSTAMP:20260424T025607
CREATED:20210529T234859Z
LAST-MODIFIED:20210529T234859Z
UID:3360-1623686400-1623686400@dresden-gruna.de
SUMMARY:Spaziergang: Zwinglistraße und Schneebergstraße - Wegeverbindungen im Alltag
DESCRIPTION:Treff: stadtauswärtige Haltestelle Schneebergstraße der Linien 61\, 64 und 85\nRoute: Schneebergstraße – Cominiusstraße – Zwinglistraße\nThema: Entlang der Nord-Süd-Magistrale in Gruna blicken wir auf das Mit- und Gegeneinander der verschiedenen Verkehrsteilnehmer. Ein Schwerpunkt sind vorhandene Barrieren\, Stolperfallen\, Gefahrenbereiche aber auch gelungene Kreuzungssituationen über Straßen und Straßenbahngleise.\nGastgeber*innen: Jara Marder („In Gruna leben“ e.V.)\, Marion Herrmann („In Gruna leben“ e.V.)
URL:https://dresden-gruna.de/event/spaziergang-zwinglistrasse-und-schneebergstrasse-wegeverbindungen-im-alltag/
CATEGORIES:Projekte und Aktionen
ORGANIZER;CN="'In Gruna leben' e.V.":MAILTO:post@dresden-gruna.de
END:VEVENT
BEGIN:VEVENT
DTSTART;TZID=Europe/Berlin:20210616T180000
DTEND;TZID=Europe/Berlin:20210616T180000
DTSTAMP:20260424T025607
CREATED:20210529T235154Z
LAST-MODIFIED:20210529T235154Z
UID:3364-1623866400-1623866400@dresden-gruna.de
SUMMARY:Spaziergang: Parkplätze sinnvoll(er) gestalten und nutzen?
DESCRIPTION:Treff: Papstdorfer Straße Ecke Rosenbergstraße\nRoute: Papstdorfer Straße – Ortskern Altgruna – Rosenbergstraße –  Calvinstraße – Gartensiedlung – Grüngürtel – Frauensteiner Platz\nThema: Der Parkraum in und um Altgruna ist knapp und beschränkt sich auf öffentlichen Flächen hauptsächlich entlang der Rosenberg- und Calvinstraße. Zusätzlich gibt es Stellflächen für PKW von verschiedenen Wohnungsunternehmen. Im Zuge der Revitalisierung wird der Raum für Infrastruktur und Erholung zunehmend beansprucht. Es werden Ideen und Konzepte für zukünftige Park- und Lebensräume gesucht\, die weniger miteinander konkurrieren.\nGastgeber*innen: Hannah Schöller („In Gruna leben“ e.V.)\, Ringo Kätzel („In Gruna leben“ e.V.)
URL:https://dresden-gruna.de/event/spaziergang-parkplaetze-sinnvoller-gestalten-und-nutzen/
CATEGORIES:Projekte und Aktionen
ORGANIZER;CN="'In Gruna leben' e.V.":MAILTO:post@dresden-gruna.de
END:VEVENT
BEGIN:VEVENT
DTSTART;TZID=Europe/Berlin:20210630T180000
DTEND;TZID=Europe/Berlin:20210630T180000
DTSTAMP:20260424T025607
CREATED:20210529T235042Z
LAST-MODIFIED:20210529T235042Z
UID:3362-1625076000-1625076000@dresden-gruna.de
SUMMARY:Spaziergang: Madix-Areal – Standort für neues Wohnen in Gruna?
DESCRIPTION:Treff: Lutherlinde Altgruna (Altstoff Container)\nRoute: Rosenbergstraße – Kreuzung Calvinstraße – Grüngürtel – Landgraben – Rothermundtpark – Rosenbergstraße\nThema: Das Madix-Areal steht vor einer grundlegenden Umgestaltung mitten im Herzens Altgruna\, der den Charakter des Viertels maßgebend neu prägen wird. Damit drängen sich Fragen auf wie zukünftigen Wohnen dort aussehen und vor allem für wen Wohnraum geschaffen wird.\nGastgeber*innen: Hannah Schöller („In Gruna leben“ e.V.)\, Ringo Kätzel („In Gruna leben“ e.V.)
URL:https://dresden-gruna.de/event/spaziergang-madix-areal-standort-fuer-neues-wohnen-in-gruna/
CATEGORIES:Projekte und Aktionen
ORGANIZER;CN="'In Gruna leben' e.V.":MAILTO:post@dresden-gruna.de
END:VEVENT
END:VCALENDAR