BEGIN:VCALENDAR
VERSION:2.0
PRODID:-//In Gruna leben e.V. - ECPv6.8.3//NONSGML v1.0//EN
CALSCALE:GREGORIAN
METHOD:PUBLISH
X-ORIGINAL-URL:https://dresden-gruna.de
X-WR-CALDESC:Veranstaltungen für In Gruna leben e.V.
REFRESH-INTERVAL;VALUE=DURATION:PT1H
X-Robots-Tag:noindex
X-PUBLISHED-TTL:PT1H
BEGIN:VTIMEZONE
TZID:Europe/Berlin
BEGIN:DAYLIGHT
TZOFFSETFROM:+0100
TZOFFSETTO:+0200
TZNAME:CEST
DTSTART:20200329T010000
END:DAYLIGHT
BEGIN:STANDARD
TZOFFSETFROM:+0200
TZOFFSETTO:+0100
TZNAME:CET
DTSTART:20201025T010000
END:STANDARD
END:VTIMEZONE
BEGIN:VEVENT
DTSTART;TZID=Europe/Berlin:20200603T200000
DTEND;TZID=Europe/Berlin:20200603T213000
DTSTAMP:20260424T230240
CREATED:20200527T142920Z
LAST-MODIFIED:20200527T142920Z
UID:2488-1591214400-1591219800@dresden-gruna.de
SUMMARY:Projekt-Treff Gruppe "Stadtgrün" am 03.06.2020
DESCRIPTION:Die Projektgruppe „Stadtgrün“ trifft sich am 03.06.2020 um 20 Uhr zum gemeinsam Kick-off und Brainstorming in der Grunaer Aue! \nMit neuem Mut und vielen Ideen soll Gruna endlich grüner und nachhaltiger werden! Wenn auch du daran interessiert bist\, komm doch einfach vorbei und bring dich ein! 😉 \n*** Bitte achtet auf unsere geltenden >>>Hygienemaßnahmen! *** \n*** Teilnahme nur nach vorheriger Anmeldung via post@dresden-gruna.de oder (+49) 0178 / 29 84  423! ***
URL:https://dresden-gruna.de/event/projekt-treff-gruppe-stadtgruen-am-03-06-2020/
LOCATION:Bürger-Treff „Grunaer Aue“ Winterbergstr.31c\, 01277 Dresden\, Winterbergstraße 31c\, Dresden\, 01277\, Deutschland
CATEGORIES:Planungs- und Absprachetreffen
ORGANIZER;CN="'In Gruna leben' e.V.":MAILTO:post@dresden-gruna.de
END:VEVENT
BEGIN:VEVENT
DTSTART;TZID=Europe/Berlin:20200608T140000
DTEND;TZID=Europe/Berlin:20200608T153000
DTSTAMP:20260424T230240
CREATED:20200330T151256Z
LAST-MODIFIED:20200330T151256Z
UID:2448-1591624800-1591630200@dresden-gruna.de
SUMMARY:Der Grunaer Findlingsbrunnen – Lebensquell und „Lagerfeuer“ im Stadtteil?
DESCRIPTION:Am 8. Juni werden Herr Wolf und seine Frau Einblicke in diese spannenden Zusammenhänge geben und mit Vertretern aus der Stadtverwaltung\, Wohnungsunternehmen und vor allem mit den Nachbarn im Gespräch sein. \nAls Gäste begleiten uns: \n\nHerr Eberhard Wolf (Akadem. Bildhauer und Restaurator)\nFrau Margot Schwab\, SGL Spielplätze\, wassertechn. u. bauliche Anlagen bei der Landeshauptstadt Dresden\, Geschäftsbereich Umwelt und Kommunalwirtschaft | Amt für Stadtgrün und Abfallwirtschaft\, Abt. Leistungsmanagement/Vergabe Grün \nHerr Christian Barth\, Stadtbezirk Blasewitz\n\n  \nZiele: \n\nZusammenhänge erfahren und Einblicke gewinnen zu Entstehungsgeschichte\, „Philosophie“ und Herausforderungen aus einem ungewöhnlichen Stadtbrunnen-Projekt durch den Schöpfer des Findlingsbrunnens sowie kompetente Vertreter der LHD.\nDamit schlagen wir zugleich die erste Seite im demnächst erscheinenden Grunaer Stadtteilbuch auf\, indem auf die Brunnenchronik voraus geblickt wird.\nErörterung der Idee einer Brunnen-Patenschaft.\n\nZur Einstimmung: \nBei der Suche nach „Lieblingsplätzen in Gruna“ wird immer wieder der Findlingsbrunnen genannt. Kein Wunder\, denn er ist trotz seiner „Jugend“ rasch zum Wahrzeichen dieses Dresdener Stadtteils aufgestiegen. Seither erquickt der Findlingsbrunnen die Anwohner und seine Gäste in der warmen Jahreszeit immer wieder aufs Neue und macht seinen zentralen Platz erst zum Ortsmittelpunkt. \nMit Lausitzer Naturstein statt Beton\, präziser Handwerklichkeit und viel Geduld hat Eberhard Wolf über dem alten Dorfkern ein erstaunliches Unikat geschaffen. Er  strebte einen Spannungsbogen und Kontrast aus Naturstein und Gehölzen zum alles beherrschenden Beton der Hochbauten an. 18 Jahre nach den ersten Ideen im Gesellschaftlichen Rat beim Stadtarchitekten und zehn Jahre nach der Auftragserteilung konnte endlich 1991 der Findlingsbrunnen den Grunaern übergeben werden. \nVom Handwerk des Brunnenbaus kündet Wolfs Wirken bis heute und es tut sich ein Universum auf – angefangen bei Materialkunde über das Beschaffen der Steine aus den Welzower Tagebauen\, deren Beschriftung und Transport mit Förderbändern und Tiefladern\, bis hin zu Arbeitstechnologie\, Architektur sowie Brunnen- und Gartenbau. Eberhard Wolf reflektiert diese Technologie-\, Natur- und Sozialgeschichte über beide Gesellschaftssysteme in einer „Brunnenchronik“ und verhindert\, dass diese spannenden Abschnitte der jüngsten Geschichte unseres Wohnortes und der Lausitz ins Vergessen sinken. \n  \nEin Veranstaltungsangebot der Grunaer Stadtteilrunde auf dem Jubiläumspfad zum 650-jährigen Ortsjubiläum.
URL:https://dresden-gruna.de/event/der-grunaer-findlingsbrunnen-lebensquell-und-lagerfeuer-im-stadtteil/
LOCATION:Findlingsbrunnen\, 2QMP+M5 Dresden\, Dresden\, 01277\, Deutschland
CATEGORIES:Projekte und Aktionen
ATTACH;FMTTYPE=image/jpeg:https://dresden-gruna.de/wp-content/uploads/2020/03/Findlingsbrunnen-von-oben-2008-e1585581129684.jpg
ORGANIZER;CN="'In Gruna leben' e.V.":MAILTO:post@dresden-gruna.de
END:VEVENT
BEGIN:VEVENT
DTSTART;TZID=Europe/Berlin:20200609T100000
DTEND;TZID=Europe/Berlin:20200609T120000
DTSTAMP:20260424T230240
CREATED:20200527T145550Z
LAST-MODIFIED:20200527T145550Z
UID:2498-1591696800-1591704000@dresden-gruna.de
SUMMARY:AG Wohnen & Wohnberatung beim Seniorenbeirat der LHD am 09.06.2020
DESCRIPTION:Hilfe und Beratung durch das langjährige Mitglied des Seniorenbeirats Dr. Peter Müller zu allen Belangen im Bereich „Wohnen im Alter“. \nDies ist eine offene Sprechstunde veranstaltet und organisiert durch den Sigus e.V. & den Seniorenbeirat der Landeshauptstadt Dresden. \n  \n*** Bitte achtet auf unsere geltenden >>>Hygienemaßnahmen! *** \n*** Teilnahme nur nach vorheriger Anmeldung via post@dresden-gruna.de oder (+49) 0178 / 29 84  423! ***
URL:https://dresden-gruna.de/event/ag-wohnen-wohnberatung-beim-seniorenbeirat-der-lhd-am-09-06-2020/
LOCATION:Bürger-Treff „Grunaer Aue“ Winterbergstr.31c\, 01277 Dresden\, Winterbergstraße 31c\, Dresden\, 01277\, Deutschland
ORGANIZER;CN="Sigus e.V.":MAILTO:sigus-dd@t-online.de
END:VEVENT
BEGIN:VEVENT
DTSTART;TZID=Europe/Berlin:20200610T093000
DTEND;TZID=Europe/Berlin:20200610T110000
DTSTAMP:20260424T230240
CREATED:20200527T144537Z
LAST-MODIFIED:20200702T082045Z
UID:2492-1591781400-1591786800@dresden-gruna.de
SUMMARY:Biografie- und Schreibkreis am 10.06.2020
DESCRIPTION:Wir erzählen\, schreiben und lesen Geschichten aus unserem Leben. \nOrganisiert und durchgeführt wird diese Veranstaltung von Sabine Müller-Schwerin vom Sigus e.V. \nVeranstaltungsort ist der Bürger-Treff Grunaer Aue. \n  \n*** Bitte achtet auf unsere geltenden >>>Hygienemaßnahmen! *** \n*** Teilnahme nur nach vorheriger Anmeldung via post@dresden-gruna.de oder (+49) 0178 / 29 84  423! ***
URL:https://dresden-gruna.de/event/biografie-und-schreibkreis-am-10-06-2020/
LOCATION:Bürger-Treff „Grunaer Aue“ Winterbergstr.31c\, 01277 Dresden\, Winterbergstraße 31c\, Dresden\, 01277\, Deutschland
CATEGORIES:Biografie- und Schreibkreis,Projekte und Aktionen
ORGANIZER;CN="Sigus e.V.":MAILTO:sigus-dd@t-online.de
END:VEVENT
BEGIN:VEVENT
DTSTART;TZID=Europe/Berlin:20200610T200000
DTEND;TZID=Europe/Berlin:20200610T213000
DTSTAMP:20260424T230240
CREATED:20200527T143624Z
LAST-MODIFIED:20200527T155337Z
UID:2490-1591819200-1591824600@dresden-gruna.de
SUMMARY:Projekt-Treff Gruppe "Kultur" am 10.06.2020
DESCRIPTION:Die Projektgruppe „Kultur“ trifft sich am 10.06.2020 um 20 Uhr zum gemeinsam Kick-off und Brainstorming in der Grunaer Aue! \nGruna hat Kultur zu bieten — oder? Wie\, wo und woher diese Kultur in Gruna kommt\, wollen wir ergründen. Und vielleicht auch ein wenig nachhelfen! \nAuch du willst die Kultur in Gruna fördern? Dann komm doch einfach vorbei und bring dich ein! \n*** Bitte achtet auf unsere geltenden >>>Hygienemaßnahmen! *** \n*** Teilnahme nur nach vorheriger Anmeldung via post@dresden-gruna.de oder (+49) 0178 / 29 84  423! ***
URL:https://dresden-gruna.de/event/projekt-treff-gruppe-kultur-am-10-06-2020/
LOCATION:Bürger-Treff „Grunaer Aue“ Winterbergstr.31c\, 01277 Dresden\, Winterbergstraße 31c\, Dresden\, 01277\, Deutschland
CATEGORIES:Planungs- und Absprachetreffen
ORGANIZER;CN="'In Gruna leben' e.V.":MAILTO:post@dresden-gruna.de
END:VEVENT
BEGIN:VEVENT
DTSTART;TZID=Europe/Berlin:20200624T093000
DTEND;TZID=Europe/Berlin:20200624T110000
DTSTAMP:20260424T230240
CREATED:20200527T144648Z
LAST-MODIFIED:20200702T082059Z
UID:2493-1592991000-1592996400@dresden-gruna.de
SUMMARY:Biografie- und Schreibkreis am 24.06.2020
DESCRIPTION:Wir erzählen\, schreiben und lesen Geschichten aus unserem Leben. \nOrganisiert und durchgeführt wird diese Veranstaltung von Sabine Müller-Schwerin vom Sigus e.V. \nVeranstaltungsort ist der Bürger-Treff Grunaer Aue. \n  \n*** Bitte achtet auf unsere geltenden >>>Hygienemaßnahmen! *** \n*** Teilnahme nur nach vorheriger Anmeldung via post@dresden-gruna.de oder (+49) 0178 / 29 84  423! ***
URL:https://dresden-gruna.de/event/biografie-und-schreibkreis-am-24-06-2020/
LOCATION:Bürger-Treff „Grunaer Aue“ Winterbergstr.31c\, 01277 Dresden\, Winterbergstraße 31c\, Dresden\, 01277\, Deutschland
CATEGORIES:Biografie- und Schreibkreis,Projekte und Aktionen
ORGANIZER;CN="Sigus e.V.":MAILTO:sigus-dd@t-online.de
END:VEVENT
BEGIN:VEVENT
DTSTART;TZID=Europe/Berlin:20200625T170000
DTEND;TZID=Europe/Berlin:20200625T200000
DTSTAMP:20260424T230240
CREATED:20200311T145422Z
LAST-MODIFIED:20200530T215354Z
UID:2300-1593104400-1593115200@dresden-gruna.de
SUMMARY:RepairCafé Gruna am 25.06.2020
DESCRIPTION:Reparier defekte Gebrauchsgegenstände unter fachkundiger Anleitung im RepairCafé Gruna. Oder hilf deinen Nachbarn dabei.  \nWann:  jeden vierten Donnerstag im Monat von 17-20 Uhr. \nWo: Streetwork-Büro „Sofa9“\, Rosenbergstraße 12\, 01277 Dresden. \nDu möchtest Ressourcen schonen und dich bei einem Stück Kuchen mit deinen Nachbarn austauschen? Dann bist Du herzlich ins RepairCafé Gruna eingeladen. Du kannst alle beweglichen Gegenstände mitbringen\, die sich transportieren lassen. Ausgeschlossen sind Fahrräder und sperrige Haushaltsgroßgeräte wie Waschmaschinen und Kühlschränke. \n*** Bitte beachtet die besonderen Hygieneregeln (https://repaircafe.fueralle.org/…) und meldet euch telefonisch oder per E-Mail (-> https://repaircafe.fueralle.org/…) an. *** \nBei Fragen\, Interesse oder Anregungen sende uns bitte eine Nachricht über das Kontaktformular oder direkt an ste@dresden-gruna.de. \nReparaturtalente und Kuchenspenden willkommen\nDas RepairCafé Gruna ist eine ehrenamtliche Initiative. Ziel ist es\, durch Reparaturen Ressourcen zu schonen und den Zusammenhalt in der Nachbarschaft zu stärken. Daher freuen wir uns insbesondere über tatkäftige Unterstützung aus Gruna. Wenn Du dein Reparaturtalent mit einbringen willst\, komm gern direkt bei einer der nächsten Veranstaltungen vorbei. Kuchenspenden aus der Nachbarschaft sind jederzeit willkommen. \nKooperationsprojekt\nDas RepairCafé Gruna ist eine Kooperation der Interessengemeinschaft „in Gruna leben“ c/o Sigus e.V.  mit dem Netzwerk RepairCafé Dresden-Freital und dem Streetwork-Büro Sofa9. Weiter Informationen zum Thema RepairCafé finden Sie hier. \nHier geht es zur Berichterstattung über das RepairCafé.
URL:https://dresden-gruna.de/event/repaircafe-gruna-am-25-06-2020/
LOCATION:Sofa9\, Rosenberstraße 12\, Dresden\, 01277
CATEGORIES:Projekte und Aktionen,RepairCafé
ATTACH;FMTTYPE=image/png:https://dresden-gruna.de/wp-content/uploads/2018/03/repaircafe-gruna.png
ORGANIZER;CN="'In Gruna leben' e.V.":MAILTO:post@dresden-gruna.de
END:VEVENT
END:VCALENDAR