BEGIN:VCALENDAR
VERSION:2.0
PRODID:-//In Gruna leben e.V. - ECPv6.8.3//NONSGML v1.0//EN
CALSCALE:GREGORIAN
METHOD:PUBLISH
X-ORIGINAL-URL:https://dresden-gruna.de
X-WR-CALDESC:Veranstaltungen für In Gruna leben e.V.
REFRESH-INTERVAL;VALUE=DURATION:PT1H
X-Robots-Tag:noindex
X-PUBLISHED-TTL:PT1H
BEGIN:VTIMEZONE
TZID:Europe/Berlin
BEGIN:DAYLIGHT
TZOFFSETFROM:+0100
TZOFFSETTO:+0200
TZNAME:CEST
DTSTART:20200329T010000
END:DAYLIGHT
BEGIN:STANDARD
TZOFFSETFROM:+0200
TZOFFSETTO:+0100
TZNAME:CET
DTSTART:20201025T010000
END:STANDARD
END:VTIMEZONE
BEGIN:VEVENT
DTSTART;TZID=Europe/Berlin:20200407T180000
DTEND;TZID=Europe/Berlin:20200407T200000
DTSTAMP:20260425T024324
CREATED:20200212T222855Z
LAST-MODIFIED:20200318T191315Z
UID:1962-1586282400-1586289600@dresden-gruna.de
SUMMARY:*** VERSCHOBEN *** Plenum der IGL
DESCRIPTION:*** Wann die Veranstaltung stattfinden wird\, erfährst Du in den kommenden Wochen. Dank für dein Verständnis! *** \n  \nHier treffen sich die Aktiven der Interessengemeinschaft und besprechen alles Aktuelle aus den Arbeitsgruppen und Projekten.\nGäste mit oder ohne neuen Themen sind dabei stets willkommen!
URL:https://dresden-gruna.de/event/plenum-der-igl/
LOCATION:Bürger-Treff „Grunaer Aue“ Winterbergstr.31c\, 01277 Dresden\, Winterbergstraße 31c\, Dresden\, 01277\, Deutschland
CATEGORIES:Planungs- und Absprachetreffen
ATTACH;FMTTYPE=image/jpeg:https://dresden-gruna.de/wp-content/uploads/2018/04/meeting.jpg
ORGANIZER;CN="'In Gruna leben' e.V.":MAILTO:post@dresden-gruna.de
END:VEVENT
BEGIN:VEVENT
DTSTART;TZID=Europe/Berlin:20200408T140000
DTEND;TZID=Europe/Berlin:20200408T153000
DTSTAMP:20260425T024324
CREATED:20200311T153041Z
LAST-MODIFIED:20200318T191342Z
UID:2314-1586354400-1586359800@dresden-gruna.de
SUMMARY:*** ABGESAGT/VERSCHOBEN *** ErzählCafé Gruna am 08.04.2020
DESCRIPTION:*** Wann die Veranstaltung stattfinden wird\, erfährst Du in den kommenden Wochen. Dank für dein Verständnis! *** \n  \nAn jedem zweiten Montag im Monat laden der SWIS Blasewitz\, die Begegnungsstelle fidelio wie auch Gudrun Böhmig/Peter Müller – Mitglieder des Seniorenbeirats Dresden – zum gemeinsamen Erzählen ein. \nThemenschwerpunkte des Cafés sind hierbei: \n\nbessere Information und Einbindung der hier Lebenden in kommunalpolitische Angelegenheiten\, die Stadtteilplanung sowie bei Alltagsproblemen\,\nStärkung des bürgerschaftlichen Engagement und der Bürgerbeteiligung vor Ort \,\nPflege der Stadtteilgeschichte und der Zeitzeugenarbeit.\n\nAndere Anstöße oder erfreuliche Ereignisse\, die Du mit anderen und uns teilen willst\, sind sehr gern gesehen! \nDie Veranstaltung findet abwechselnd im Bürger-Treff „Grunaer Aue“\, in der Begegnungsstelle fidelio oder einer anderen Grunaer Einrichtung statt. \nBei Fragen\, Anregungen oder Ideen\, sende uns eine Nachricht über das Kontaktformular\, per Mail an kultur@dresden-gruna.de oder direkt an den Sigus e.V. \nDie Teilnahme ist kostenfrei; Spenden sind erwünscht.
URL:https://dresden-gruna.de/event/erzaehlcafe-gruna-am-08-04-2020/
CATEGORIES:ErzählCafé,Projekte und Aktionen
ATTACH;FMTTYPE=image/jpeg:https://dresden-gruna.de/wp-content/uploads/2020/03/beverage-book-cafe-caffeine-433124.jpg
ORGANIZER;CN="Sigus e.V.":MAILTO:sigus-dd@t-online.de
END:VEVENT
BEGIN:VEVENT
DTSTART;TZID=Europe/Berlin:20200408T200000
DTEND;TZID=Europe/Berlin:20200408T200000
DTSTAMP:20260425T024324
CREATED:20200212T223115Z
LAST-MODIFIED:20200318T191412Z
UID:1966-1586376000-1586376000@dresden-gruna.de
SUMMARY:*** ABGESAGT/VERSCHOBEN *** Planungstreffen Brunnenfest
DESCRIPTION:*** Wann die Veranstaltung stattfinden wird\, erfährst Du in den kommenden Wochen. Dank für dein Verständnis! *** \n  \nDas Brunnenfest-Komitee läd zum Planungstreffen.\nHeute soll das Programm strukturiert sowie eine Liste von Verantwortlichen für den Festtag erstellt werden.
URL:https://dresden-gruna.de/event/planungstreffen-brunnenfest/
LOCATION:Bodenbacher Eck\, Bodenbacher Str. 28\, Dresden\, 01277\, Deutschland
CATEGORIES:Planungs- und Absprachetreffen
ATTACH;FMTTYPE=image/jpeg:https://dresden-gruna.de/wp-content/uploads/2018/04/meeting.jpg
ORGANIZER;CN="'In Gruna leben' e.V.":MAILTO:post@dresden-gruna.de
END:VEVENT
BEGIN:VEVENT
DTSTART;TZID=Europe/Berlin:20200418T100000
DTEND;TZID=Europe/Berlin:20200418T120000
DTSTAMP:20260425T024324
CREATED:20200311T162556Z
LAST-MODIFIED:20200311T162556Z
UID:2334-1587204000-1587211200@dresden-gruna.de
SUMMARY:Rundgang durch die Siedlung des Bau- und Sparvereins rund um den Uttewalder Platz
DESCRIPTION:Begleitet uns auf einem Rundgang durch die Siedlung des Bau- und Sparvereins rund um den Uttewalder Platz. Der Rundgang wird gespickt sein mit spannenden Informationen\, Anekdoten und nachbarschaftlichen Begegnungen. \nJede*r ist willkommen. Eigene Erfahrungen und Anekdoten sind gern gehört! \nAm Ende erwarten dich im IGL-Zelt Kaffee\, nette Nachbarn und mitgebrachte Speisen. 
URL:https://dresden-gruna.de/event/rundgang-durch-die-siedlung/
LOCATION:Hepkestraße 112\, 2QPW+3X Dresden\, Dresden\, Sachsen\, 01277
CATEGORIES:Historische Rundgänge,Projekte und Aktionen
ATTACH;FMTTYPE=image/png:https://dresden-gruna.de/wp-content/uploads/2020/03/Stadtplan1927_bearbeitet.png
ORGANIZER;CN="'In Gruna leben' e.V.":MAILTO:post@dresden-gruna.de
END:VEVENT
BEGIN:VEVENT
DTSTART;TZID=Europe/Berlin:20200423T170000
DTEND;TZID=Europe/Berlin:20200423T200000
DTSTAMP:20260425T024324
CREATED:20200311T144912Z
LAST-MODIFIED:20200311T144912Z
UID:2296-1587661200-1587672000@dresden-gruna.de
SUMMARY:RepairCafé Gruna am 23.04.2020
DESCRIPTION:Reparier defekte Gebrauchsgegenstände unter fachkundiger Anleitung im RepairCafé Gruna. Oder hilf deinen Nachbarn dabei.  \nWann:  jeden vierten Donnerstag im Monat von 17-20 Uhr. \nWo: Streetwork-Büro „Sofa9“\, Rosenbergstraße 12\, 01277 Dresden. \nDu möchtest Ressourcen schonen und dich bei einem Stück Kuchen mit deinen Nachbarn austauschen? Dann bist Du herzlich ins RepairCafé Gruna eingeladen. Du kannst alle beweglichen Gegenstände mitbringen\, die sich transportieren lassen. Ausgeschlossen sind Fahrräder und sperrige Haushaltsgroßgeräte wie Waschmaschinen und Kühlschränke. \nBei Fragen\, Interesse oder Anregungen sende uns bitte eine Nachricht über das Kontaktformular oder direkt an ste@dresden-gruna.de. \nReparaturtalente und Kuchenspenden willkommen\nDas RepairCafé Gruna ist eine ehrenamtliche Initiative. Ziel ist es\, durch Reparaturen Ressourcen zu schonen und den Zusammenhalt in der Nachbarschaft zu stärken. Daher freuen wir uns insbesondere über tatkäftige Unterstützung aus Gruna. Wenn Du dein Reparaturtalent mit einbringen willst\, komm gern direkt bei einer der nächsten Veranstaltungen vorbei. Kuchenspenden aus der Nachbarschaft sind jederzeit willkommen. \nKooperationsprojekt\nDas RepairCafé Gruna ist eine Kooperation der Interessengemeinschaft „in Gruna leben“ c/o Sigus e.V.  mit dem Netzwerk RepairCafé Dresden-Freital und dem Streetwork-Büro Sofa9. Weiter Informationen zum Thema RepairCafé finden Sie hier. \nHier geht es zur Berichterstattung über das RepairCafé.
URL:https://dresden-gruna.de/event/repaircafe-gruna-am-23-04-2020/
LOCATION:Sofa9\, Rosenberstraße 12\, Dresden\, 01277
CATEGORIES:Projekte und Aktionen,RepairCafé
ATTACH;FMTTYPE=image/png:https://dresden-gruna.de/wp-content/uploads/2018/03/repaircafe-gruna.png
ORGANIZER;CN="'In Gruna leben' e.V.":MAILTO:post@dresden-gruna.de
END:VEVENT
END:VCALENDAR