BEGIN:VCALENDAR
VERSION:2.0
PRODID:-//In Gruna leben e.V. - ECPv6.8.3//NONSGML v1.0//EN
CALSCALE:GREGORIAN
METHOD:PUBLISH
X-ORIGINAL-URL:https://dresden-gruna.de
X-WR-CALDESC:Veranstaltungen für In Gruna leben e.V.
REFRESH-INTERVAL;VALUE=DURATION:PT1H
X-Robots-Tag:noindex
X-PUBLISHED-TTL:PT1H
BEGIN:VTIMEZONE
TZID:Europe/Berlin
BEGIN:DAYLIGHT
TZOFFSETFROM:+0100
TZOFFSETTO:+0200
TZNAME:CEST
DTSTART:20200329T010000
END:DAYLIGHT
BEGIN:STANDARD
TZOFFSETFROM:+0200
TZOFFSETTO:+0100
TZNAME:CET
DTSTART:20201025T010000
END:STANDARD
END:VTIMEZONE
BEGIN:VEVENT
DTSTART;TZID=Europe/Berlin:20200304T180000
DTEND;TZID=Europe/Berlin:20200304T200000
DTSTAMP:20260425T040915
CREATED:20200219T232702Z
LAST-MODIFIED:20210329T095928Z
UID:2006-1583344800-1583352000@dresden-gruna.de
SUMMARY:ACHTUNG: VERSCHOBEN! Georgien – Perle des Kaukasus
DESCRIPTION:Achtung: Die Veranstalter müssen aus gesundheitlichen Gründen den internationalen Kulturmittwoch auf einen späteren Zeitpunkt verschieben. Der neue Termin wird hier bekannt gegeben. \nEin internationaler Kulturmittwoch mit Eter Hachmann und Freunden zu Geschichten und Gerichten aus dieser wunderbaren Kultur der Sinnesfreude und des langen Lebens! \n(Eine Veranstaltung in Zusammenarbeit mit Friedrich-Ebert-Stiftung Sachsen) \nAnmeldung empfohlen!
URL:https://dresden-gruna.de/event/georgien-perle-des-kaukasus/
LOCATION:Bürger-Treff „Grunaer Aue“ Winterbergstr.31c\, 01277 Dresden\, Winterbergstraße 31c\, Dresden\, 01277\, Deutschland
CATEGORIES:Kultur am (4.) Mittwoch,Projekte und Aktionen
ATTACH;FMTTYPE=image/jpeg:https://dresden-gruna.de/wp-content/uploads/2020/02/tbilisi-4680593_640.jpg
ORGANIZER;CN="'In Gruna leben' e.V.":MAILTO:post@dresden-gruna.de
END:VEVENT
BEGIN:VEVENT
DTSTART;TZID=Europe/Berlin:20200305T093000
DTEND;TZID=Europe/Berlin:20200305T113000
DTSTAMP:20260425T040915
CREATED:20200219T232903Z
LAST-MODIFIED:20200219T233812Z
UID:2008-1583400600-1583407800@dresden-gruna.de
SUMMARY:Stadtteilrunde Gruna
DESCRIPTION:
URL:https://dresden-gruna.de/event/stadtteilrunde-gruna/
LOCATION:fidelio\, Papstdorfer Str. 25\, Dresden\, 01277\, Deutschland
CATEGORIES:Planungs- und Absprachetreffen
ATTACH;FMTTYPE=image/jpeg:https://dresden-gruna.de/wp-content/uploads/2018/04/meeting.jpg
ORGANIZER;CN="'In Gruna leben' e.V.":MAILTO:post@dresden-gruna.de
END:VEVENT
BEGIN:VEVENT
DTSTART;TZID=Europe/Berlin:20200307T100000
DTEND;TZID=Europe/Berlin:20200307T100000
DTSTAMP:20260425T040915
CREATED:20200219T233209Z
LAST-MODIFIED:20200219T233903Z
UID:2010-1583575200-1583575200@dresden-gruna.de
SUMMARY:Treff der offenen AG Stadtteilgeschichte
DESCRIPTION:zum Jubiläumsjahr als Werkstattgespräch
URL:https://dresden-gruna.de/event/treff-der-offenen-arbeitsgruppe-grunaer-ortsgeschichte/
LOCATION:Bürger-Treff „Grunaer Aue“ Winterbergstr.31c\, 01277 Dresden\, Winterbergstraße 31c\, Dresden\, 01277\, Deutschland
CATEGORIES:Planungs- und Absprachetreffen
ATTACH;FMTTYPE=image/jpeg:https://dresden-gruna.de/wp-content/uploads/2018/04/meeting.jpg
ORGANIZER;CN="'In Gruna leben' e.V.":MAILTO:post@dresden-gruna.de
END:VEVENT
BEGIN:VEVENT
DTSTART;TZID=Europe/Berlin:20200309T140000
DTEND;TZID=Europe/Berlin:20200309T153000
DTSTAMP:20260425T040915
CREATED:20200219T233449Z
LAST-MODIFIED:20200311T153457Z
UID:2013-1583762400-1583767800@dresden-gruna.de
SUMMARY:ErzählCafé Gruna am 09.03.2020: Man müsste nochmal 20 sein … oder?
DESCRIPTION:ErzählCafé über den Weg zu Reife und Würde im Laufe eines langen Lebens – mit Thea Meißner\, Gerda Minkwitz undHelga Skell (die beiden letzten sind über 90 und dürfen durchaus als Grunaer Originale bezeichnet werden\, beide mit angenehmer Tiefe im Geist und Umgang)
URL:https://dresden-gruna.de/event/erzaehlcafe-man-muesste-nochmal-20-sein-oder/
LOCATION:Bürger-Treff „Grunaer Aue“ Winterbergstr.31c\, 01277 Dresden\, Winterbergstraße 31c\, Dresden\, 01277\, Deutschland
CATEGORIES:Projekte und Aktionen
ATTACH;FMTTYPE=image/jpeg:https://dresden-gruna.de/wp-content/uploads/2018/04/meeting.jpg
ORGANIZER;CN="'In Gruna leben' e.V.":MAILTO:post@dresden-gruna.de
END:VEVENT
BEGIN:VEVENT
DTSTART;TZID=Europe/Berlin:20200323T140000
DTEND;TZID=Europe/Berlin:20200323T170000
DTSTAMP:20260425T040915
CREATED:20200227T225615Z
LAST-MODIFIED:20200318T191111Z
UID:2053-1584972000-1584982800@dresden-gruna.de
SUMMARY:***ABGESAGT/VERSCHOBEN*** Voneinander lernen - Wie Ältere sich im digitalen Zeitalter gegenseitig unterrichten
DESCRIPTION:*** Wann die Veranstaltung stattfinden wird\, erfährst Du in den kommenden Wochen. Dank für dein Verständnis! *** \n  \nEin Lernangebot vom Medienzentrum der TU Dresden im Rahmen der Gesprächsreihe „Mit Lust und Inspiration in den Ruhestand“ von AWO Kompetenzzentrum für den Übergang in den Ruhestand (KÜR) & INKLUSIVE Senioren. \nDas (Weiter)lernen im Alter ist ein wichtiger Baustein für Persönlichkeitsentwicklung\, Teilhabe und unser soziales Miteinander. Doch wie sollte das Lernen nach dem Berufsausstieg gestaltet sein? Wie macht es Freude? Was sollte man lernen? Und wie kann es gemeinsam organisiert werden? Diese und weitere Fragen besprechen wir gemeinsam mit Kristina Barczik von der Technischen Universität Dresden. Sie stellt außerdem das Projekt „Gemeinsam in die digitale Welt“ vor: Technikaffine Ältere\, die motiviert sind\, ehrenamtlich tätig zu sein\, werden als Experten ausgebildet. In der Rolle als geschulte Trainer stehen sie Älteren in ihrem Umfeld als Ansprechpartner zur Verfügung. Sie schulen diese im Umgang mit Smartphones und Tablets und zeigen auf\, wie die Geräte alltagsrelevant zu nutzen sind. Die Weiterführung dieser Lehr-Lern-Treffs ist im Rahmen von Stammtischen geplant.
URL:https://dresden-gruna.de/event/voneinander-lernen-wie-aeltere-sich-im-digitalen-zeitalter-gegenseitig-unterrichten/
LOCATION:Bürger-Treff „Grunaer Aue“ Winterbergstr.31c\, 01277 Dresden\, Winterbergstraße 31c\, Dresden\, 01277\, Deutschland
CATEGORIES:Projekte und Aktionen
ORGANIZER;CN="Sigus e.V.":MAILTO:sigus-dd@t-online.de
END:VEVENT
BEGIN:VEVENT
DTSTART;TZID=Europe/Berlin:20200324T080000
DTEND;TZID=Europe/Berlin:20200324T170000
DTSTAMP:20260425T040915
CREATED:20200219T233728Z
LAST-MODIFIED:20200318T191142Z
UID:2018-1585036800-1585069200@dresden-gruna.de
SUMMARY:*** ABGESAGT/VERSCHOBEN *** Treffen der Redaktion für die Festschrift und für den Gruna-Ordner zum Ortsjubiläum
DESCRIPTION:*** Wann die Veranstaltung stattfinden wird\, erfährst Du in den kommenden Wochen. Dank für dein Verständnis! ***
URL:https://dresden-gruna.de/event/treffen-der-redaktion-fuer-die-festschrift-und-fuer-den-gruna-ordner-zum-ortsjubilaeum-2/
LOCATION:Bürger-Treff „Grunaer Aue“ Winterbergstr.31c\, 01277 Dresden\, Winterbergstraße 31c\, Dresden\, 01277\, Deutschland
CATEGORIES:Planungs- und Absprachetreffen
ATTACH;FMTTYPE=image/jpeg:https://dresden-gruna.de/wp-content/uploads/2018/04/meeting.jpg
ORGANIZER;CN="'In Gruna leben' e.V.":MAILTO:post@dresden-gruna.de
END:VEVENT
BEGIN:VEVENT
DTSTART;TZID=Europe/Berlin:20200326T170000
DTEND;TZID=Europe/Berlin:20200326T200000
DTSTAMP:20260425T040915
CREATED:20200311T144439Z
LAST-MODIFIED:20200318T191221Z
UID:2292-1585242000-1585252800@dresden-gruna.de
SUMMARY:*** ABGESAGT/VERSCHOBEN *** RepairCafé Gruna am 26.03.2020
DESCRIPTION:*** Wann die Veranstaltung stattfinden wird\, erfährst Du in den kommenden Wochen. Dank für dein Verständnis! *** \n  \nReparier defekte Gebrauchsgegenstände unter fachkundiger Anleitung im RepairCafé Gruna. Oder hilf deinen Nachbarn dabei. \nWann:  jeden vierten Donnerstag im Monat von 17-20 Uhr. \nWo: Streetwork-Büro „Sofa9“\, Rosenbergstraße 12\, 01277 Dresden. \nDu möchtest Ressourcen schonen und dich bei einem Stück Kuchen mit deinen Nachbarn austauschen? Dann bist Du herzlich ins RepairCafé Gruna eingeladen. Du kannst alle beweglichen Gegenstände mitbringen\, die sich transportieren lassen. Ausgeschlossen sind Fahrräder und sperrige Haushaltsgroßgeräte wie Waschmaschinen und Kühlschränke. \nBei Fragen\, Interesse oder Anregungen sende uns bitte eine Nachricht über das Kontaktformular oder direkt an ste@dresden-gruna.de. \nReparaturtalente und Kuchenspenden willkommen\nDas RepairCafé Gruna ist eine ehrenamtliche Initiative. Ziel ist es\, durch Reparaturen Ressourcen zu schonen und den Zusammenhalt in der Nachbarschaft zu stärken. Daher freuen wir uns insbesondere über tatkäftige Unterstützung aus Gruna. Wenn Du dein Reparaturtalent mit einbringen willst\, komm gern direkt bei einer der nächsten Veranstaltungen vorbei. Kuchenspenden aus der Nachbarschaft sind jederzeit willkommen. \nKooperationsprojekt\nDas RepairCafé Gruna ist eine Kooperation der Interessengemeinschaft „in Gruna leben“ c/o Sigus e.V.  mit dem Netzwerk RepairCafé Dresden-Freital und dem Streetwork-Büro Sofa9. Weiter Informationen zum Thema RepairCafé finden Sie hier. \nHier geht es zur Berichterstattung über das RepairCafé.
URL:https://dresden-gruna.de/event/repaircafe-gruna-am-26-03-2020/
LOCATION:Sofa9\, Rosenberstraße 12\, Dresden\, 01277
CATEGORIES:Projekte und Aktionen,RepairCafé
ATTACH;FMTTYPE=image/png:https://dresden-gruna.de/wp-content/uploads/2018/03/repaircafe-gruna.png
ORGANIZER;CN="'In Gruna leben' e.V.":MAILTO:post@dresden-gruna.de
END:VEVENT
END:VCALENDAR