BEGIN:VCALENDAR
VERSION:2.0
PRODID:-//In Gruna leben e.V. - ECPv6.8.3//NONSGML v1.0//EN
CALSCALE:GREGORIAN
METHOD:PUBLISH
X-ORIGINAL-URL:https://dresden-gruna.de
X-WR-CALDESC:Veranstaltungen für In Gruna leben e.V.
REFRESH-INTERVAL;VALUE=DURATION:PT1H
X-Robots-Tag:noindex
X-PUBLISHED-TTL:PT1H
BEGIN:VTIMEZONE
TZID:Europe/Berlin
BEGIN:DAYLIGHT
TZOFFSETFROM:+0100
TZOFFSETTO:+0200
TZNAME:CEST
DTSTART:20190331T010000
END:DAYLIGHT
BEGIN:STANDARD
TZOFFSETFROM:+0200
TZOFFSETTO:+0100
TZNAME:CET
DTSTART:20191027T010000
END:STANDARD
END:VTIMEZONE
BEGIN:VEVENT
DTSTART;TZID=Europe/Berlin:20190604T080000
DTEND;TZID=Europe/Berlin:20190604T170000
DTSTAMP:20260425T192713
CREATED:20180202T224911Z
LAST-MODIFIED:20180202T224911Z
UID:1558-1559635200-1559667600@dresden-gruna.de
SUMMARY:Plenum
DESCRIPTION:TOP 1: allgemeine und Vorstellungsrunde (neue Interessenten; zur Arbeitsweise der IGl allgemein mit Überblick über die Arbeitsgruppen und deren Ansprechpartnern usw.) \nTOP 2: Aktuelles und inhaltlicher Austausch zwischen den Arbeitsgruppen
URL:https://dresden-gruna.de/event/treff-der-interessengemeinschaft-5-2019-06-04-2/
LOCATION:Bürger-Treff „Grunaer Aue“ Winterbergstr.31c\, 01277 Dresden\, Winterbergstraße 31c\, Dresden\, 01277\, Deutschland
CATEGORIES:Planungs- und Absprachetreffen
ATTACH;FMTTYPE=image/jpeg:https://dresden-gruna.de/wp-content/uploads/2018/04/meeting.jpg
ORGANIZER;CN="'In Gruna leben' e.V.":MAILTO:post@dresden-gruna.de
END:VEVENT
BEGIN:VEVENT
DTSTART;TZID=Europe/Berlin:20190604T180000
DTEND;TZID=Europe/Berlin:20190604T190000
DTSTAMP:20260425T192713
CREATED:20181113T131712Z
LAST-MODIFIED:20190214T205000Z
UID:1156-1559671200-1559674800@dresden-gruna.de
SUMMARY:Öffnungszeit Bürger-Treff "Grunaer Aue"
DESCRIPTION:Dienstags von 18 bis 19 Uhr ist die Tür vom Bürger-Treff für alle geöffnet. Hier können wir ins Gespräch kommen und uns gemeinsam unsere Zukunft bauen. \nÜbrigens: alle „Arbeit“ in der IGL ist derzeit rein ehrenamtlich. Sollte trotz allen Engagementes einmal doch niemand anzutreffen sein ohne dass dies aus dem Veranstaltungskalender entfernt wurde\, bitte wir um Nachsicht. Vielleicht fehlen ja auch gerade Sie in unserer Runde um diesen Mangel auszugleichen… 😉
URL:https://dresden-gruna.de/event/oeffnungszeit-buerger-treff-grunaer-aue-2018-11-19-2019-06-04/
LOCATION:Bürger-Treff „Grunaer Aue“ Winterbergstr.31c\, 01277 Dresden\, Winterbergstraße 31c\, Dresden\, 01277\, Deutschland
CATEGORIES:Planungs- und Absprachetreffen
ATTACH;FMTTYPE=image/jpeg:https://dresden-gruna.de/wp-content/uploads/2018/11/Bürger-Treff-e1542115366759.jpg
ORGANIZER;CN="'In Gruna leben' e.V.":MAILTO:post@dresden-gruna.de
END:VEVENT
BEGIN:VEVENT
DTSTART;TZID=Europe/Berlin:20190604T180000
DTEND;TZID=Europe/Berlin:20190604T200000
DTSTAMP:20260425T192713
CREATED:20180202T224911Z
LAST-MODIFIED:20180202T224911Z
UID:1474-1559671200-1559678400@dresden-gruna.de
SUMMARY:Plenum
DESCRIPTION:TOP 1: allgemeine und Vorstellungsrunde (neue Interessenten; zur Arbeitsweise der IGl allgemein mit Überblick über die Arbeitsgruppen und deren Ansprechpartnern usw.) \nTOP 2: Aktuelles und inhaltlicher Austausch zwischen den Arbeitsgruppen
URL:https://dresden-gruna.de/event/treff-der-interessengemeinschaft-5-2019-06-04/
LOCATION:Bürger-Treff „Grunaer Aue“ Winterbergstr.31c\, 01277 Dresden\, Winterbergstraße 31c\, Dresden\, 01277\, Deutschland
CATEGORIES:Planungs- und Absprachetreffen
ATTACH;FMTTYPE=image/jpeg:https://dresden-gruna.de/wp-content/uploads/2018/04/meeting.jpg
ORGANIZER;CN="'In Gruna leben' e.V.":MAILTO:post@dresden-gruna.de
END:VEVENT
BEGIN:VEVENT
DTSTART;TZID=Europe/Berlin:20190611T180000
DTEND;TZID=Europe/Berlin:20190611T190000
DTSTAMP:20260425T192713
CREATED:20181113T131712Z
LAST-MODIFIED:20190214T205000Z
UID:1157-1560276000-1560279600@dresden-gruna.de
SUMMARY:Öffnungszeit Bürger-Treff "Grunaer Aue"
DESCRIPTION:Dienstags von 18 bis 19 Uhr ist die Tür vom Bürger-Treff für alle geöffnet. Hier können wir ins Gespräch kommen und uns gemeinsam unsere Zukunft bauen. \nÜbrigens: alle „Arbeit“ in der IGL ist derzeit rein ehrenamtlich. Sollte trotz allen Engagementes einmal doch niemand anzutreffen sein ohne dass dies aus dem Veranstaltungskalender entfernt wurde\, bitte wir um Nachsicht. Vielleicht fehlen ja auch gerade Sie in unserer Runde um diesen Mangel auszugleichen… 😉
URL:https://dresden-gruna.de/event/oeffnungszeit-buerger-treff-grunaer-aue-2018-11-19-2019-06-11/
LOCATION:Bürger-Treff „Grunaer Aue“ Winterbergstr.31c\, 01277 Dresden\, Winterbergstraße 31c\, Dresden\, 01277\, Deutschland
CATEGORIES:Planungs- und Absprachetreffen
ATTACH;FMTTYPE=image/jpeg:https://dresden-gruna.de/wp-content/uploads/2018/11/Bürger-Treff-e1542115366759.jpg
ORGANIZER;CN="'In Gruna leben' e.V.":MAILTO:post@dresden-gruna.de
END:VEVENT
BEGIN:VEVENT
DTSTART;TZID=Europe/Berlin:20190611T180000
DTEND;TZID=Europe/Berlin:20190611T200000
DTSTAMP:20260425T192713
CREATED:20180202T224911Z
LAST-MODIFIED:20190611T093135Z
UID:1587-1560276000-1560283200@dresden-gruna.de
SUMMARY:Plenum
DESCRIPTION:TOP 1: allgemeine und Vorstellungsrunde (neue Interessenten; zur Arbeitsweise der IGl allgemein mit Überblick über die Arbeitsgruppen und deren Ansprechpartnern usw.) \nTOP 2: Aktuelles und inhaltlicher Austausch zwischen den Arbeitsgruppen
URL:https://dresden-gruna.de/event/treff-der-interessengemeinschaft-5-2019-06-11/
LOCATION:Bürger-Treff „Grunaer Aue“ Winterbergstr.31c\, 01277 Dresden\, Winterbergstraße 31c\, Dresden\, 01277\, Deutschland
CATEGORIES:Planungs- und Absprachetreffen
ATTACH;FMTTYPE=image/jpeg:https://dresden-gruna.de/wp-content/uploads/2018/04/meeting.jpg
ORGANIZER;CN="'In Gruna leben' e.V.":MAILTO:post@dresden-gruna.de
END:VEVENT
BEGIN:VEVENT
DTSTART;TZID=Europe/Berlin:20190612T180000
DTEND;TZID=Europe/Berlin:20190612T210000
DTSTAMP:20260425T192713
CREATED:20190527T150442Z
LAST-MODIFIED:20190527T150442Z
UID:1426-1560362400-1560373200@dresden-gruna.de
SUMMARY:internationaler Erfahrungsaustausch "nachhaltige Mobilität"
DESCRIPTION:Über ein Programm der Heinrich-Böll-Stiftung e. V. werden 15 Verkehrs- und Stadtplaner aus Tschechien und der Slowakei im Bürger-Treff zu Gast sein. Gemeinsam mit Dresdner Initiativen\, die sich mit nachhaltiger Mobilität befassen\, wird es einen kurzen Rundgang durch Gruna geben. Anschließend werden in einer offenen Diskussionsrunde Erfahrungen ausgetauscht\, Horinzonte erweitert und Grenzen überwunden.
URL:https://dresden-gruna.de/event/internationaler-erfahrungsaustausch-nachhaltige-mobilitaet/
LOCATION:Bürger-Treff „Grunaer Aue“ Winterbergstr.31c\, 01277 Dresden\, Winterbergstraße 31c\, Dresden\, 01277\, Deutschland
CATEGORIES:Planungs- und Absprachetreffen,Projekte und Aktionen
ORGANIZER;CN="'In Gruna leben' e.V.":MAILTO:post@dresden-gruna.de
END:VEVENT
BEGIN:VEVENT
DTSTART;TZID=Europe/Berlin:20190613T120000
DTEND;TZID=Europe/Berlin:20190613T133000
DTSTAMP:20260425T192713
CREATED:20190515T220553Z
LAST-MODIFIED:20190515T220553Z
UID:1416-1560427200-1560432600@dresden-gruna.de
SUMMARY:Satdtteilrunde
DESCRIPTION:Öffentliche Grunaer Institutionen beraten hier über gemeinsame Projekte wie die Nachbarschaftstage oder gemeinsame Öffentlichkeitsarbeit. Auch Privatpersonen sind willkommen.
URL:https://dresden-gruna.de/event/satdtteilrunde/
LOCATION:Bürger-Treff „Grunaer Aue“ Winterbergstr.31c\, 01277 Dresden\, Winterbergstraße 31c\, Dresden\, 01277\, Deutschland
CATEGORIES:Planungs- und Absprachetreffen
ORGANIZER;CN="'In Gruna leben' e.V.":MAILTO:post@dresden-gruna.de
END:VEVENT
BEGIN:VEVENT
DTSTART;TZID=Europe/Berlin:20190618T180000
DTEND;TZID=Europe/Berlin:20190618T190000
DTSTAMP:20260425T192713
CREATED:20181113T131712Z
LAST-MODIFIED:20190214T205000Z
UID:1158-1560880800-1560884400@dresden-gruna.de
SUMMARY:Öffnungszeit Bürger-Treff "Grunaer Aue"
DESCRIPTION:Dienstags von 18 bis 19 Uhr ist die Tür vom Bürger-Treff für alle geöffnet. Hier können wir ins Gespräch kommen und uns gemeinsam unsere Zukunft bauen. \nÜbrigens: alle „Arbeit“ in der IGL ist derzeit rein ehrenamtlich. Sollte trotz allen Engagementes einmal doch niemand anzutreffen sein ohne dass dies aus dem Veranstaltungskalender entfernt wurde\, bitte wir um Nachsicht. Vielleicht fehlen ja auch gerade Sie in unserer Runde um diesen Mangel auszugleichen… 😉
URL:https://dresden-gruna.de/event/oeffnungszeit-buerger-treff-grunaer-aue-2018-11-19-2019-06-18/
LOCATION:Bürger-Treff „Grunaer Aue“ Winterbergstr.31c\, 01277 Dresden\, Winterbergstraße 31c\, Dresden\, 01277\, Deutschland
CATEGORIES:Planungs- und Absprachetreffen
ATTACH;FMTTYPE=image/jpeg:https://dresden-gruna.de/wp-content/uploads/2018/11/Bürger-Treff-e1542115366759.jpg
ORGANIZER;CN="'In Gruna leben' e.V.":MAILTO:post@dresden-gruna.de
END:VEVENT
BEGIN:VEVENT
DTSTART;TZID=Europe/Berlin:20190626T180000
DTEND;TZID=Europe/Berlin:20190626T193000
DTSTAMP:20260425T192713
CREATED:20190517T223622Z
LAST-MODIFIED:20190517T223622Z
UID:1423-1561572000-1561577400@dresden-gruna.de
SUMMARY:Ausstellungseröffnung
DESCRIPTION:Mit Bildern von Bärbel Köhler
URL:https://dresden-gruna.de/event/ausstellungseroeffnung-2/
LOCATION:Bürger-Treff „Grunaer Aue“ Winterbergstr.31c\, 01277 Dresden\, Winterbergstraße 31c\, Dresden\, 01277\, Deutschland
CATEGORIES:Projekte und Aktionen
ORGANIZER;CN="'In Gruna leben' e.V.":MAILTO:post@dresden-gruna.de
END:VEVENT
BEGIN:VEVENT
DTSTART;TZID=Europe/Berlin:20190627T170000
DTEND;TZID=Europe/Berlin:20190627T200000
DTSTAMP:20260425T192713
CREATED:20180320T150527Z
LAST-MODIFIED:20180320T150527Z
UID:1297-1561654800-1561665600@dresden-gruna.de
SUMMARY:RepairCafé Gruna
DESCRIPTION:Reparieren\, tüfteln\, Kaffee trinken \nNachbarn helfen Nachbarn: RepairCafé Gruna\nIm RepairCafé Gruna können Sie defekte Gebrauchsgegenstände unter fachkundiger Anleitung reparieren. Oder Ihren Nachbarn dabei helfen. Wo: Streetwork-Büro „Sofa9“ in der Rosenbergstraße 12\, 01277 Dresden. \nSie möchten defekte Gegenstände reparieren anstatt sie wegzuwerfen? Sie benötigen Werkzeug und fachkundige Unterstützung? Sie tauschen sich gern bei einem Stück Kuchen mit Ihren Nachbarn aus? Dann sind Sie im RepairCafé Gruna herzlich willkommen. Ob Ladekabel oder Fernseher; Sie können alle beweglichen Gegenstände mitbringen\, die sich zum RepairCafé transportieren lassen. Ausgeschlossen sind Fahrräder und sperrige Haushaltsgroßgeräte wie Waschmaschinen und Kühlschränke. \nReparaturtalente und Kuchenspenden willkommen\nDas RepairCafé Gruna ist eine ehrenamtliche Initiative\, die durch Reparaturen Ressourcen schonen möchte. Engagierte Reparaturtalente\, die ihren Nachbarn beim Reparieren helfen möchten\, können sich direkt im RepairCafé melden. Falls Sie das RepairCafé Gruna mit einer Kuchenspende unterstützen möchten\, teilen Sie dies bitte kurz telefonisch unter Tel: 0351 2632138 oder sigus-dd@t-online.de mit. \n \nKooperationsprojekt\nDas RepairCafé Gruna wird ermöglicht durch die Kooperation der Interessengemeinschaft „in Gruna leben“ c/o Sigus e.V.  mit dem Netzwerk RepairCafé Dresden-Freital und dem Streetwork-Büro Sofa9. . \n \nKontakt Projektkoordination RepairCafé Gruna:\ntanja@dresden-gruna.de \n  \n  \n 
URL:https://dresden-gruna.de/event/sechstes-repaircafe-gruna-2019-06-27/
LOCATION:Sofa9\, Rosenberstraße 12\, Dresden\, 01277
CATEGORIES:RepairCafé
ATTACH;FMTTYPE=image/png:https://dresden-gruna.de/wp-content/uploads/2018/03/repaircafe-gruna.png
ORGANIZER;CN="'In Gruna leben' e.V.":MAILTO:post@dresden-gruna.de
END:VEVENT
END:VCALENDAR