BEGIN:VCALENDAR
VERSION:2.0
PRODID:-//In Gruna leben e.V. - ECPv6.8.3//NONSGML v1.0//EN
CALSCALE:GREGORIAN
METHOD:PUBLISH
X-ORIGINAL-URL:https://dresden-gruna.de
X-WR-CALDESC:Veranstaltungen für In Gruna leben e.V.
REFRESH-INTERVAL;VALUE=DURATION:PT1H
X-Robots-Tag:noindex
X-PUBLISHED-TTL:PT1H
BEGIN:VTIMEZONE
TZID:Europe/Berlin
BEGIN:DAYLIGHT
TZOFFSETFROM:+0100
TZOFFSETTO:+0200
TZNAME:CEST
DTSTART:20190331T010000
END:DAYLIGHT
BEGIN:STANDARD
TZOFFSETFROM:+0200
TZOFFSETTO:+0100
TZNAME:CET
DTSTART:20191027T010000
END:STANDARD
END:VTIMEZONE
BEGIN:VEVENT
DTSTART;TZID=Europe/Berlin:20190305T080000
DTEND;TZID=Europe/Berlin:20190305T170000
DTSTAMP:20260426T003103
CREATED:20180202T224911Z
LAST-MODIFIED:20180202T224911Z
UID:1545-1551772800-1551805200@dresden-gruna.de
SUMMARY:Plenum
DESCRIPTION:TOP 1: allgemeine und Vorstellungsrunde (neue Interessenten; zur Arbeitsweise der IGl allgemein mit Überblick über die Arbeitsgruppen und deren Ansprechpartnern usw.) \nTOP 2: Aktuelles und inhaltlicher Austausch zwischen den Arbeitsgruppen
URL:https://dresden-gruna.de/event/treff-der-interessengemeinschaft-5-2019-03-05-2/
LOCATION:Bürger-Treff „Grunaer Aue“ Winterbergstr.31c\, 01277 Dresden\, Winterbergstraße 31c\, Dresden\, 01277\, Deutschland
CATEGORIES:Planungs- und Absprachetreffen
ATTACH;FMTTYPE=image/jpeg:https://dresden-gruna.de/wp-content/uploads/2018/04/meeting.jpg
ORGANIZER;CN="'In Gruna leben' e.V.":MAILTO:post@dresden-gruna.de
END:VEVENT
BEGIN:VEVENT
DTSTART;TZID=Europe/Berlin:20190305T180000
DTEND;TZID=Europe/Berlin:20190305T190000
DTSTAMP:20260426T003103
CREATED:20181113T131712Z
LAST-MODIFIED:20190214T204956Z
UID:1143-1551808800-1551812400@dresden-gruna.de
SUMMARY:Öffnungszeit Bürger-Treff "Grunaer Aue"
DESCRIPTION:Dienstags von 18 bis 19 Uhr ist die Tür vom Bürger-Treff für alle geöffnet. Hier können wir ins Gespräch kommen und uns gemeinsam unsere Zukunft bauen. \nÜbrigens: alle „Arbeit“ in der IGL ist derzeit rein ehrenamtlich. Sollte trotz allen Engagementes einmal doch niemand anzutreffen sein ohne dass dies aus dem Veranstaltungskalender entfernt wurde\, bitte wir um Nachsicht. Vielleicht fehlen ja auch gerade Sie in unserer Runde um diesen Mangel auszugleichen… 😉
URL:https://dresden-gruna.de/event/oeffnungszeit-buerger-treff-grunaer-aue-2018-11-19-2019-03-05/
LOCATION:Bürger-Treff „Grunaer Aue“ Winterbergstr.31c\, 01277 Dresden\, Winterbergstraße 31c\, Dresden\, 01277\, Deutschland
CATEGORIES:Planungs- und Absprachetreffen
ATTACH;FMTTYPE=image/jpeg:https://dresden-gruna.de/wp-content/uploads/2018/11/Bürger-Treff-e1542115366759.jpg
ORGANIZER;CN="'In Gruna leben' e.V.":MAILTO:post@dresden-gruna.de
END:VEVENT
BEGIN:VEVENT
DTSTART;TZID=Europe/Berlin:20190305T180000
DTEND;TZID=Europe/Berlin:20190305T200000
DTSTAMP:20260426T003103
CREATED:20180202T224911Z
LAST-MODIFIED:20180202T224911Z
UID:1464-1551808800-1551816000@dresden-gruna.de
SUMMARY:Plenum
DESCRIPTION:TOP 1: allgemeine und Vorstellungsrunde (neue Interessenten; zur Arbeitsweise der IGl allgemein mit Überblick über die Arbeitsgruppen und deren Ansprechpartnern usw.) \nTOP 2: Aktuelles und inhaltlicher Austausch zwischen den Arbeitsgruppen
URL:https://dresden-gruna.de/event/treff-der-interessengemeinschaft-5-2019-03-05/
LOCATION:Bürger-Treff „Grunaer Aue“ Winterbergstr.31c\, 01277 Dresden\, Winterbergstraße 31c\, Dresden\, 01277\, Deutschland
CATEGORIES:Planungs- und Absprachetreffen
ATTACH;FMTTYPE=image/jpeg:https://dresden-gruna.de/wp-content/uploads/2018/04/meeting.jpg
ORGANIZER;CN="'In Gruna leben' e.V.":MAILTO:post@dresden-gruna.de
END:VEVENT
BEGIN:VEVENT
DTSTART;TZID=Europe/Berlin:20190312T080000
DTEND;TZID=Europe/Berlin:20190312T170000
DTSTAMP:20260426T003103
CREATED:20180202T224911Z
LAST-MODIFIED:20180202T224911Z
UID:1546-1552377600-1552410000@dresden-gruna.de
SUMMARY:Plenum
DESCRIPTION:TOP 1: allgemeine und Vorstellungsrunde (neue Interessenten; zur Arbeitsweise der IGl allgemein mit Überblick über die Arbeitsgruppen und deren Ansprechpartnern usw.) \nTOP 2: Aktuelles und inhaltlicher Austausch zwischen den Arbeitsgruppen
URL:https://dresden-gruna.de/event/treff-der-interessengemeinschaft-5-2019-03-12-2/
LOCATION:Bürger-Treff „Grunaer Aue“ Winterbergstr.31c\, 01277 Dresden\, Winterbergstraße 31c\, Dresden\, 01277\, Deutschland
CATEGORIES:Planungs- und Absprachetreffen
ATTACH;FMTTYPE=image/jpeg:https://dresden-gruna.de/wp-content/uploads/2018/04/meeting.jpg
ORGANIZER;CN="'In Gruna leben' e.V.":MAILTO:post@dresden-gruna.de
END:VEVENT
BEGIN:VEVENT
DTSTART;TZID=Europe/Berlin:20190312T180000
DTEND;TZID=Europe/Berlin:20190312T190000
DTSTAMP:20260426T003103
CREATED:20181113T131712Z
LAST-MODIFIED:20190214T204956Z
UID:1144-1552413600-1552417200@dresden-gruna.de
SUMMARY:Öffnungszeit Bürger-Treff "Grunaer Aue"
DESCRIPTION:Dienstags von 18 bis 19 Uhr ist die Tür vom Bürger-Treff für alle geöffnet. Hier können wir ins Gespräch kommen und uns gemeinsam unsere Zukunft bauen. \nÜbrigens: alle „Arbeit“ in der IGL ist derzeit rein ehrenamtlich. Sollte trotz allen Engagementes einmal doch niemand anzutreffen sein ohne dass dies aus dem Veranstaltungskalender entfernt wurde\, bitte wir um Nachsicht. Vielleicht fehlen ja auch gerade Sie in unserer Runde um diesen Mangel auszugleichen… 😉
URL:https://dresden-gruna.de/event/oeffnungszeit-buerger-treff-grunaer-aue-2018-11-19-2019-03-12/
LOCATION:Bürger-Treff „Grunaer Aue“ Winterbergstr.31c\, 01277 Dresden\, Winterbergstraße 31c\, Dresden\, 01277\, Deutschland
CATEGORIES:Planungs- und Absprachetreffen
ATTACH;FMTTYPE=image/jpeg:https://dresden-gruna.de/wp-content/uploads/2018/11/Bürger-Treff-e1542115366759.jpg
ORGANIZER;CN="'In Gruna leben' e.V.":MAILTO:post@dresden-gruna.de
END:VEVENT
BEGIN:VEVENT
DTSTART;TZID=Europe/Berlin:20190312T180000
DTEND;TZID=Europe/Berlin:20190312T200000
DTSTAMP:20260426T003103
CREATED:20180202T224911Z
LAST-MODIFIED:20180202T224911Z
UID:1049-1552413600-1552420800@dresden-gruna.de
SUMMARY:Plenum
DESCRIPTION:TOP 1: allgemeine und Vorstellungsrunde (neue Interessenten; zur Arbeitsweise der IGl allgemein mit Überblick über die Arbeitsgruppen und deren Ansprechpartnern usw.) \nTOP 2: Aktuelles und inhaltlicher Austausch zwischen den Arbeitsgruppen
URL:https://dresden-gruna.de/event/treff-der-interessengemeinschaft-5-2019-03-12/
LOCATION:Bürger-Treff „Grunaer Aue“ Winterbergstr.31c\, 01277 Dresden\, Winterbergstraße 31c\, Dresden\, 01277\, Deutschland
CATEGORIES:Planungs- und Absprachetreffen
ATTACH;FMTTYPE=image/jpeg:https://dresden-gruna.de/wp-content/uploads/2018/04/meeting.jpg
ORGANIZER;CN="'In Gruna leben' e.V.":MAILTO:post@dresden-gruna.de
END:VEVENT
BEGIN:VEVENT
DTSTART;TZID=Europe/Berlin:20190319T080000
DTEND;TZID=Europe/Berlin:20190319T170000
DTSTAMP:20260426T003103
CREATED:20180202T224911Z
LAST-MODIFIED:20180202T224911Z
UID:1547-1552982400-1553014800@dresden-gruna.de
SUMMARY:Plenum
DESCRIPTION:TOP 1: allgemeine und Vorstellungsrunde (neue Interessenten; zur Arbeitsweise der IGl allgemein mit Überblick über die Arbeitsgruppen und deren Ansprechpartnern usw.) \nTOP 2: Aktuelles und inhaltlicher Austausch zwischen den Arbeitsgruppen
URL:https://dresden-gruna.de/event/treff-der-interessengemeinschaft-5-2019-03-19-2/
LOCATION:Bürger-Treff „Grunaer Aue“ Winterbergstr.31c\, 01277 Dresden\, Winterbergstraße 31c\, Dresden\, 01277\, Deutschland
CATEGORIES:Planungs- und Absprachetreffen
ATTACH;FMTTYPE=image/jpeg:https://dresden-gruna.de/wp-content/uploads/2018/04/meeting.jpg
ORGANIZER;CN="'In Gruna leben' e.V.":MAILTO:post@dresden-gruna.de
END:VEVENT
BEGIN:VEVENT
DTSTART;TZID=Europe/Berlin:20190319T180000
DTEND;TZID=Europe/Berlin:20190319T190000
DTSTAMP:20260426T003103
CREATED:20181113T131712Z
LAST-MODIFIED:20190214T204956Z
UID:1145-1553018400-1553022000@dresden-gruna.de
SUMMARY:Öffnungszeit Bürger-Treff "Grunaer Aue"
DESCRIPTION:Dienstags von 18 bis 19 Uhr ist die Tür vom Bürger-Treff für alle geöffnet. Hier können wir ins Gespräch kommen und uns gemeinsam unsere Zukunft bauen. \nÜbrigens: alle „Arbeit“ in der IGL ist derzeit rein ehrenamtlich. Sollte trotz allen Engagementes einmal doch niemand anzutreffen sein ohne dass dies aus dem Veranstaltungskalender entfernt wurde\, bitte wir um Nachsicht. Vielleicht fehlen ja auch gerade Sie in unserer Runde um diesen Mangel auszugleichen… 😉
URL:https://dresden-gruna.de/event/oeffnungszeit-buerger-treff-grunaer-aue-2018-11-19-2019-03-19/
LOCATION:Bürger-Treff „Grunaer Aue“ Winterbergstr.31c\, 01277 Dresden\, Winterbergstraße 31c\, Dresden\, 01277\, Deutschland
CATEGORIES:Planungs- und Absprachetreffen
ATTACH;FMTTYPE=image/jpeg:https://dresden-gruna.de/wp-content/uploads/2018/11/Bürger-Treff-e1542115366759.jpg
ORGANIZER;CN="'In Gruna leben' e.V.":MAILTO:post@dresden-gruna.de
END:VEVENT
BEGIN:VEVENT
DTSTART;TZID=Europe/Berlin:20190319T180000
DTEND;TZID=Europe/Berlin:20190319T200000
DTSTAMP:20260426T003103
CREATED:20180202T224911Z
LAST-MODIFIED:20180202T224911Z
UID:1465-1553018400-1553025600@dresden-gruna.de
SUMMARY:Plenum
DESCRIPTION:TOP 1: allgemeine und Vorstellungsrunde (neue Interessenten; zur Arbeitsweise der IGl allgemein mit Überblick über die Arbeitsgruppen und deren Ansprechpartnern usw.) \nTOP 2: Aktuelles und inhaltlicher Austausch zwischen den Arbeitsgruppen
URL:https://dresden-gruna.de/event/treff-der-interessengemeinschaft-5-2019-03-19/
LOCATION:Bürger-Treff „Grunaer Aue“ Winterbergstr.31c\, 01277 Dresden\, Winterbergstraße 31c\, Dresden\, 01277\, Deutschland
CATEGORIES:Planungs- und Absprachetreffen
ATTACH;FMTTYPE=image/jpeg:https://dresden-gruna.de/wp-content/uploads/2018/04/meeting.jpg
ORGANIZER;CN="'In Gruna leben' e.V.":MAILTO:post@dresden-gruna.de
END:VEVENT
BEGIN:VEVENT
DTSTART;TZID=Europe/Berlin:20190320T180000
DTEND;TZID=Europe/Berlin:20190320T200000
DTSTAMP:20260426T003103
CREATED:20190126T002346Z
LAST-MODIFIED:20190126T003123Z
UID:1318-1553104800-1553112000@dresden-gruna.de
SUMMARY:Buchvorstellung
DESCRIPTION:Im Rahmen des Kultur-Mittwochs: \nBuchvorstellung und anschließendes Gespräch mit den Autorinnen Prof. Ursula Pfäfflin\, Liane Freudenberg\, Heidrun Novy und Hansi Merkel. Musikalische Begleitung: Isabell Guller und Michael Novy von der Rockband „Ostrea“. \nEintritt frei\, Spenden erlaubt. \nPlakat der Veranstaltung zum herunterladen >>> hier
URL:https://dresden-gruna.de/event/buchvorstellung/
LOCATION:Bürger-Treff „Grunaer Aue“ Winterbergstr.31c\, 01277 Dresden\, Winterbergstraße 31c\, Dresden\, 01277\, Deutschland
CATEGORIES:Projekte und Aktionen
ATTACH;FMTTYPE=image/jpeg:https://dresden-gruna.de/wp-content/uploads/2019/01/Buchvorstellung-e1548462671378.jpg
ORGANIZER;CN="'In Gruna leben' e.V.":MAILTO:post@dresden-gruna.de
END:VEVENT
BEGIN:VEVENT
DTSTART;TZID=Europe/Berlin:20190326T080000
DTEND;TZID=Europe/Berlin:20190326T170000
DTSTAMP:20260426T003103
CREATED:20180202T224911Z
LAST-MODIFIED:20180202T224911Z
UID:1548-1553587200-1553619600@dresden-gruna.de
SUMMARY:Plenum
DESCRIPTION:TOP 1: allgemeine und Vorstellungsrunde (neue Interessenten; zur Arbeitsweise der IGl allgemein mit Überblick über die Arbeitsgruppen und deren Ansprechpartnern usw.) \nTOP 2: Aktuelles und inhaltlicher Austausch zwischen den Arbeitsgruppen
URL:https://dresden-gruna.de/event/treff-der-interessengemeinschaft-5-2019-03-26-2/
LOCATION:Bürger-Treff „Grunaer Aue“ Winterbergstr.31c\, 01277 Dresden\, Winterbergstraße 31c\, Dresden\, 01277\, Deutschland
CATEGORIES:Planungs- und Absprachetreffen
ATTACH;FMTTYPE=image/jpeg:https://dresden-gruna.de/wp-content/uploads/2018/04/meeting.jpg
ORGANIZER;CN="'In Gruna leben' e.V.":MAILTO:post@dresden-gruna.de
END:VEVENT
BEGIN:VEVENT
DTSTART;TZID=Europe/Berlin:20190326T180000
DTEND;TZID=Europe/Berlin:20190326T190000
DTSTAMP:20260426T003103
CREATED:20181113T131712Z
LAST-MODIFIED:20190214T204956Z
UID:1146-1553623200-1553626800@dresden-gruna.de
SUMMARY:Öffnungszeit Bürger-Treff "Grunaer Aue"
DESCRIPTION:Dienstags von 18 bis 19 Uhr ist die Tür vom Bürger-Treff für alle geöffnet. Hier können wir ins Gespräch kommen und uns gemeinsam unsere Zukunft bauen. \nÜbrigens: alle „Arbeit“ in der IGL ist derzeit rein ehrenamtlich. Sollte trotz allen Engagementes einmal doch niemand anzutreffen sein ohne dass dies aus dem Veranstaltungskalender entfernt wurde\, bitte wir um Nachsicht. Vielleicht fehlen ja auch gerade Sie in unserer Runde um diesen Mangel auszugleichen… 😉
URL:https://dresden-gruna.de/event/oeffnungszeit-buerger-treff-grunaer-aue-2018-11-19-2019-03-26/
LOCATION:Bürger-Treff „Grunaer Aue“ Winterbergstr.31c\, 01277 Dresden\, Winterbergstraße 31c\, Dresden\, 01277\, Deutschland
CATEGORIES:Planungs- und Absprachetreffen
ATTACH;FMTTYPE=image/jpeg:https://dresden-gruna.de/wp-content/uploads/2018/11/Bürger-Treff-e1542115366759.jpg
ORGANIZER;CN="'In Gruna leben' e.V.":MAILTO:post@dresden-gruna.de
END:VEVENT
BEGIN:VEVENT
DTSTART;TZID=Europe/Berlin:20190326T180000
DTEND;TZID=Europe/Berlin:20190326T200000
DTSTAMP:20260426T003103
CREATED:20180202T224911Z
LAST-MODIFIED:20180202T224911Z
UID:1466-1553623200-1553630400@dresden-gruna.de
SUMMARY:Plenum
DESCRIPTION:TOP 1: allgemeine und Vorstellungsrunde (neue Interessenten; zur Arbeitsweise der IGl allgemein mit Überblick über die Arbeitsgruppen und deren Ansprechpartnern usw.) \nTOP 2: Aktuelles und inhaltlicher Austausch zwischen den Arbeitsgruppen
URL:https://dresden-gruna.de/event/treff-der-interessengemeinschaft-5-2019-03-26/
LOCATION:Bürger-Treff „Grunaer Aue“ Winterbergstr.31c\, 01277 Dresden\, Winterbergstraße 31c\, Dresden\, 01277\, Deutschland
CATEGORIES:Planungs- und Absprachetreffen
ATTACH;FMTTYPE=image/jpeg:https://dresden-gruna.de/wp-content/uploads/2018/04/meeting.jpg
ORGANIZER;CN="'In Gruna leben' e.V.":MAILTO:post@dresden-gruna.de
END:VEVENT
BEGIN:VEVENT
DTSTART;TZID=Europe/Berlin:20190326T190000
DTEND;TZID=Europe/Berlin:20190326T210000
DTSTAMP:20260426T003103
CREATED:20190313T000636Z
LAST-MODIFIED:20190313T000636Z
UID:1360-1553626800-1553634000@dresden-gruna.de
SUMMARY:Workshop: Entspannung und Stressabbau mit Kneipp
DESCRIPTION:Chronische und wiederholte akute Stresssituationen belasten körperlich und seelisch. Aus allen Bereichen der Kneipp-Lehre (Bewegung\, Wasseranwendungen\, Heilkräuter\, Lebensordnung & Ernährung) gibt es Maßnahmen\, die Entspannung bewahren und Stress abbauen können. Im Workshop werden verschiedene Maßnahmen vorgestellt\, einzelne Elemente können dabei ausprobiert werden. \nIm Anschluss gibt es noch Raum für Gespräche und Erfahrungsaustausch. \nDie Veranstaltung ist kostenfrei\, Spenden ist erlaubt. \nReferent: Dipl.-Ing. (FH) Carsten Irmer\, Saunameister & Kneipp-Gesundheitstrainer
URL:https://dresden-gruna.de/event/workshop-entspannung-und-stressabbau-mit-kneipp/
LOCATION:Bürger-Treff „Grunaer Aue“ Winterbergstr.31c\, 01277 Dresden\, Winterbergstraße 31c\, Dresden\, 01277\, Deutschland
CATEGORIES:Projekte und Aktionen
ATTACH;FMTTYPE=image/png:https://dresden-gruna.de/wp-content/uploads/2019/03/Entspannung-Stressabbau-1024x576-e1566861952778.png
END:VEVENT
BEGIN:VEVENT
DTSTART;TZID=Europe/Berlin:20190328T170000
DTEND;TZID=Europe/Berlin:20190328T200000
DTSTAMP:20260426T003103
CREATED:20180320T150527Z
LAST-MODIFIED:20180320T150527Z
UID:1294-1553792400-1553803200@dresden-gruna.de
SUMMARY:RepairCafé Gruna
DESCRIPTION:Reparieren\, tüfteln\, Kaffee trinken \nNachbarn helfen Nachbarn: RepairCafé Gruna\nIm RepairCafé Gruna können Sie defekte Gebrauchsgegenstände unter fachkundiger Anleitung reparieren. Oder Ihren Nachbarn dabei helfen. Wo: Streetwork-Büro „Sofa9“ in der Rosenbergstraße 12\, 01277 Dresden. \nSie möchten defekte Gegenstände reparieren anstatt sie wegzuwerfen? Sie benötigen Werkzeug und fachkundige Unterstützung? Sie tauschen sich gern bei einem Stück Kuchen mit Ihren Nachbarn aus? Dann sind Sie im RepairCafé Gruna herzlich willkommen. Ob Ladekabel oder Fernseher; Sie können alle beweglichen Gegenstände mitbringen\, die sich zum RepairCafé transportieren lassen. Ausgeschlossen sind Fahrräder und sperrige Haushaltsgroßgeräte wie Waschmaschinen und Kühlschränke. \nReparaturtalente und Kuchenspenden willkommen\nDas RepairCafé Gruna ist eine ehrenamtliche Initiative\, die durch Reparaturen Ressourcen schonen möchte. Engagierte Reparaturtalente\, die ihren Nachbarn beim Reparieren helfen möchten\, können sich direkt im RepairCafé melden. Falls Sie das RepairCafé Gruna mit einer Kuchenspende unterstützen möchten\, teilen Sie dies bitte kurz telefonisch unter Tel: 0351 2632138 oder sigus-dd@t-online.de mit. \n \nKooperationsprojekt\nDas RepairCafé Gruna wird ermöglicht durch die Kooperation der Interessengemeinschaft „in Gruna leben“ c/o Sigus e.V.  mit dem Netzwerk RepairCafé Dresden-Freital und dem Streetwork-Büro Sofa9. . \n \nKontakt Projektkoordination RepairCafé Gruna:\ntanja@dresden-gruna.de \n  \n  \n 
URL:https://dresden-gruna.de/event/sechstes-repaircafe-gruna-2019-03-28/
LOCATION:Sofa9\, Rosenberstraße 12\, Dresden\, 01277
CATEGORIES:RepairCafé
ATTACH;FMTTYPE=image/png:https://dresden-gruna.de/wp-content/uploads/2018/03/repaircafe-gruna.png
ORGANIZER;CN="'In Gruna leben' e.V.":MAILTO:post@dresden-gruna.de
END:VEVENT
END:VCALENDAR