BEGIN:VCALENDAR
VERSION:2.0
PRODID:-//In Gruna leben e.V. - ECPv6.8.3//NONSGML v1.0//EN
CALSCALE:GREGORIAN
METHOD:PUBLISH
X-ORIGINAL-URL:https://dresden-gruna.de
X-WR-CALDESC:Veranstaltungen für In Gruna leben e.V.
REFRESH-INTERVAL;VALUE=DURATION:PT1H
X-Robots-Tag:noindex
X-PUBLISHED-TTL:PT1H
BEGIN:VTIMEZONE
TZID:Europe/Berlin
BEGIN:DAYLIGHT
TZOFFSETFROM:+0100
TZOFFSETTO:+0200
TZNAME:CEST
DTSTART:20190331T010000
END:DAYLIGHT
BEGIN:STANDARD
TZOFFSETFROM:+0200
TZOFFSETTO:+0100
TZNAME:CET
DTSTART:20191027T010000
END:STANDARD
END:VTIMEZONE
BEGIN:VEVENT
DTSTART;TZID=Europe/Berlin:20190101T080000
DTEND;TZID=Europe/Berlin:20190101T170000
DTSTAMP:20260426T034353
CREATED:20180202T224911Z
LAST-MODIFIED:20180202T224911Z
UID:1536-1546329600-1546362000@dresden-gruna.de
SUMMARY:Plenum
DESCRIPTION:TOP 1: allgemeine und Vorstellungsrunde (neue Interessenten; zur Arbeitsweise der IGl allgemein mit Überblick über die Arbeitsgruppen und deren Ansprechpartnern usw.) \nTOP 2: Aktuelles und inhaltlicher Austausch zwischen den Arbeitsgruppen
URL:https://dresden-gruna.de/event/treff-der-interessengemeinschaft-5-2019-01-01-2/
LOCATION:Bürger-Treff „Grunaer Aue“ Winterbergstr.31c\, 01277 Dresden\, Winterbergstraße 31c\, Dresden\, 01277\, Deutschland
CATEGORIES:Planungs- und Absprachetreffen
ATTACH;FMTTYPE=image/jpeg:https://dresden-gruna.de/wp-content/uploads/2018/04/meeting.jpg
ORGANIZER;CN="'In Gruna leben' e.V.":MAILTO:post@dresden-gruna.de
END:VEVENT
BEGIN:VEVENT
DTSTART;TZID=Europe/Berlin:20190101T180000
DTEND;TZID=Europe/Berlin:20190101T200000
DTSTAMP:20260426T034353
CREATED:20180202T224911Z
LAST-MODIFIED:20180202T224911Z
UID:1457-1546365600-1546372800@dresden-gruna.de
SUMMARY:Plenum
DESCRIPTION:TOP 1: allgemeine und Vorstellungsrunde (neue Interessenten; zur Arbeitsweise der IGl allgemein mit Überblick über die Arbeitsgruppen und deren Ansprechpartnern usw.) \nTOP 2: Aktuelles und inhaltlicher Austausch zwischen den Arbeitsgruppen
URL:https://dresden-gruna.de/event/treff-der-interessengemeinschaft-5-2019-01-01/
LOCATION:Bürger-Treff „Grunaer Aue“ Winterbergstr.31c\, 01277 Dresden\, Winterbergstraße 31c\, Dresden\, 01277\, Deutschland
CATEGORIES:Planungs- und Absprachetreffen
ATTACH;FMTTYPE=image/jpeg:https://dresden-gruna.de/wp-content/uploads/2018/04/meeting.jpg
ORGANIZER;CN="'In Gruna leben' e.V.":MAILTO:post@dresden-gruna.de
END:VEVENT
BEGIN:VEVENT
DTSTART;TZID=Europe/Berlin:20190105T100000
DTEND;TZID=Europe/Berlin:20190105T110000
DTSTAMP:20260426T034353
CREATED:20190109T210050Z
LAST-MODIFIED:20190109T210050Z
UID:1244-1546682400-1546686000@dresden-gruna.de
SUMMARY:Treffen der AG Stadtteilgeschichte
DESCRIPTION:In lockerer Runde treffen wir uns\, sichten Quellen\, betreiben Zeitzeugenarbeit und untersuchen wie die alten Zeiten heute noch wirken und erlebbar gemacht werden können.
URL:https://dresden-gruna.de/event/treffen-der-ag-stadtteilgeschichte/
LOCATION:Bürger-Treff „Grunaer Aue“ Winterbergstr.31c\, 01277 Dresden\, Winterbergstraße 31c\, Dresden\, 01277\, Deutschland
CATEGORIES:Planungs- und Absprachetreffen
ATTACH;FMTTYPE=image/jpeg:https://dresden-gruna.de/wp-content/uploads/2018/04/meeting.jpg
ORGANIZER;CN="'In Gruna leben' e.V.":MAILTO:post@dresden-gruna.de
END:VEVENT
BEGIN:VEVENT
DTSTART;TZID=Europe/Berlin:20190108T080000
DTEND;TZID=Europe/Berlin:20190108T170000
DTSTAMP:20260426T034353
CREATED:20180202T224911Z
LAST-MODIFIED:20180202T224911Z
UID:1537-1546934400-1546966800@dresden-gruna.de
SUMMARY:Plenum
DESCRIPTION:TOP 1: allgemeine und Vorstellungsrunde (neue Interessenten; zur Arbeitsweise der IGl allgemein mit Überblick über die Arbeitsgruppen und deren Ansprechpartnern usw.) \nTOP 2: Aktuelles und inhaltlicher Austausch zwischen den Arbeitsgruppen
URL:https://dresden-gruna.de/event/treff-der-interessengemeinschaft-5-2019-01-08-2/
LOCATION:Bürger-Treff „Grunaer Aue“ Winterbergstr.31c\, 01277 Dresden\, Winterbergstraße 31c\, Dresden\, 01277\, Deutschland
CATEGORIES:Planungs- und Absprachetreffen
ATTACH;FMTTYPE=image/jpeg:https://dresden-gruna.de/wp-content/uploads/2018/04/meeting.jpg
ORGANIZER;CN="'In Gruna leben' e.V.":MAILTO:post@dresden-gruna.de
END:VEVENT
BEGIN:VEVENT
DTSTART;TZID=Europe/Berlin:20190108T180000
DTEND;TZID=Europe/Berlin:20190108T190000
DTSTAMP:20260426T034353
CREATED:20181113T131712Z
LAST-MODIFIED:20190214T204950Z
UID:1135-1546970400-1546974000@dresden-gruna.de
SUMMARY:Öffnungszeit Bürger-Treff "Grunaer Aue"
DESCRIPTION:Dienstags von 18 bis 19 Uhr ist die Tür vom Bürger-Treff für alle geöffnet. Hier können wir ins Gespräch kommen und uns gemeinsam unsere Zukunft bauen. \nÜbrigens: alle „Arbeit“ in der IGL ist derzeit rein ehrenamtlich. Sollte trotz allen Engagementes einmal doch niemand anzutreffen sein ohne dass dies aus dem Veranstaltungskalender entfernt wurde\, bitte wir um Nachsicht. Vielleicht fehlen ja auch gerade Sie in unserer Runde um diesen Mangel auszugleichen… 😉
URL:https://dresden-gruna.de/event/oeffnungszeit-buerger-treff-grunaer-aue-2018-11-19-2019-01-08/
LOCATION:Bürger-Treff „Grunaer Aue“ Winterbergstr.31c\, 01277 Dresden\, Winterbergstraße 31c\, Dresden\, 01277\, Deutschland
CATEGORIES:Planungs- und Absprachetreffen
ATTACH;FMTTYPE=image/jpeg:https://dresden-gruna.de/wp-content/uploads/2018/11/Bürger-Treff-e1542115366759.jpg
ORGANIZER;CN="'In Gruna leben' e.V.":MAILTO:post@dresden-gruna.de
END:VEVENT
BEGIN:VEVENT
DTSTART;TZID=Europe/Berlin:20190108T180000
DTEND;TZID=Europe/Berlin:20190108T200000
DTSTAMP:20260426T034353
CREATED:20180202T224911Z
LAST-MODIFIED:20180202T224911Z
UID:1047-1546970400-1546977600@dresden-gruna.de
SUMMARY:Plenum
DESCRIPTION:TOP 1: allgemeine und Vorstellungsrunde (neue Interessenten; zur Arbeitsweise der IGl allgemein mit Überblick über die Arbeitsgruppen und deren Ansprechpartnern usw.) \nTOP 2: Aktuelles und inhaltlicher Austausch zwischen den Arbeitsgruppen
URL:https://dresden-gruna.de/event/treff-der-interessengemeinschaft-5-2019-01-08/
LOCATION:Bürger-Treff „Grunaer Aue“ Winterbergstr.31c\, 01277 Dresden\, Winterbergstraße 31c\, Dresden\, 01277\, Deutschland
CATEGORIES:Planungs- und Absprachetreffen
ATTACH;FMTTYPE=image/jpeg:https://dresden-gruna.de/wp-content/uploads/2018/04/meeting.jpg
ORGANIZER;CN="'In Gruna leben' e.V.":MAILTO:post@dresden-gruna.de
END:VEVENT
BEGIN:VEVENT
DTSTART;TZID=Europe/Berlin:20190114T140000
DTEND;TZID=Europe/Berlin:20190114T153000
DTSTAMP:20260426T034353
CREATED:20181113T131130Z
LAST-MODIFIED:20190107T224312Z
UID:1060-1547474400-1547479800@dresden-gruna.de
SUMMARY:„TUN WIR WAS DAZU!“ - ERZÄHLCAFÉ IM VORFELD DER KOMMUNALWAHLEN SOWIE EINER GRUNA-KAMPAGNE 2019
DESCRIPTION:Im ersten ErzählCafé 2019 genießen wir den Anfang 2018 angerührten Wunschpunsch\, werden mit Herrn Siegert vom Stadtbezirksamt Blasewitz zu den erstmals stattfindenden Stadtbezirksbeiratswahlen im gespräch sein und starten eine Kampagne „Mein Lieblingsplatz im Stadtteil“. Sind das nicht drei Gründe\, sich zu Beginn des neuen Jahres wieder im ErzählCafé zu treffen? \nUns scheint es nicht unpassend\, das Motto dem „Bürgerlied“ zu entlehnen\, um so einen Bogen aus dem 1848-er Vormärz in die Jetzt-Zeit zu schlagen: \n  \n„TUN WIR WAS DAZU!“\nERZÄHLCAFÉ IM VORFELD DER KOMMUNALWAHLEN SOWIE EINER GRUNA-KAMPAGNE 2019 \n  \nMO.\, 14.01. 2019\, 14 UHR  \nDiesmal wieder In der Begegnungsstätte Fidelio\, Papstdorfer Str. 25 \nZur Einstimmung: „Wege\, die in die Zukunft führen“ begleitete uns als Motto durch alle Erzähl- und BürgerCafés 2018 und so rührten wir genau vor einem Jahr einen Wunschpunsch an. Die Erwartungen und Hoffnungen von damals werden nun gesichtet. Mal sehen\, was eingetreten ist – und was 2019 zu tun bleibt. \nWährend also am Anfang eine Rückschau auf 2018 steht und am Ende zur Mitgestaltung an einer Gruna-Kampagne 2019 aufgerufen wird\, befassen wir uns schwerpunktmäßig mit der am 26. Mai anstehenden Wahl des Stadtbezirksbeirates Blasewitz. Herr Kristian Siegert vom SB Stadtbezirksbeiratsangelegenheiten am Stadtbezirksamt Blasewitz wird uns mit den wesentlich erweiterten Befugnissen des Stadtbezirksparlaments vertraut machen\, dessen Mitglieder erstmals direkt gewählt werden und u.a. über umfangreiche Finanzmittel zur Stärkung des Bürgerengagements vor Ort verfügen werden. \nNutzen Sie die Möglichkeit\, sich zu informieren und sich mit Nachbarn auszutauschen. \nWir freuen uns auf Ihre Fragen\, Anregungen und eine lebhafte Diskussion! Gern dürfen Sie auch schon im Vorfeld Fragen und Anregungen telefonisch\, per eMail oder persönlich an die Veranstalter richten.
URL:https://dresden-gruna.de/event/erzaehlcafe-das-war-2018-in-gruna/
LOCATION:fidelio\, Papstdorfer Str. 25\, Dresden\, 01277\, Deutschland
CATEGORIES:Projekte und Aktionen
ORGANIZER;CN="Sigus e.V.":MAILTO:sigus-dd@t-online.de
END:VEVENT
BEGIN:VEVENT
DTSTART;TZID=Europe/Berlin:20190115T080000
DTEND;TZID=Europe/Berlin:20190115T170000
DTSTAMP:20260426T034353
CREATED:20180202T224911Z
LAST-MODIFIED:20180202T224911Z
UID:1538-1547539200-1547571600@dresden-gruna.de
SUMMARY:Plenum
DESCRIPTION:TOP 1: allgemeine und Vorstellungsrunde (neue Interessenten; zur Arbeitsweise der IGl allgemein mit Überblick über die Arbeitsgruppen und deren Ansprechpartnern usw.) \nTOP 2: Aktuelles und inhaltlicher Austausch zwischen den Arbeitsgruppen
URL:https://dresden-gruna.de/event/treff-der-interessengemeinschaft-5-2019-01-15-2/
LOCATION:Bürger-Treff „Grunaer Aue“ Winterbergstr.31c\, 01277 Dresden\, Winterbergstraße 31c\, Dresden\, 01277\, Deutschland
CATEGORIES:Planungs- und Absprachetreffen
ATTACH;FMTTYPE=image/jpeg:https://dresden-gruna.de/wp-content/uploads/2018/04/meeting.jpg
ORGANIZER;CN="'In Gruna leben' e.V.":MAILTO:post@dresden-gruna.de
END:VEVENT
BEGIN:VEVENT
DTSTART;TZID=Europe/Berlin:20190115T180000
DTEND;TZID=Europe/Berlin:20190115T190000
DTSTAMP:20260426T034353
CREATED:20181113T131712Z
LAST-MODIFIED:20190214T204950Z
UID:1136-1547575200-1547578800@dresden-gruna.de
SUMMARY:Öffnungszeit Bürger-Treff "Grunaer Aue"
DESCRIPTION:Dienstags von 18 bis 19 Uhr ist die Tür vom Bürger-Treff für alle geöffnet. Hier können wir ins Gespräch kommen und uns gemeinsam unsere Zukunft bauen. \nÜbrigens: alle „Arbeit“ in der IGL ist derzeit rein ehrenamtlich. Sollte trotz allen Engagementes einmal doch niemand anzutreffen sein ohne dass dies aus dem Veranstaltungskalender entfernt wurde\, bitte wir um Nachsicht. Vielleicht fehlen ja auch gerade Sie in unserer Runde um diesen Mangel auszugleichen… 😉
URL:https://dresden-gruna.de/event/oeffnungszeit-buerger-treff-grunaer-aue-2018-11-19-2019-01-15/
LOCATION:Bürger-Treff „Grunaer Aue“ Winterbergstr.31c\, 01277 Dresden\, Winterbergstraße 31c\, Dresden\, 01277\, Deutschland
CATEGORIES:Planungs- und Absprachetreffen
ATTACH;FMTTYPE=image/jpeg:https://dresden-gruna.de/wp-content/uploads/2018/11/Bürger-Treff-e1542115366759.jpg
ORGANIZER;CN="'In Gruna leben' e.V.":MAILTO:post@dresden-gruna.de
END:VEVENT
BEGIN:VEVENT
DTSTART;TZID=Europe/Berlin:20190115T180000
DTEND;TZID=Europe/Berlin:20190115T200000
DTSTAMP:20260426T034353
CREATED:20180202T224911Z
LAST-MODIFIED:20180202T224911Z
UID:1458-1547575200-1547582400@dresden-gruna.de
SUMMARY:Plenum
DESCRIPTION:TOP 1: allgemeine und Vorstellungsrunde (neue Interessenten; zur Arbeitsweise der IGl allgemein mit Überblick über die Arbeitsgruppen und deren Ansprechpartnern usw.) \nTOP 2: Aktuelles und inhaltlicher Austausch zwischen den Arbeitsgruppen
URL:https://dresden-gruna.de/event/treff-der-interessengemeinschaft-5-2019-01-15/
LOCATION:Bürger-Treff „Grunaer Aue“ Winterbergstr.31c\, 01277 Dresden\, Winterbergstraße 31c\, Dresden\, 01277\, Deutschland
CATEGORIES:Planungs- und Absprachetreffen
ATTACH;FMTTYPE=image/jpeg:https://dresden-gruna.de/wp-content/uploads/2018/04/meeting.jpg
ORGANIZER;CN="'In Gruna leben' e.V.":MAILTO:post@dresden-gruna.de
END:VEVENT
BEGIN:VEVENT
DTSTART;TZID=Europe/Berlin:20190122T080000
DTEND;TZID=Europe/Berlin:20190122T170000
DTSTAMP:20260426T034353
CREATED:20180202T224911Z
LAST-MODIFIED:20180202T224911Z
UID:1539-1548144000-1548176400@dresden-gruna.de
SUMMARY:Plenum
DESCRIPTION:TOP 1: allgemeine und Vorstellungsrunde (neue Interessenten; zur Arbeitsweise der IGl allgemein mit Überblick über die Arbeitsgruppen und deren Ansprechpartnern usw.) \nTOP 2: Aktuelles und inhaltlicher Austausch zwischen den Arbeitsgruppen
URL:https://dresden-gruna.de/event/treff-der-interessengemeinschaft-5-2019-01-22-2/
LOCATION:Bürger-Treff „Grunaer Aue“ Winterbergstr.31c\, 01277 Dresden\, Winterbergstraße 31c\, Dresden\, 01277\, Deutschland
CATEGORIES:Planungs- und Absprachetreffen
ATTACH;FMTTYPE=image/jpeg:https://dresden-gruna.de/wp-content/uploads/2018/04/meeting.jpg
ORGANIZER;CN="'In Gruna leben' e.V.":MAILTO:post@dresden-gruna.de
END:VEVENT
BEGIN:VEVENT
DTSTART;TZID=Europe/Berlin:20190122T180000
DTEND;TZID=Europe/Berlin:20190122T190000
DTSTAMP:20260426T034353
CREATED:20181113T131712Z
LAST-MODIFIED:20190214T204951Z
UID:1137-1548180000-1548183600@dresden-gruna.de
SUMMARY:Öffnungszeit Bürger-Treff "Grunaer Aue"
DESCRIPTION:Dienstags von 18 bis 19 Uhr ist die Tür vom Bürger-Treff für alle geöffnet. Hier können wir ins Gespräch kommen und uns gemeinsam unsere Zukunft bauen. \nÜbrigens: alle „Arbeit“ in der IGL ist derzeit rein ehrenamtlich. Sollte trotz allen Engagementes einmal doch niemand anzutreffen sein ohne dass dies aus dem Veranstaltungskalender entfernt wurde\, bitte wir um Nachsicht. Vielleicht fehlen ja auch gerade Sie in unserer Runde um diesen Mangel auszugleichen… 😉
URL:https://dresden-gruna.de/event/oeffnungszeit-buerger-treff-grunaer-aue-2018-11-19-2019-01-22/
LOCATION:Bürger-Treff „Grunaer Aue“ Winterbergstr.31c\, 01277 Dresden\, Winterbergstraße 31c\, Dresden\, 01277\, Deutschland
CATEGORIES:Planungs- und Absprachetreffen
ATTACH;FMTTYPE=image/jpeg:https://dresden-gruna.de/wp-content/uploads/2018/11/Bürger-Treff-e1542115366759.jpg
ORGANIZER;CN="'In Gruna leben' e.V.":MAILTO:post@dresden-gruna.de
END:VEVENT
BEGIN:VEVENT
DTSTART;TZID=Europe/Berlin:20190122T180000
DTEND;TZID=Europe/Berlin:20190122T200000
DTSTAMP:20260426T034353
CREATED:20180202T224911Z
LAST-MODIFIED:20180202T224911Z
UID:1459-1548180000-1548187200@dresden-gruna.de
SUMMARY:Plenum
DESCRIPTION:TOP 1: allgemeine und Vorstellungsrunde (neue Interessenten; zur Arbeitsweise der IGl allgemein mit Überblick über die Arbeitsgruppen und deren Ansprechpartnern usw.) \nTOP 2: Aktuelles und inhaltlicher Austausch zwischen den Arbeitsgruppen
URL:https://dresden-gruna.de/event/treff-der-interessengemeinschaft-5-2019-01-22/
LOCATION:Bürger-Treff „Grunaer Aue“ Winterbergstr.31c\, 01277 Dresden\, Winterbergstraße 31c\, Dresden\, 01277\, Deutschland
CATEGORIES:Planungs- und Absprachetreffen
ATTACH;FMTTYPE=image/jpeg:https://dresden-gruna.de/wp-content/uploads/2018/04/meeting.jpg
ORGANIZER;CN="'In Gruna leben' e.V.":MAILTO:post@dresden-gruna.de
END:VEVENT
BEGIN:VEVENT
DTSTART;TZID=Europe/Berlin:20190124T170000
DTEND;TZID=Europe/Berlin:20190124T200000
DTSTAMP:20260426T034353
CREATED:20180320T150527Z
LAST-MODIFIED:20180320T150527Z
UID:1292-1548349200-1548360000@dresden-gruna.de
SUMMARY:RepairCafé Gruna
DESCRIPTION:Reparieren\, tüfteln\, Kaffee trinken \nNachbarn helfen Nachbarn: RepairCafé Gruna\nIm RepairCafé Gruna können Sie defekte Gebrauchsgegenstände unter fachkundiger Anleitung reparieren. Oder Ihren Nachbarn dabei helfen. Wo: Streetwork-Büro „Sofa9“ in der Rosenbergstraße 12\, 01277 Dresden. \nSie möchten defekte Gegenstände reparieren anstatt sie wegzuwerfen? Sie benötigen Werkzeug und fachkundige Unterstützung? Sie tauschen sich gern bei einem Stück Kuchen mit Ihren Nachbarn aus? Dann sind Sie im RepairCafé Gruna herzlich willkommen. Ob Ladekabel oder Fernseher; Sie können alle beweglichen Gegenstände mitbringen\, die sich zum RepairCafé transportieren lassen. Ausgeschlossen sind Fahrräder und sperrige Haushaltsgroßgeräte wie Waschmaschinen und Kühlschränke. \nReparaturtalente und Kuchenspenden willkommen\nDas RepairCafé Gruna ist eine ehrenamtliche Initiative\, die durch Reparaturen Ressourcen schonen möchte. Engagierte Reparaturtalente\, die ihren Nachbarn beim Reparieren helfen möchten\, können sich direkt im RepairCafé melden. Falls Sie das RepairCafé Gruna mit einer Kuchenspende unterstützen möchten\, teilen Sie dies bitte kurz telefonisch unter Tel: 0351 2632138 oder sigus-dd@t-online.de mit. \n \nKooperationsprojekt\nDas RepairCafé Gruna wird ermöglicht durch die Kooperation der Interessengemeinschaft „in Gruna leben“ c/o Sigus e.V.  mit dem Netzwerk RepairCafé Dresden-Freital und dem Streetwork-Büro Sofa9. . \n \nKontakt Projektkoordination RepairCafé Gruna:\ntanja@dresden-gruna.de \n  \n  \n 
URL:https://dresden-gruna.de/event/sechstes-repaircafe-gruna-2019-01-24/
LOCATION:Sofa9\, Rosenberstraße 12\, Dresden\, 01277
CATEGORIES:RepairCafé
ATTACH;FMTTYPE=image/png:https://dresden-gruna.de/wp-content/uploads/2018/03/repaircafe-gruna.png
ORGANIZER;CN="'In Gruna leben' e.V.":MAILTO:post@dresden-gruna.de
END:VEVENT
BEGIN:VEVENT
DTSTART;TZID=Europe/Berlin:20190127T170000
DTEND;TZID=Europe/Berlin:20190127T183000
DTSTAMP:20260426T034353
CREATED:20190116T233056Z
LAST-MODIFIED:20190116T233056Z
UID:1251-1548608400-1548613800@dresden-gruna.de
SUMMARY:Konzert: TU Bigband in der Thomaskirche
DESCRIPTION:Let it swing! \nAm 27. Januar ist es endlich soweit: Nach einem Jahr Pause spielt die TU Bigband Dresden wieder bei uns in der Thomaskirche! \nBeginn ist 17:00 Uhr. Der Eintritt ist wie immer frei.
URL:https://dresden-gruna.de/event/konzert-tu-bigband-in-der-thomaskirche/
LOCATION:Thomaskirche\, Bodenbacher Str. 21\, Dresden\, 01277\, Deutschland
CATEGORIES:Projekte und Aktionen
ORGANIZER;CN="Evangelisch-Lutherische Kirchgemeinde Dresden Gruna-Seidnitz":MAILTO:pfarramt@kirche-gruna-seidnitz.net
END:VEVENT
BEGIN:VEVENT
DTSTART;TZID=Europe/Berlin:20190129T080000
DTEND;TZID=Europe/Berlin:20190129T170000
DTSTAMP:20260426T034353
CREATED:20180202T224911Z
LAST-MODIFIED:20180202T224911Z
UID:1540-1548748800-1548781200@dresden-gruna.de
SUMMARY:Plenum
DESCRIPTION:TOP 1: allgemeine und Vorstellungsrunde (neue Interessenten; zur Arbeitsweise der IGl allgemein mit Überblick über die Arbeitsgruppen und deren Ansprechpartnern usw.) \nTOP 2: Aktuelles und inhaltlicher Austausch zwischen den Arbeitsgruppen
URL:https://dresden-gruna.de/event/treff-der-interessengemeinschaft-5-2019-01-29-2/
LOCATION:Bürger-Treff „Grunaer Aue“ Winterbergstr.31c\, 01277 Dresden\, Winterbergstraße 31c\, Dresden\, 01277\, Deutschland
CATEGORIES:Planungs- und Absprachetreffen
ATTACH;FMTTYPE=image/jpeg:https://dresden-gruna.de/wp-content/uploads/2018/04/meeting.jpg
ORGANIZER;CN="'In Gruna leben' e.V.":MAILTO:post@dresden-gruna.de
END:VEVENT
BEGIN:VEVENT
DTSTART;TZID=Europe/Berlin:20190129T180000
DTEND;TZID=Europe/Berlin:20190129T190000
DTSTAMP:20260426T034353
CREATED:20181113T131712Z
LAST-MODIFIED:20190214T204951Z
UID:1138-1548784800-1548788400@dresden-gruna.de
SUMMARY:Öffnungszeit Bürger-Treff "Grunaer Aue"
DESCRIPTION:Dienstags von 18 bis 19 Uhr ist die Tür vom Bürger-Treff für alle geöffnet. Hier können wir ins Gespräch kommen und uns gemeinsam unsere Zukunft bauen. \nÜbrigens: alle „Arbeit“ in der IGL ist derzeit rein ehrenamtlich. Sollte trotz allen Engagementes einmal doch niemand anzutreffen sein ohne dass dies aus dem Veranstaltungskalender entfernt wurde\, bitte wir um Nachsicht. Vielleicht fehlen ja auch gerade Sie in unserer Runde um diesen Mangel auszugleichen… 😉
URL:https://dresden-gruna.de/event/oeffnungszeit-buerger-treff-grunaer-aue-2018-11-19-2019-01-29/
LOCATION:Bürger-Treff „Grunaer Aue“ Winterbergstr.31c\, 01277 Dresden\, Winterbergstraße 31c\, Dresden\, 01277\, Deutschland
CATEGORIES:Planungs- und Absprachetreffen
ATTACH;FMTTYPE=image/jpeg:https://dresden-gruna.de/wp-content/uploads/2018/11/Bürger-Treff-e1542115366759.jpg
ORGANIZER;CN="'In Gruna leben' e.V.":MAILTO:post@dresden-gruna.de
END:VEVENT
BEGIN:VEVENT
DTSTART;TZID=Europe/Berlin:20190129T180000
DTEND;TZID=Europe/Berlin:20190129T200000
DTSTAMP:20260426T034353
CREATED:20180202T224911Z
LAST-MODIFIED:20180202T224911Z
UID:1460-1548784800-1548792000@dresden-gruna.de
SUMMARY:Plenum
DESCRIPTION:TOP 1: allgemeine und Vorstellungsrunde (neue Interessenten; zur Arbeitsweise der IGl allgemein mit Überblick über die Arbeitsgruppen und deren Ansprechpartnern usw.) \nTOP 2: Aktuelles und inhaltlicher Austausch zwischen den Arbeitsgruppen
URL:https://dresden-gruna.de/event/treff-der-interessengemeinschaft-5-2019-01-29/
LOCATION:Bürger-Treff „Grunaer Aue“ Winterbergstr.31c\, 01277 Dresden\, Winterbergstraße 31c\, Dresden\, 01277\, Deutschland
CATEGORIES:Planungs- und Absprachetreffen
ATTACH;FMTTYPE=image/jpeg:https://dresden-gruna.de/wp-content/uploads/2018/04/meeting.jpg
ORGANIZER;CN="'In Gruna leben' e.V.":MAILTO:post@dresden-gruna.de
END:VEVENT
BEGIN:VEVENT
DTSTART;TZID=Europe/Berlin:20190130T180000
DTEND;TZID=Europe/Berlin:20190130T193000
DTSTAMP:20260426T034353
CREATED:20190109T210544Z
LAST-MODIFIED:20190117T232317Z
UID:1246-1548871200-1548876600@dresden-gruna.de
SUMMARY:Ausstellungseröffnung
DESCRIPTION:Im Rahmen des Kulturmittwochs: \nEinladung \nWir eröffnen am Mittwoch\, dem 30.Januar 2019 um 18 Uhr in unserem Bürgertreff\, im Bürger-Treff „Grunaer Aue“ offiziell unsere kleine \nWinterbilderausstellung\nder Laienmalerin Gudrun Böhmig. \nAlle Grunaer und Gäste sind zu unserer kleinen Vernissage mit Kulturprogramm herzlich eingeladen.
URL:https://dresden-gruna.de/event/ausstellungseroeffnung/
LOCATION:Bürger-Treff „Grunaer Aue“ Winterbergstr.31c\, 01277 Dresden\, Winterbergstraße 31c\, Dresden\, 01277\, Deutschland
CATEGORIES:Projekte und Aktionen
ATTACH;FMTTYPE=image/jpeg:https://dresden-gruna.de/wp-content/uploads/2019/01/IMG_20181221_121638-e1547068201737.jpg
ORGANIZER;CN="'In Gruna leben' e.V.":MAILTO:post@dresden-gruna.de
END:VEVENT
END:VCALENDAR