BEGIN:VCALENDAR
VERSION:2.0
PRODID:-//In Gruna leben e.V. - ECPv6.8.3//NONSGML v1.0//EN
CALSCALE:GREGORIAN
METHOD:PUBLISH
X-ORIGINAL-URL:https://dresden-gruna.de
X-WR-CALDESC:Veranstaltungen für In Gruna leben e.V.
REFRESH-INTERVAL;VALUE=DURATION:PT1H
X-Robots-Tag:noindex
X-PUBLISHED-TTL:PT1H
BEGIN:VTIMEZONE
TZID:Europe/Berlin
BEGIN:DAYLIGHT
TZOFFSETFROM:+0100
TZOFFSETTO:+0200
TZNAME:CEST
DTSTART:20240331T010000
END:DAYLIGHT
BEGIN:STANDARD
TZOFFSETFROM:+0200
TZOFFSETTO:+0100
TZNAME:CET
DTSTART:20241027T010000
END:STANDARD
END:VTIMEZONE
BEGIN:VEVENT
DTSTART;TZID=Europe/Berlin:20241024T093000
DTEND;TZID=Europe/Berlin:20241024T113000
DTSTAMP:20260421T105409
CREATED:20240926T101904Z
LAST-MODIFIED:20240926T101904Z
UID:8478-1729762200-1729769400@dresden-gruna.de
SUMMARY:ZEICHNEN+MALEN mit Gerda Stender
DESCRIPTION:z.Z. ausgebucht
URL:https://dresden-gruna.de/event/zeichnenmalen-mit-gerda-stender-2/
LOCATION:Bürger-Treff „Grunaer Aue“ Winterbergstr.31c\, 01277 Dresden\, Winterbergstraße 31c\, Dresden\, 01277\, Deutschland
ATTACH;FMTTYPE=image/jpeg:https://dresden-gruna.de/wp-content/uploads/2023/02/blumen-1.jpg
ORGANIZER;CN="'In Gruna leben' e.V.":MAILTO:post@dresden-gruna.de
END:VEVENT
BEGIN:VEVENT
DTSTART;TZID=Europe/Berlin:20241024T160000
DTEND;TZID=Europe/Berlin:20241024T180000
DTSTAMP:20260421T105409
CREATED:20240926T102105Z
LAST-MODIFIED:20240926T102105Z
UID:8480-1729785600-1729792800@dresden-gruna.de
SUMMARY:Spielenachmittag
DESCRIPTION:mit Rommé\,Dame\, Mühle und anderen Spielen
URL:https://dresden-gruna.de/event/spielenachmittag-2/
LOCATION:Bürger-Treff „Grunaer Aue“ Winterbergstr.31c\, 01277 Dresden\, Winterbergstraße 31c\, Dresden\, 01277\, Deutschland
ATTACH;FMTTYPE=image/jpeg:https://dresden-gruna.de/wp-content/uploads/2023/02/Muehle.jpg
ORGANIZER;CN="'In Gruna leben' e.V.":MAILTO:post@dresden-gruna.de
END:VEVENT
BEGIN:VEVENT
DTSTART;TZID=Europe/Berlin:20241024T193000
DTEND;TZID=Europe/Berlin:20241024T213000
DTSTAMP:20260421T105409
CREATED:20240926T093308Z
LAST-MODIFIED:20240926T093308Z
UID:8466-1729798200-1729805400@dresden-gruna.de
SUMMARY:Wein – Mal- Abend
DESCRIPTION:In geselliger Runde malen\, nette Gespräche haben und Inspiration  erleben\,  sowie den Abend sinnvoll gestalten. \nBei Interesse bitte unter folgender Telefonnummer 015201969994 oder per Mail Juliane.Franke@gmail.com anmelden. \nTeilnahmebetrag 10\,00 €
URL:https://dresden-gruna.de/event/wein-mal-abend-8/
LOCATION:Bürger-Treff „Grunaer Aue“ Winterbergstr.31c\, 01277 Dresden\, Winterbergstraße 31c\, Dresden\, 01277\, Deutschland
ATTACH;FMTTYPE=image/jpeg:https://dresden-gruna.de/wp-content/uploads/2024/05/Malraum-2.jpg
ORGANIZER;CN="'In Gruna leben' e.V.":MAILTO:post@dresden-gruna.de
END:VEVENT
END:VCALENDAR