BEGIN:VCALENDAR
VERSION:2.0
PRODID:-//In Gruna leben e.V. - ECPv6.8.3//NONSGML v1.0//EN
CALSCALE:GREGORIAN
METHOD:PUBLISH
X-ORIGINAL-URL:https://dresden-gruna.de
X-WR-CALDESC:Veranstaltungen für In Gruna leben e.V.
REFRESH-INTERVAL;VALUE=DURATION:PT1H
X-Robots-Tag:noindex
X-PUBLISHED-TTL:PT1H
BEGIN:VTIMEZONE
TZID:Europe/Berlin
BEGIN:DAYLIGHT
TZOFFSETFROM:+0100
TZOFFSETTO:+0200
TZNAME:CEST
DTSTART:20240331T010000
END:DAYLIGHT
BEGIN:STANDARD
TZOFFSETFROM:+0200
TZOFFSETTO:+0100
TZNAME:CET
DTSTART:20241027T010000
END:STANDARD
END:VTIMEZONE
BEGIN:VEVENT
DTSTART;TZID=Europe/Berlin:20241019T150000
DTEND;TZID=Europe/Berlin:20241019T180000
DTSTAMP:20260421T105409
CREATED:20240926T100623Z
LAST-MODIFIED:20241013T182227Z
UID:8472-1729350000-1729360800@dresden-gruna.de
SUMMARY:Filmvorführung "Siedlungsfest"
DESCRIPTION:Wir feierten\, den 100-jährigen Baubeginn unserer Siedlung des Dresdner Spar- und Bauvereins und neues zur Wanderbroschüre um den Akazienhof \nKosten: 2\,00 € \nAnderer Ort:  Volkssolitarität „fidelio“ papstdorfer Straße 25\, 01277 Dresden
URL:https://dresden-gruna.de/event/filmvorfuehrung-siedlungsfest/
LOCATION:fidelio\, Papstdorfer Str. 25\, Dresden\, 01277\, Deutschland
ATTACH;FMTTYPE=image/jpeg:https://dresden-gruna.de/wp-content/uploads/2024/09/film-1.jpg
ORGANIZER;CN="'In Gruna leben' e.V.":MAILTO:post@dresden-gruna.de
END:VEVENT
END:VCALENDAR