BEGIN:VCALENDAR
VERSION:2.0
PRODID:-//In Gruna leben e.V. - ECPv6.8.3//NONSGML v1.0//EN
CALSCALE:GREGORIAN
METHOD:PUBLISH
X-ORIGINAL-URL:https://dresden-gruna.de
X-WR-CALDESC:Veranstaltungen für In Gruna leben e.V.
REFRESH-INTERVAL;VALUE=DURATION:PT1H
X-Robots-Tag:noindex
X-PUBLISHED-TTL:PT1H
BEGIN:VTIMEZONE
TZID:Europe/Berlin
BEGIN:DAYLIGHT
TZOFFSETFROM:+0100
TZOFFSETTO:+0200
TZNAME:CEST
DTSTART:20240331T010000
END:DAYLIGHT
BEGIN:STANDARD
TZOFFSETFROM:+0200
TZOFFSETTO:+0100
TZNAME:CET
DTSTART:20241027T010000
END:STANDARD
END:VTIMEZONE
BEGIN:VEVENT
DTSTART;TZID=Europe/Berlin:20241005T080000
DTEND;TZID=Europe/Berlin:20241005T170000
DTSTAMP:20260421T103635
CREATED:20240909T075911Z
LAST-MODIFIED:20240909T075911Z
UID:8361-1728115200-1728147600@dresden-gruna.de
SUMMARY:30 Jahre Pauline
DESCRIPTION:Wir feiern unser Herbstfest und 30 jähriges Jubiläum mit vielen Aktionen und anschließendem Laternenumzug um 18 Uhr.
URL:https://dresden-gruna.de/event/30-jahre-pauline/
LOCATION:Familienzentrum Pauline\, Papstdorfer Straße 41\, Dresden\, 01277\, Deutschland
CATEGORIES:Feste,Nachbarschaftstage,Projekte und Aktionen
ORGANIZER;CN="Familienzentrum Pauline":MAILTO:familienzentrum@pauline-dresden.de
END:VEVENT
BEGIN:VEVENT
DTSTART;TZID=Europe/Berlin:20241005T170000
DTEND;TZID=Europe/Berlin:20241005T170000
DTSTAMP:20260421T103635
CREATED:20240909T075611Z
LAST-MODIFIED:20240909T075611Z
UID:8358-1728147600-1728147600@dresden-gruna.de
SUMMARY:Siegfried Hermann liest Erich Kästner
DESCRIPTION:Musik und Literatur mit Texten von Erich Kästner
URL:https://dresden-gruna.de/event/siegfried-hermann-liest-erich-kaestner/
LOCATION:Thomaskirche\, Bodenbacher Str. 21\, Dresden\, 01277\, Deutschland
CATEGORIES:Nachbarschaftstage,Projekte und Aktionen
ORGANIZER;CN="Evangelisch-Lutherische Kirchgemeinde Dresden Gruna-Seidnitz":MAILTO:pfarramt@kirche-gruna-seidnitz.net
END:VEVENT
END:VCALENDAR