BEGIN:VCALENDAR
VERSION:2.0
PRODID:-//In Gruna leben e.V. - ECPv6.8.3//NONSGML v1.0//EN
CALSCALE:GREGORIAN
METHOD:PUBLISH
X-ORIGINAL-URL:https://dresden-gruna.de
X-WR-CALDESC:Veranstaltungen für In Gruna leben e.V.
REFRESH-INTERVAL;VALUE=DURATION:PT1H
X-Robots-Tag:noindex
X-PUBLISHED-TTL:PT1H
BEGIN:VTIMEZONE
TZID:Europe/Berlin
BEGIN:DAYLIGHT
TZOFFSETFROM:+0100
TZOFFSETTO:+0200
TZNAME:CEST
DTSTART:20240331T010000
END:DAYLIGHT
BEGIN:STANDARD
TZOFFSETFROM:+0200
TZOFFSETTO:+0100
TZNAME:CET
DTSTART:20241027T010000
END:STANDARD
END:VTIMEZONE
BEGIN:VEVENT
DTSTART;TZID=Europe/Berlin:20240926T110000
DTEND;TZID=Europe/Berlin:20240926T130000
DTSTAMP:20260421T115916
CREATED:20240909T072515Z
LAST-MODIFIED:20240909T072515Z
UID:8333-1727348400-1727355600@dresden-gruna.de
SUMMARY:"Mit Kochlöffel und Schneebesen"
DESCRIPTION:Junge Familien und Senioren kochen und essen gemeinsam. Ein Projekt des FZ „Pauline“ und des BBZ „Fidelio“. Nur mit Anmeldung.
URL:https://dresden-gruna.de/event/mit-kochloeffel-und-schneebesen-2/
LOCATION:fidelio\, Papstdorfer Str. 25\, Dresden\, 01277\, Deutschland
CATEGORIES:Gruna kocht!,Nachbarschaftstage
END:VEVENT
BEGIN:VEVENT
DTSTART;TZID=Europe/Berlin:20240926T150000
DTEND;TZID=Europe/Berlin:20240926T163000
DTSTAMP:20260421T115916
CREATED:20240909T072915Z
LAST-MODIFIED:20240909T072915Z
UID:8338-1727362800-1727368200@dresden-gruna.de
SUMMARY:Leseland DDR – woran wir uns erinnern\, was bleibt und was daraus heute geworden ist
DESCRIPTION:Zum Tag der deutschen Sprache lesen Nachbarn gemeinsam mit Senioren des Grunaer Schreibkreises aus ihren „Lieblingsbüchern“\, die sie prägten. Bitte bringen Sie Ihr Lieblingsbuch aus DDR-Zeiten mit! \nDer Schutz der Menschenrechte älterer Menschen ist oft schwach und manchmal nicht vorhanden. Amnesty International setzt sich dafür ein\, die Altersdiskriminierung zu beenden und Gesetze zu schaffen\, die die Rechte älterer Menschen schützen.“ /Older People – Amnesty International/
URL:https://dresden-gruna.de/event/leseland-ddr-woran-wir-uns-erinnern-was-bleibt-und-was-daraus-heute-geworden-ist/
LOCATION:Bibliothek Gruna\, Papdtdorfer Str. 13\, Dresden\, 01277\, Deutschland
CATEGORIES:Nachbarschaftstage,Projekte und Aktionen
ORGANIZER;CN="Sigus e.V.":MAILTO:sigus-dd@t-online.de
END:VEVENT
BEGIN:VEVENT
DTSTART;TZID=Europe/Berlin:20240926T160000
DTEND;TZID=Europe/Berlin:20240926T200000
DTSTAMP:20260421T115916
CREATED:20240827T110738Z
LAST-MODIFIED:20240920T103319Z
UID:8209-1727366400-1727380800@dresden-gruna.de
SUMMARY:Naturentdeckertag im Akazienhof\, Schneebergstraße 16\, Dresden-Gruna
DESCRIPTION:mit gemeinsamer Kräuterwanderung \, Insektenhotel bauen\, Naturquiz mit kleinen Überraschungen und natürlich wollen wir beim grillen selbstgemachte Kräuterbutter und Salate genießen. \nWild Things: Wildkräuter sammeln und verarbeiten \nLerne Flora und Fauna in deinem Umfeld kennen. Kräuter wachsen überall\, sind immer regional und saisonal und enthalten wertvolle Vitamine. Tauche ein in die Welt der Wildkräuter und lerne einfache Möglichkeiten Wildkräuter zu verarbeiten. \nKomm mit zur Wildkräuterwanderung mit der BUNDjugend Sachsen und des Freizeitclub der Lebenshilfe. \nWir schauen uns im und rund um den Akazienhof\, ein Natur-\, Kultur- und Nachbarschaftszentrum in Dresden Gruna\, um und lernen verschiedene Wildkräuter kennen. Nebenbei lassen sich Rätsel im Naturquizz lösen\, Igel- und Insektenhotels weiterbauen.  Wir verarbeiten die Wildkräuter in Kräuterbutter und Salaten. Danach lassen wir im gemütlichem Beisammensein  den Tag beim grillen ausklingen.
URL:https://dresden-gruna.de/event/naturentdeckertag-im-akazienhof/
LOCATION:Villa Akazienhof\, Schneebergstraße 16\, Schneebergstr. 16\, Dresden\, Sachsen\, 01277\, Deutschland
ATTACH;FMTTYPE=image/jpeg:https://dresden-gruna.de/wp-content/uploads/2024/06/thistle-4372437_640-e1718209231944.jpg
ORGANIZER;CN="'In Gruna leben' e.V.":MAILTO:post@dresden-gruna.de
END:VEVENT
END:VCALENDAR