BEGIN:VCALENDAR
VERSION:2.0
PRODID:-//In Gruna leben e.V. - ECPv6.8.3//NONSGML v1.0//EN
CALSCALE:GREGORIAN
METHOD:PUBLISH
X-ORIGINAL-URL:https://dresden-gruna.de
X-WR-CALDESC:Veranstaltungen für In Gruna leben e.V.
REFRESH-INTERVAL;VALUE=DURATION:PT1H
X-Robots-Tag:noindex
X-PUBLISHED-TTL:PT1H
BEGIN:VTIMEZONE
TZID:Europe/Berlin
BEGIN:DAYLIGHT
TZOFFSETFROM:+0100
TZOFFSETTO:+0200
TZNAME:CEST
DTSTART:20240331T010000
END:DAYLIGHT
BEGIN:STANDARD
TZOFFSETFROM:+0200
TZOFFSETTO:+0100
TZNAME:CET
DTSTART:20241027T010000
END:STANDARD
END:VTIMEZONE
BEGIN:VEVENT
DTSTART;TZID=Europe/Berlin:20240919T110000
DTEND;TZID=Europe/Berlin:20240919T130000
DTSTAMP:20260421T122201
CREATED:20240908T225229Z
LAST-MODIFIED:20240908T225229Z
UID:8319-1726743600-1726750800@dresden-gruna.de
SUMMARY:"Mit Kochlöffel und Schneebesen"
DESCRIPTION:Junge Familien und Senioren kochen und essen gemeinsam. Ein Projekt des FZ „Pauline“ und BBZ „Fidelio“. Nur mit Anmeldung.
URL:https://dresden-gruna.de/event/mit-kochloeffel-und-schneebesen/
LOCATION:Familienzentrum Pauline\, Papstdorfer Straße 41\, Dresden\, 01277\, Deutschland
CATEGORIES:Gruna kocht!,Nachbarschaftstage
ORGANIZER;CN="Familienzentrum Pauline":MAILTO:familienzentrum@pauline-dresden.de
END:VEVENT
BEGIN:VEVENT
DTSTART;TZID=Europe/Berlin:20240919T160000
DTEND;TZID=Europe/Berlin:20240919T180000
DTSTAMP:20260421T122201
CREATED:20240908T225054Z
LAST-MODIFIED:20240908T225054Z
UID:8317-1726761600-1726768800@dresden-gruna.de
SUMMARY:Bunte Kritzel Grafik – Malen zum Entspannen
DESCRIPTION:Eine intuitive Zeichenmethode zur Entspannung und zur Förderung der Kreativität. Im Vordergrund steht die Freude am Gestalten.
URL:https://dresden-gruna.de/event/bunte-kritzel-grafik-malen-zum-entspannen/
LOCATION:ASB Wiesenhäuser\, Wiesenstraße 17\, Dresden\, 01277\, Deutschland
CATEGORIES:Nachbarschaftstage
END:VEVENT
BEGIN:VEVENT
DTSTART;TZID=Europe/Berlin:20240919T170000
DTEND;TZID=Europe/Berlin:20240919T180000
DTSTAMP:20260421T122201
CREATED:20240827T105400Z
LAST-MODIFIED:20240906T083627Z
UID:8199-1726765200-1726768800@dresden-gruna.de
SUMMARY:ZEICHNEN+MALEN
DESCRIPTION:Wir bieten Anleitung: „Hinsehen\, in die Natur einsehen- das ist unser Ziel\,\nmit Stift und guter Laune.“\nKeine Anmeldung\, Es wird alles mitgebracht. \n\nBitte beachten:  ANDERER ORT Akazienhof\, Schneebergstraße 16 Dresden-Gruna
URL:https://dresden-gruna.de/event/zeichnenmalen-im-akazienhof/
LOCATION:Villa Akazienhof\, Schneebergstraße 16\, Schneebergstr. 16\, Dresden\, Sachsen\, 01277\, Deutschland
ATTACH;FMTTYPE=image/jpeg:https://dresden-gruna.de/wp-content/uploads/2023/02/blumen-1.jpg
ORGANIZER;CN="'In Gruna leben' e.V.":MAILTO:post@dresden-gruna.de
END:VEVENT
BEGIN:VEVENT
DTSTART;TZID=Europe/Berlin:20240919T183000
DTEND;TZID=Europe/Berlin:20240919T213000
DTSTAMP:20260421T122201
CREATED:20240827T105550Z
LAST-MODIFIED:20240827T105550Z
UID:8201-1726770600-1726781400@dresden-gruna.de
SUMMARY:Wein – Mal- Abend
DESCRIPTION:In geselliger Runde malen\, nette Gespräche haben und Inspiration  erleben\,  sowie den Abend sinnvoll gestalten. \nBei Interesse bitte unter folgender Telefonnummer 015201969994 oder per Mail Juliane.Franke@gmail.com anmelden. \nTeilnahmebetrag 10\,00 €
URL:https://dresden-gruna.de/event/wein-mal-abend-7/
LOCATION:Bürger-Treff „Grunaer Aue“ Winterbergstr.31c\, 01277 Dresden\, Winterbergstraße 31c\, Dresden\, 01277\, Deutschland
ATTACH;FMTTYPE=image/jpeg:https://dresden-gruna.de/wp-content/uploads/2024/05/Malraum-2.jpg
ORGANIZER;CN="'In Gruna leben' e.V.":MAILTO:post@dresden-gruna.de
END:VEVENT
END:VCALENDAR