BEGIN:VCALENDAR
VERSION:2.0
PRODID:-//In Gruna leben e.V. - ECPv6.8.3//NONSGML v1.0//EN
CALSCALE:GREGORIAN
METHOD:PUBLISH
X-ORIGINAL-URL:https://dresden-gruna.de
X-WR-CALDESC:Veranstaltungen für In Gruna leben e.V.
REFRESH-INTERVAL;VALUE=DURATION:PT1H
X-Robots-Tag:noindex
X-PUBLISHED-TTL:PT1H
BEGIN:VTIMEZONE
TZID:Europe/Berlin
BEGIN:DAYLIGHT
TZOFFSETFROM:+0100
TZOFFSETTO:+0200
TZNAME:CEST
DTSTART:20240331T010000
END:DAYLIGHT
BEGIN:STANDARD
TZOFFSETFROM:+0200
TZOFFSETTO:+0100
TZNAME:CET
DTSTART:20241027T010000
END:STANDARD
END:VTIMEZONE
BEGIN:VEVENT
DTSTART;TZID=Europe/Berlin:20240917T130000
DTEND;TZID=Europe/Berlin:20240917T180000
DTSTAMP:20260421T122054
CREATED:20240827T120900Z
LAST-MODIFIED:20240827T120900Z
UID:8215-1726578000-1726596000@dresden-gruna.de
SUMMARY:Sprechzeit im Bürgertreff
DESCRIPTION:Sie können persönlich Kontakt zu uns aufnehmen und Anregungen\, Ideen & Wünsche äußern\, Fragen stellen oder Dich über unsere Aktionen und Mitmach-Möglichkeiten informieren. \nSie können aber auch gern einen Termin außerhalb der Sprechzeit  vereinbaren.  Telefon:    0351 26552063   oder  015227717854  vielen Dank
URL:https://dresden-gruna.de/event/sprechzeit-im-buergertreff-118/
LOCATION:Bürger-Treff „Grunaer Aue“ Winterbergstr.31c\, 01277 Dresden\, Winterbergstraße 31c\, Dresden\, 01277\, Deutschland
ORGANIZER;CN="'In Gruna leben' e.V.":MAILTO:post@dresden-gruna.de
END:VEVENT
BEGIN:VEVENT
DTSTART;TZID=Europe/Berlin:20240917T150000
DTEND;TZID=Europe/Berlin:20240917T190000
DTSTAMP:20260421T122054
CREATED:20240824T120556Z
LAST-MODIFIED:20240917T123730Z
UID:8155-1726585200-1726599600@dresden-gruna.de
SUMMARY:Einladung zur Beteiligung: Wie soll der Rothermundtpark in Altgruna zukünftig aussehen?
DESCRIPTION:Der Rothermundtpark in Altgruna soll neu gestaltet und erweitert werden. Elemente für Sport und Spiel sowie Sitzmöglichkeiten sollen die Aufenthalts- und Erlebnisqualität weiter erhöhen und den Parkattraktiver machen. In den Jahren 2021 und 2022 gab es bereits verschiedene Bürgerbeteiligungen in Altgruna. Die dort gegebenen Ideen fl ossen in den aktuellen Vorentwurf für die Neugestaltung des Parks ein. Die aktuelle Planung wird nun während der Grunaer Nachbarschaft stage im Rothermundtpark vorgestellt. Alle Interessierten sind eingeladen\, an Plänen und Stellwänden mit Klebezett eln und -punkten über die zukünft ige Ausstatt ung abzusti mmen. \nWann und wo: Dienstag\, 17. September 2024\, Rothermundtpark an der Rosenbergstraße \n15 bis 17 Uhr: Beteiligung für Kinder in Begleitung ihrer Eltern \n17 bis 19 Uhr: Beteiligung für Jugendliche und junge Erwachsene sowie weitere \nInteressierte aus allen Altersgruppen \nEine Anmeldung ist nicht erforderlich. \nDas Amt für Stadtplanung und Mobilität lädt zusammen mit dem Amt für Stadtgrün und Abfallwirtschaft \, dem Planungsbüro\, dem Verein „In Gruna Leben“ e. V. sowie dem Streetwork-Büro „sofa 9“ alle Anwohnenden und Interessierten ein. Die Finanzierung erfolgt durch das Förderprogramm „Nachhaltige integrierte Stadtentwicklung“. Das Programm läuft seit 2021 bis 2027 und ist Teil des Europäischen Fonds für Regionale Entwicklung (EFRE). \nEinladung zur Beteiligung_Handzettel_Rothermundpark_17.09.2024
URL:https://dresden-gruna.de/event/einladung-zur-beteiligung-im-rothermundpark/
ATTACH;FMTTYPE=image/jpeg:https://dresden-gruna.de/wp-content/uploads/2024/08/Titelbild_Rothermundtpark.jpg
END:VEVENT
BEGIN:VEVENT
DTSTART;TZID=Europe/Berlin:20240917T160000
DTEND;TZID=Europe/Berlin:20240917T173000
DTSTAMP:20260421T122054
CREATED:20240909T080101Z
LAST-MODIFIED:20240909T080101Z
UID:8365-1726588800-1726594200@dresden-gruna.de
SUMMARY:Spielekiste
DESCRIPTION:Aktionen für Kids im Rothermundpark (fällt bei Regen aus)
URL:https://dresden-gruna.de/event/spielekiste-3/
LOCATION:Rothermundtpark\, Dresden\, 01277\, Deutschland
CATEGORIES:Nachbarschaftstage,Projekte und Aktionen
END:VEVENT
BEGIN:VEVENT
DTSTART;TZID=Europe/Berlin:20240917T180000
DTEND;TZID=Europe/Berlin:20240917T193000
DTSTAMP:20260421T122054
CREATED:20240827T104409Z
LAST-MODIFIED:20240827T104409Z
UID:8195-1726596000-1726601400@dresden-gruna.de
SUMMARY:IGL Plenum Nachbarn willkommen
DESCRIPTION:Kommen Sie gern mit uns ins Gespräch. Ihre Anregungen\, Ideen und Fragen aus und für die Nachbarschaft sind uns wichtig. \nBitte bachten\, ANDERER ORT: Akazienhof\, Schneebergstraße 16\, Dresden
URL:https://dresden-gruna.de/event/igl-plenum-nachbarn-willkommen-2/
LOCATION:Bürger-Treff „Grunaer Aue“ Winterbergstr.31c\, 01277 Dresden\, Winterbergstraße 31c\, Dresden\, 01277\, Deutschland
ORGANIZER;CN="'In Gruna leben' e.V.":MAILTO:post@dresden-gruna.de
END:VEVENT
BEGIN:VEVENT
DTSTART;TZID=Europe/Berlin:20240917T200000
DTEND;TZID=Europe/Berlin:20240917T220000
DTSTAMP:20260421T122054
CREATED:20240827T104604Z
LAST-MODIFIED:20240917T123529Z
UID:8197-1726603200-1726610400@dresden-gruna.de
SUMMARY:Vollmondfeuer mit Tanz und Live Trommeln im Akazienhof
DESCRIPTION:Tanze und genieße die Energie der Vollmondnacht am Lagerfeuer
URL:https://dresden-gruna.de/event/vollmondfeuer-mit-tanz-und-live-trommeln-im-akazienhof/
LOCATION:Bürger-Treff „Grunaer Aue“ Winterbergstr.31c\, 01277 Dresden\, Winterbergstraße 31c\, Dresden\, 01277\, Deutschland
CATEGORIES:Akazienhof
ATTACH;FMTTYPE=image/jpeg:https://dresden-gruna.de/wp-content/uploads/2024/07/fire-3312_1280-e1720902902867.jpg
ORGANIZER;CN="'In Gruna leben' e.V.":MAILTO:post@dresden-gruna.de
END:VEVENT
END:VCALENDAR