BEGIN:VCALENDAR
VERSION:2.0
PRODID:-//In Gruna leben e.V. - ECPv6.8.3//NONSGML v1.0//EN
CALSCALE:GREGORIAN
METHOD:PUBLISH
X-ORIGINAL-URL:https://dresden-gruna.de
X-WR-CALDESC:Veranstaltungen für In Gruna leben e.V.
REFRESH-INTERVAL;VALUE=DURATION:PT1H
X-Robots-Tag:noindex
X-PUBLISHED-TTL:PT1H
BEGIN:VTIMEZONE
TZID:Europe/Berlin
BEGIN:DAYLIGHT
TZOFFSETFROM:+0100
TZOFFSETTO:+0200
TZNAME:CEST
DTSTART:20240331T010000
END:DAYLIGHT
BEGIN:STANDARD
TZOFFSETFROM:+0200
TZOFFSETTO:+0100
TZNAME:CET
DTSTART:20241027T010000
END:STANDARD
END:VTIMEZONE
BEGIN:VEVENT
DTSTART;TZID=Europe/Berlin:20240916T100000
DTEND;TZID=Europe/Berlin:20240916T120000
DTSTAMP:20260421T122201
CREATED:20240827T103442Z
LAST-MODIFIED:20240827T103442Z
UID:8191-1726480800-1726488000@dresden-gruna.de
SUMMARY:DigitalCafé\, die Sprechstunde zu Smartphone & Co.
DESCRIPTION:Das DigitalCafé findet als Sprechstunde ausgebildeter Technikbotschafter zu Fragen im Umgang mit Smartphone & Co.\nimmer am 2. Montag in der Zeit zwischen 10 und 12 Uhr im Bürgertreff „Grunaer Aue“\,\nWinterbergstr. 31c\, 10277 Dresden statt. \nWeitere Informationen  auf der WEB-Seite DigitalCafe!
URL:https://dresden-gruna.de/event/digitalcafe-die-sprechstunde-zu-smartphone-co-16/
LOCATION:Bürger-Treff „Grunaer Aue“ Winterbergstr.31c\, 01277 Dresden\, Winterbergstraße 31c\, Dresden\, 01277\, Deutschland
ATTACH;FMTTYPE=image/jpeg:https://dresden-gruna.de/wp-content/uploads/2022/12/images.jpg
ORGANIZER;CN="'In Gruna leben' e.V.":MAILTO:post@dresden-gruna.de
END:VEVENT
BEGIN:VEVENT
DTSTART;TZID=Europe/Berlin:20240916T160000
DTEND;TZID=Europe/Berlin:20240916T180000
DTSTAMP:20260421T122201
CREATED:20240612T150924Z
LAST-MODIFIED:20240916T093547Z
UID:7563-1726502400-1726509600@dresden-gruna.de
SUMMARY:Malraum - Heute in den Wiesenhäusern
DESCRIPTION:„Male was in dir ist!“ \nHeute findet der Malraum im ASB-Begegnungszentrum „Wiesenhäuser“ statt\, auf der Wiesenstraße 17\, 01277 Dresden \nNächsten Montag gibt es wieder die Möglichkeit im Grünen Pavillon des Akazienhofgartens der eigenen Kreativität freien Lauf zu lassen. \nJeweils eine Stunde intuitives Malen von 16-17 Uhr und 17-18 Uhr im Akazienhof. \nAnmeldung bei der Malraumleiterin Juliane Franke\nTel.: 01520 1969994\nE-Mail: juliane.franke77@gmail.com\nwww.JulianesTraumbilderwelten.de
URL:https://dresden-gruna.de/event/malraum-am-akazienhof-8/
LOCATION:Villa Akazienhof\, Schneebergstraße 16\, Schneebergstr. 16\, Dresden\, Sachsen\, 01277\, Deutschland
CATEGORIES:Akazienhof
ATTACH;FMTTYPE=image/jpeg:https://dresden-gruna.de/wp-content/uploads/2024/05/Malraum-1.jpg
END:VEVENT
BEGIN:VEVENT
DTSTART;TZID=Europe/Berlin:20240916T163000
DTEND;TZID=Europe/Berlin:20240916T180000
DTSTAMP:20260421T122201
CREATED:20240827T200903Z
LAST-MODIFIED:20240827T200923Z
UID:8228-1726504200-1726509600@dresden-gruna.de
SUMMARY:Nachbarschaftskreis Gruna - DDR-Erfahrungen in der heutigen Gesellschaft
DESCRIPTION:Auferstanden … \nund der Zukunft zugewandt. \nWie nützlich können DDR-Erfahrungen in der heute \ngespaltenen Gesellschaft sein? \nWas Hänschen nicht lernt\, lernt Hans\nnimmermehr.\nDiese alte Weisheit zeigt\, dass den Menschen schon lange klar ist\, welche wichtige Rolle die\nBildung im Kindes- und Jugendalter spielt. Und so wurden bereits im September 1945 die\nSchule auch in der Sowjetischen Besatzungszone wieder geöffnet – und die alten Lehrer aus der\nNS-Zeit durch in Schnellkursen ausgebildete Neulehrer ersetzt. Damit war der Grundstein für\ndas Bildungssystem in der späteren DDR gelegt. Erklärtes Bildungsziel war die „Erziehung zu\nsozialistischen Persönlichkeiten“\, was durch die jeweiligen Lehrer und Lehrerinnen oft recht\nunterschiedlich interpretiert wurde. \nDoch war Bildung in der DDR wirklich nur Ideologie? Was haben wir gelernt – und was\nversäumt? Diese und andere Fragen wollen wir aus Sicht von (ehemaligen) Lehrern und\nSchülern beleuchten.\nSie sind herzlich eingeladen\, dazu beizutragen.
URL:https://dresden-gruna.de/event/nachbarschaftskreis-gruna-ddr-erfahrungen-in-der-heutigen-gesellschaft/
LOCATION:Bürger-Treff „Grunaer Aue“ Winterbergstr.31c\, 01277 Dresden\, Winterbergstraße 31c\, Dresden\, 01277\, Deutschland
ATTACH;FMTTYPE=image/jpeg:https://dresden-gruna.de/wp-content/uploads/2024/06/Logo-III-e1717526829951.jpg
ORGANIZER;CN="'In Gruna leben' e.V.":MAILTO:post@dresden-gruna.de
END:VEVENT
END:VCALENDAR