BEGIN:VCALENDAR
VERSION:2.0
PRODID:-//In Gruna leben e.V. - ECPv6.8.3//NONSGML v1.0//EN
CALSCALE:GREGORIAN
METHOD:PUBLISH
X-ORIGINAL-URL:https://dresden-gruna.de
X-WR-CALDESC:Veranstaltungen für In Gruna leben e.V.
REFRESH-INTERVAL;VALUE=DURATION:PT1H
X-Robots-Tag:noindex
X-PUBLISHED-TTL:PT1H
BEGIN:VTIMEZONE
TZID:Europe/Berlin
BEGIN:DAYLIGHT
TZOFFSETFROM:+0100
TZOFFSETTO:+0200
TZNAME:CEST
DTSTART:20240331T010000
END:DAYLIGHT
BEGIN:STANDARD
TZOFFSETFROM:+0200
TZOFFSETTO:+0100
TZNAME:CET
DTSTART:20241027T010000
END:STANDARD
END:VTIMEZONE
BEGIN:VEVENT
DTSTART;TZID=Europe/Berlin:20240914T110000
DTEND;TZID=Europe/Berlin:20240914T150000
DTSTAMP:20260421T122201
CREATED:20240908T224535Z
LAST-MODIFIED:20240908T224535Z
UID:8315-1726311600-1726326000@dresden-gruna.de
SUMMARY:Nachbarschafts-Picknick
DESCRIPTION:„Gemeinsam. Füreinander” \nNACHBARSCHAFTS-PICKNICK am 14.September 2024 \nzum Auftakt der Nachbarschaftstage laden wir mit Musik und Infoständen zum inklusiven Nachbarschafts- und Mitbring-Picknick am Findlingsbrunnen ein.  \nWir wollen gemeinsam essen\, uns austauschen und neue Kontakte knüpfen. Kommt vorbei und lernt eure Nachbarn kennen. \nJeder kann etwas zum Mitbring-Picknick beitragen. Wir stellen einen Grill zur Verfügung.  Bringt gern eigenes Geschirr und Besteck mit. \nWann : Samstag\, 14.09.2024 – von 11 bis 15 Uhr \nWo : Wiese zwischen Arkaden und Findlingsbrunnen \, Papstdorferstraße\, Altgruna\, 01277 \nDer Eintritt ist frei.  \nWir freuen uns auf Euren Besuch.
URL:https://dresden-gruna.de/event/nachbarschafts-picknick/
LOCATION:Findlingsbrunnen\, 2QMP+M5 Dresden\, Dresden\, 01277\, Deutschland
CATEGORIES:Feste,Nachbarschaftstage,Projekte und Aktionen
ORGANIZER;CN="'In Gruna leben' e.V.":MAILTO:post@dresden-gruna.de
END:VEVENT
END:VCALENDAR