BEGIN:VCALENDAR
VERSION:2.0
PRODID:-//In Gruna leben e.V. - ECPv6.8.3//NONSGML v1.0//EN
CALSCALE:GREGORIAN
METHOD:PUBLISH
X-ORIGINAL-URL:https://dresden-gruna.de
X-WR-CALDESC:Veranstaltungen für In Gruna leben e.V.
REFRESH-INTERVAL;VALUE=DURATION:PT1H
X-Robots-Tag:noindex
X-PUBLISHED-TTL:PT1H
BEGIN:VTIMEZONE
TZID:Europe/Berlin
BEGIN:DAYLIGHT
TZOFFSETFROM:+0100
TZOFFSETTO:+0200
TZNAME:CEST
DTSTART:20240331T010000
END:DAYLIGHT
BEGIN:STANDARD
TZOFFSETFROM:+0200
TZOFFSETTO:+0100
TZNAME:CET
DTSTART:20241027T010000
END:STANDARD
END:VTIMEZONE
BEGIN:VEVENT
DTSTART;TZID=Europe/Berlin:20240902T100000
DTEND;TZID=Europe/Berlin:20240909T180000
DTSTAMP:20260421T122148
CREATED:20240830T144225Z
LAST-MODIFIED:20240830T144234Z
UID:8268-1725271200-1725904800@dresden-gruna.de
SUMMARY:Sommerbaustelle Akazienhof
DESCRIPTION:🌞🔨 Sommerbaustelle im Akazienhof! 🔨🌞 \nMach mit und werde Teil eines einzigartigen Projekts! Gemeinsam schleifen\, sägen\, schrauben und hämmern wir daran\, unseren Garten in einen lebendigen Begegnungsort für Jung und Alt zu verwandeln. 🌳💚 \nVon der Regentonne über den Pavillonbau bis zur Versetzung der Holzhütte – es gibt viel zu tun! Lass uns zusammen Pflanz- und Spielflächen schaffen\, die zum Verweilen und Entspannen einladen. 🌼👶👵 \nKomm vorbei\, bring deine Freunde mit und lass uns gemeinsam anpacken! 💪✨ \nDatum: von 2. bis 6. September\nUhrzeit: zwischen 10 – 18 Uhr\nOrt: Garten der Villa Akazienhof \nSei dabei und hilf uns\, den Akazienhof zu einem Ort der Begegnung für alle Generationen zu machen!   \nANMELDUNG UNTER: post@dresden-gruna.de \n#Akazienhof #Sommerbaustelle #Gemeinschaft #JungUndAlt
URL:https://dresden-gruna.de/event/sommerbaustelle/
LOCATION:Villa Akazienhof\, Schneebergstraße 16\, Schneebergstr. 16\, Dresden\, Sachsen\, 01277\, Deutschland
CATEGORIES:Akazienhof,Projekte und Aktionen
ATTACH;FMTTYPE=image/jpeg:https://dresden-gruna.de/wp-content/uploads/2024/08/stichsaege_baustelle_akazienhof-scaled.jpg
ORGANIZER;CN="'In Gruna leben' e.V.":MAILTO:post@dresden-gruna.de
END:VEVENT
BEGIN:VEVENT
DTSTART;TZID=Europe/Berlin:20240906T180000
DTEND;TZID=Europe/Berlin:20240906T190000
DTSTAMP:20260421T122148
CREATED:20240827T130112Z
LAST-MODIFIED:20240827T130112Z
UID:8220-1725645600-1725649200@dresden-gruna.de
SUMMARY:Pizzica-Tanzkurs\, jeden Freitag im Akazienhof\,
DESCRIPTION:Hast du Lust draußen zu tanzen und einen lebendigen\, rhythmischen\,\ndynamischen Tanz aus Süditalien – La Pizzica – kennenzulernen?\nEinst ein Trance- und Heilungstanz\, wird die Pizzica heute oftmals\npaarweise auf Festen getanzt. Aber natürlich auch solo\, für sich selbst.\nWir lernen konkrete Schritte und Bewegungen\, jedoch ist es eine\nganzheitliche Praxis\, wobei es auch immer um dein Sein\, dein Fühlen und\nden Ausdruck mit dir & deinem Körper geht.\nProbier es aus\, komm vorbei!\nFreitags 18 Uhr\, im Akazienhof in Gruna. \nTeilnahme auf Spendenbasis (10-15 €) \nBitte anmelden bei Anja Schumann:\nTel. 0176 69078162 oder\nanya15@posteo.de \nMehr zu Pizzica und Anja Schumann: Home – Pizzica Tanzen Dresden (pizzica-tanzen.de)
URL:https://dresden-gruna.de/event/pizzica-tanzkurs-jeden-freitag-im-akazienhof/
LOCATION:Villa Akazienhof\, Schneebergstraße 16\, Schneebergstr. 16\, Dresden\, Sachsen\, 01277\, Deutschland
ATTACH;FMTTYPE=image/png:https://dresden-gruna.de/wp-content/uploads/2024/06/PizzicaTanzkursAkazienhof-e1718990104383.png
ORGANIZER;CN="'In Gruna leben' e.V.":MAILTO:post@dresden-gruna.de
END:VEVENT
END:VCALENDAR