BEGIN:VCALENDAR
VERSION:2.0
PRODID:-//In Gruna leben e.V. - ECPv6.8.3//NONSGML v1.0//EN
CALSCALE:GREGORIAN
METHOD:PUBLISH
X-ORIGINAL-URL:https://dresden-gruna.de
X-WR-CALDESC:Veranstaltungen für In Gruna leben e.V.
REFRESH-INTERVAL;VALUE=DURATION:PT1H
X-Robots-Tag:noindex
X-PUBLISHED-TTL:PT1H
BEGIN:VTIMEZONE
TZID:Europe/Berlin
BEGIN:DAYLIGHT
TZOFFSETFROM:+0100
TZOFFSETTO:+0200
TZNAME:CEST
DTSTART:20240331T010000
END:DAYLIGHT
BEGIN:STANDARD
TZOFFSETFROM:+0200
TZOFFSETTO:+0100
TZNAME:CET
DTSTART:20241027T010000
END:STANDARD
END:VTIMEZONE
BEGIN:VEVENT
DTSTART;TZID=Europe/Berlin:20240829T180000
DTEND;TZID=Europe/Berlin:20240829T190000
DTSTAMP:20260421T122054
CREATED:20240726T143842Z
LAST-MODIFIED:20240825T144340Z
UID:8020-1724954400-1724958000@dresden-gruna.de
SUMMARY:Cumanana - Afro-Latino Tanzkurs im Akazienhof
DESCRIPTION:Noch für den ganzen August findet jeden Donnerstag zwischen 18 und 19 Uhr im Akazienhof ein afro-lateinamerikanischer Tanzkurs statt – Cumanana.\nCumanana kombiniert die lebhaften Rhythmen und Klänge der Afro-Volksmusik aus Peru\, Brasilien und der Karibik mit wirbelnden Kreisformationen. \nDer Kurs ist kostenlos und erfordert keine Anmeldung. Alle sind herzlich eingeladen teilzunehmen! \nKursleiterin María Vásquez de Grunewald: Instagram und Kurzvorstellung \nAb dem 05. September bietet María ihren Cumanana Afro-Latino Tanzkurs bei der Sportinsel Gruna an: https://kikudoo.com/cumanana/courses/WDrj5E
URL:https://dresden-gruna.de/event/cumanana-afro-latino-tanzkurs-im-akazienhof-5/
LOCATION:Villa Akazienhof\, Schneebergstraße 16\, Schneebergstr. 16\, Dresden\, Sachsen\, 01277\, Deutschland
CATEGORIES:Akazienhof,Treffen und Kurse
ATTACH;FMTTYPE=image/jpeg:https://dresden-gruna.de/wp-content/uploads/2024/05/Insta_Akazienhof_Info_Post-1-e1716141114389.jpg
ORGANIZER;CN="Mar%C3%ADa V%C3%A1squez de Grunewald":MAILTO:andreavc2012@gmail.com
END:VEVENT
BEGIN:VEVENT
DTSTART;TZID=Europe/Berlin:20240829T193000
DTEND;TZID=Europe/Berlin:20240829T210000
DTSTAMP:20260421T122054
CREATED:20240725T111440Z
LAST-MODIFIED:20240725T111440Z
UID:7957-1724959800-1724965200@dresden-gruna.de
SUMMARY:Wein – Mal- Abend
DESCRIPTION:In geselliger Runde malen\, nette Gespräche haben und Inspiration  erleben\,  sowie den Abend sinnvoll gestalten. \nBei Interesse bitte unter folgender Telefonnummer 015201969994 oder per Mail Juliane.Franke@gmail.com anmelden. \nTeilnahmebetrag 10\,00 €
URL:https://dresden-gruna.de/event/wein-mal-abend-6/
LOCATION:Bürger-Treff „Grunaer Aue“ Winterbergstr.31c\, 01277 Dresden\, Winterbergstraße 31c\, Dresden\, 01277\, Deutschland
ATTACH;FMTTYPE=image/jpeg:https://dresden-gruna.de/wp-content/uploads/2024/05/Malraum-2.jpg
ORGANIZER;CN="'In Gruna leben' e.V.":MAILTO:post@dresden-gruna.de
END:VEVENT
BEGIN:VEVENT
DTSTART;TZID=Europe/Berlin:20240829T193000
DTEND;TZID=Europe/Berlin:20240829T213000
DTSTAMP:20260421T122054
CREATED:20240725T111934Z
LAST-MODIFIED:20240821T134130Z
UID:7961-1724959800-1724967000@dresden-gruna.de
SUMMARY:Filmabend im Akazienhof "Green City Life"
DESCRIPTION:Am Donnerstag zeigen wir im Grünen Pavillon des Akazienhofes zusammen mit dem Zukunftsgestalten e.V. den Film „Green City Life“.\nDieser Filmabend mit anschließendem Gespräch über das Thema Stadtmitgestaltung ist Teil des „Zukunftskino“\, das der Zukunftsgestalten e.V. im August und September in ganz Dresden veranstaltet. In 5 Gemeinschaftsgärten werden 5 verschiedene Filme zu den Themen Gemeinschaft\, Stadtmitgestaltung\, Partizipation und Demokratie gezeigt und sich darüber ausgetauscht. \nSeid dabei\, wenn wir uns in der schönen Atmosphäre des Akazienhofgartens mit Themen\, die unsere Zukunft betreffen\, beschäftigen. \nDer Eintritt ist frei! \n„Green City Life“\nOriginal mit deutschen Untertiteln\n85 Minuten\nTrailer: https://vimeo.com/798746789/\nWie wünschen wir uns die Städte der Zukunft?\nDie zwei jungen Filmemacher:innen Manon und François stellen angesichts steigender Weltbevölkerung und Temperaturen\, aussterbender Ökosysteme und gähnender Betonwüsten fest\, wie wichtig es ist\, die Art und Weise\, wie wir in Städten bauen und leben\, zu überdenken. Sie sind weder Ökologen noch Wissenschaftler und bezeichnen sich selbst als zwei besorgte Stadtliebhaber. Mit dieser Sorge als treibende Kraft machen sie sich auf auf eine Reise und kommen mit Stadtmitgestalter:innen zusammen\, um Inspiration und Best Practice Beispiele für eine Welt von morgen zu sammeln.
URL:https://dresden-gruna.de/event/filmabend-im-akazienhof-green-sity-life/
LOCATION:Villa Akazienhof\, Schneebergstraße 16\, Schneebergstr. 16\, Dresden\, Sachsen\, 01277\, Deutschland
CATEGORIES:Akazienhof
ATTACH;FMTTYPE=image/jpeg:https://dresden-gruna.de/wp-content/uploads/2024/07/brick-wall-1869537_1280-e1723476521173.jpg
ORGANIZER;CN="'In Gruna leben' e.V.":MAILTO:post@dresden-gruna.de
END:VEVENT
END:VCALENDAR