BEGIN:VCALENDAR
VERSION:2.0
PRODID:-//In Gruna leben e.V. - ECPv6.8.3//NONSGML v1.0//EN
CALSCALE:GREGORIAN
METHOD:PUBLISH
X-ORIGINAL-URL:https://dresden-gruna.de
X-WR-CALDESC:Veranstaltungen für In Gruna leben e.V.
REFRESH-INTERVAL;VALUE=DURATION:PT1H
X-Robots-Tag:noindex
X-PUBLISHED-TTL:PT1H
BEGIN:VTIMEZONE
TZID:Europe/Berlin
BEGIN:DAYLIGHT
TZOFFSETFROM:+0100
TZOFFSETTO:+0200
TZNAME:CEST
DTSTART:20240331T010000
END:DAYLIGHT
BEGIN:STANDARD
TZOFFSETFROM:+0200
TZOFFSETTO:+0100
TZNAME:CET
DTSTART:20241027T010000
END:STANDARD
END:VTIMEZONE
BEGIN:VEVENT
DTSTART;TZID=Europe/Berlin:20240823T170000
DTEND;TZID=Europe/Berlin:20240823T183000
DTSTAMP:20260421T134737
CREATED:20240820T081111Z
LAST-MODIFIED:20240820T090225Z
UID:8100-1724432400-1724437800@dresden-gruna.de
SUMMARY:Infoveranstaltung - Am Frauensteiner Platz soll ein Spielplatz entstehen
DESCRIPTION:In Altgruna soll auf der Freifläche Frauensteiner Platz/Bärensteiner Straße zwischen den beiden Kleingartenvereinen ein Kinderspielplatz entstehen. Dazu fand bereits am 4. Mai 2024 eine Bürgerbeteiligung mit den Mitgliedern der Kleingartenvereine sowie mit interessierten Eltern und Kindern statt. Die dort gegebenen Ideen und Wünsche wurden in die vorläufige Planung für den Spielplatz aufgenommen. \nDas Amt für Stadtplanung und Mobilität lädt nun gemeinsam mit dem Planungsbüro alle Anwohnenden und Interessierten zu einer Informationsveranstaltung zum aktuellen Planungsstand für den Spielplatz und zum Austausch ein. \nWo: Eingangsbereich zu den Kleingärten\, Freifläche Frauensteiner Platz/Bärensteiner Straße \nWann: Freitag\, 23.08.2024 um 17.00 Uhr – 18.30 Uhr \nfindet die Spielplatzveranstaltung am Frauensteinerplatz statt. \n  \nEine Anmeldung ist nicht erforderlich. \nFlyer Infoveranstaltung – Spielplatzentwurf am Frauensteiner Platz – 23.08.24 \n  \n  \nDie Finanzierung erfolgt durch das Förderprogramm „Nachhaltige integrierte Stadtentwicklung“. Das Förderprogramm läuft seit 2021 bis 2027 und ist Teil des Europäischen Fonds für Regionale Entwicklung (EFRE).
URL:https://dresden-gruna.de/event/informationsveranstaltung-am-frauensteiner-platz/
LOCATION:KGV Alte Elbe\, Frauensteinerplatz\, Dresden\, 01277
CATEGORIES:Planungs- und Absprachetreffen
ATTACH;FMTTYPE=image/jpeg:https://dresden-gruna.de/wp-content/uploads/2024/08/Bild-Spielplatzentwurf_Frauensteiner_Platz-23.08.24.jpg
END:VEVENT
BEGIN:VEVENT
DTSTART;TZID=Europe/Berlin:20240823T180000
DTEND;TZID=Europe/Berlin:20240823T190000
DTSTAMP:20260421T134737
CREATED:20240726T142600Z
LAST-MODIFIED:20240726T142600Z
UID:7999-1724436000-1724439600@dresden-gruna.de
SUMMARY:Pizzica-Tanzkurs im Akazienhof
DESCRIPTION:Hast du Lust draußen zu tanzen und einen lebendigen\, rhythmischen\,\ndynamischen Tanz aus Süditalien – La Pizzica – kennenzulernen?\nEinst ein Trance- und Heilungstanz\, wird die Pizzica heute oftmals\npaarweise auf Festen getanzt. Aber natürlich auch solo\, für sich selbst.\nWir lernen konkrete Schritte und Bewegungen\, jedoch ist es eine\nganzheitliche Praxis\, wobei es auch immer um dein Sein\, dein Fühlen und\nden Ausdruck mit dir & deinem Körper geht.\nProbier es aus\, komm vorbei!\nFreitags 18 Uhr\, im Akazienhof in Gruna. \nTeilnahme auf Spendenbasis (10-15 €) \nBitte anmelden bei Anja Schumann:\nTel. 0176 69078162 oder\nanya15@posteo.de \nMehr zu Pizzica und Anja Schumann: Home – Pizzica Tanzen Dresden (pizzica-tanzen.de)
URL:https://dresden-gruna.de/event/pizzica-tanzkurs-im-akazienhof-6/
LOCATION:Villa Akazienhof\, Schneebergstraße 16\, Schneebergstr. 16\, Dresden\, Sachsen\, 01277\, Deutschland
CATEGORIES:Akazienhof,Treffen und Kurse
ATTACH;FMTTYPE=image/png:https://dresden-gruna.de/wp-content/uploads/2024/06/PizzicaTanzkursAkazienhof-e1718990104383.png
END:VEVENT
BEGIN:VEVENT
DTSTART;TZID=Europe/Berlin:20240823T190000
DTEND;TZID=Europe/Berlin:20240823T210000
DTSTAMP:20260421T134737
CREATED:20240725T112217Z
LAST-MODIFIED:20240726T141013Z
UID:7963-1724439600-1724446800@dresden-gruna.de
SUMMARY:Filmabend von & mit Bienenfreunden
DESCRIPTION:Wir laden alle Bienenfreunde und Bienenfreundinnen herzlich ein\, an unserem Filmabend im Akazienhof Pavillon teilzunehmen. \nEintritt frei
URL:https://dresden-gruna.de/event/filmabend-von-mit-bienenfreunden/
LOCATION:Villa Akazienhof\, Schneebergstraße 16\, Schneebergstr. 16\, Dresden\, Sachsen\, 01277\, Deutschland
CATEGORIES:Akazienhof
ORGANIZER;CN="'In Gruna leben' e.V.":MAILTO:post@dresden-gruna.de
END:VEVENT
END:VCALENDAR