BEGIN:VCALENDAR
VERSION:2.0
PRODID:-//In Gruna leben e.V. - ECPv6.8.3//NONSGML v1.0//EN
CALSCALE:GREGORIAN
METHOD:PUBLISH
X-ORIGINAL-URL:https://dresden-gruna.de
X-WR-CALDESC:Veranstaltungen für In Gruna leben e.V.
REFRESH-INTERVAL;VALUE=DURATION:PT1H
X-Robots-Tag:noindex
X-PUBLISHED-TTL:PT1H
BEGIN:VTIMEZONE
TZID:Europe/Berlin
BEGIN:DAYLIGHT
TZOFFSETFROM:+0100
TZOFFSETTO:+0200
TZNAME:CEST
DTSTART:20240331T010000
END:DAYLIGHT
BEGIN:STANDARD
TZOFFSETFROM:+0200
TZOFFSETTO:+0100
TZNAME:CET
DTSTART:20241027T010000
END:STANDARD
END:VTIMEZONE
BEGIN:VEVENT
DTSTART;TZID=Europe/Berlin:20240719T180000
DTEND;TZID=Europe/Berlin:20240719T180000
DTSTAMP:20260421T150810
CREATED:20240621T171527Z
LAST-MODIFIED:20240704T135352Z
UID:7671-1721412000-1721412000@dresden-gruna.de
SUMMARY:Pizzica - Tanzkurs im Akazienhof
DESCRIPTION:Hast du Lust draußen zu tanzen & einen lebendigen\, rhythmischen\,\ndynamischen Tanz aus Süditalien – La Pizzica – kennenzulernen?\nEinst ein Trance- und Heilungstanz\, wird die Pizzica heute oftmals\npaarweise auf Festen getanzt. Aber natürlich auch solo\, für sich selbst.\nWir lernen konkrete Schritte & Bewegungen\, jedoch ist es eine\nganzheitliche Praxis\, wobei es auch immer um dein Sein\, dein Fühlen &\ndein Ausdruck mit dir & deinem Körper geht.\nProbier es aus\, komm vorbei!\nFreitags 18 Uhr\, im Akazienhof in Gruna. \nTeilnahme auf Spendenbasis (10-15 €) \nBitte anmelden bei Anja Schumann:\nTel. 0176 69078162 oder\nanya15@posteo.de \nMehr zu Pizzica und Anja Schumann: Home – Pizzica Tanzen Dresden (pizzica-tanzen.de)
URL:https://dresden-gruna.de/event/pizzica-tanzkurs-im-akazienhof/
LOCATION:Villa Akazienhof\, Schneebergstraße 16\, Schneebergstr. 16\, Dresden\, Sachsen\, 01277\, Deutschland
CATEGORIES:Akazienhof
ATTACH;FMTTYPE=image/png:https://dresden-gruna.de/wp-content/uploads/2024/06/PizzicaTanzkursAkazienhof-e1718990104383.png
END:VEVENT
END:VCALENDAR