BEGIN:VCALENDAR
VERSION:2.0
PRODID:-//In Gruna leben e.V. - ECPv6.8.3//NONSGML v1.0//EN
CALSCALE:GREGORIAN
METHOD:PUBLISH
X-ORIGINAL-URL:https://dresden-gruna.de
X-WR-CALDESC:Veranstaltungen für In Gruna leben e.V.
REFRESH-INTERVAL;VALUE=DURATION:PT1H
X-Robots-Tag:noindex
X-PUBLISHED-TTL:PT1H
BEGIN:VTIMEZONE
TZID:Europe/Berlin
BEGIN:DAYLIGHT
TZOFFSETFROM:+0100
TZOFFSETTO:+0200
TZNAME:CEST
DTSTART:20240331T010000
END:DAYLIGHT
BEGIN:STANDARD
TZOFFSETFROM:+0200
TZOFFSETTO:+0100
TZNAME:CET
DTSTART:20241027T010000
END:STANDARD
END:VTIMEZONE
BEGIN:VEVENT
DTSTART;TZID=Europe/Berlin:20240718T130000
DTEND;TZID=Europe/Berlin:20240718T180000
DTSTAMP:20260421T150810
CREATED:20240627T113700Z
LAST-MODIFIED:20240627T113700Z
UID:7788-1721307600-1721325600@dresden-gruna.de
SUMMARY:Sprechzeit im Bürgertreff
DESCRIPTION:Sie können persönlich Kontakt zu uns aufnehmen und Anregungen\, Ideen & Wünsche äußern\, Fragen stellen oder Dich über unsere Aktionen und Mitmach-Möglichkeiten informieren. \nSie können aber auch gern einen Termin außerhalb der Sprechzeit  vereinbaren.  Telefon:    0351 26552063   oder  015227717854  vielen Dank
URL:https://dresden-gruna.de/event/sprechzeit-im-buergertreff-109/
LOCATION:Bürger-Treff „Grunaer Aue“ Winterbergstr.31c\, 01277 Dresden\, Winterbergstraße 31c\, Dresden\, 01277\, Deutschland
ORGANIZER;CN="'In Gruna leben' e.V.":MAILTO:post@dresden-gruna.de
END:VEVENT
BEGIN:VEVENT
DTSTART;TZID=Europe/Berlin:20240718T160000
DTEND;TZID=Europe/Berlin:20240718T180000
DTSTAMP:20260421T150810
CREATED:20240627T104551Z
LAST-MODIFIED:20240701T181902Z
UID:7761-1721318400-1721325600@dresden-gruna.de
SUMMARY:Workshop zum Bau von Insektenhotels
DESCRIPTION:Auch unsere kleinen Brummer brauchen ein Zuhause. \nKommt vorbei und lernt wie ein Zuhause für Insekten gebaut wird. \nTeilnehmerbeitrag: 4 €
URL:https://dresden-gruna.de/event/insektenhotel/
LOCATION:Bürger-Treff „Grunaer Aue“ Winterbergstr.31c\, 01277 Dresden\, Winterbergstraße 31c\, Dresden\, 01277\, Deutschland
ATTACH;FMTTYPE=image/jpeg:https://dresden-gruna.de/wp-content/uploads/2024/04/insektenhotel-befuellen.jpg
ORGANIZER;CN="'In Gruna leben' e.V.":MAILTO:post@dresden-gruna.de
END:VEVENT
BEGIN:VEVENT
DTSTART;TZID=Europe/Berlin:20240718T170000
DTEND;TZID=Europe/Berlin:20240718T200000
DTSTAMP:20260421T150810
CREATED:20240627T103458Z
LAST-MODIFIED:20240627T103458Z
UID:7756-1721322000-1721332800@dresden-gruna.de
SUMMARY:RepairCafé Gruna
DESCRIPTION:Achtung anderer Ort  Familienzentrum Pauline\, \nSie möchten die Lebensdauer defekter Geräte verlängern? Dann sind Sie herzlich ins RepairCafé Gruna eingeladen. Als Gast oder Reparaturhelfer können Sie dazu beitragen\, Ressourcen zu schonen und Schrott zu vermeiden. Es können alle beweglichen Gegenstände mitgebracht werden\, die sich transportieren lassen. Ausgeschlossen sind Fahrräder und sperrige Haushaltsgroßgeräte wie Waschmaschinen und Kühlschränke. \nKooperationsprojekt\nDas RepairCafé Gruna ist eine Kooperation des „In Gruna leben e. V.“mit dem Netzwerk RepairCafé Dresden-Freital und dem Familienzentrum Pauline. Weiter Informationen zum Thema RepairCafé finden Sie hier. \nTeilnahme: Bitte vereinbaren Sie einen Reparaturtermin unter \nTel: 0151 100 57 433.  Interessierte Reparaturtalente für den Standort Gruna melden sich bitte unter tanja@dresden-gruna.de oder Tel/ WhatsApp 0176/ 32918719.
URL:https://dresden-gruna.de/event/repaircafe-gruna-8/
LOCATION:Bürger-Treff „Grunaer Aue“ Winterbergstr.31c\, 01277 Dresden\, Winterbergstraße 31c\, Dresden\, 01277\, Deutschland
ORGANIZER;CN="'In Gruna leben' e.V.":MAILTO:post@dresden-gruna.de
END:VEVENT
END:VCALENDAR