BEGIN:VCALENDAR
VERSION:2.0
PRODID:-//In Gruna leben e.V. - ECPv6.8.3//NONSGML v1.0//EN
CALSCALE:GREGORIAN
METHOD:PUBLISH
X-ORIGINAL-URL:https://dresden-gruna.de
X-WR-CALDESC:Veranstaltungen für In Gruna leben e.V.
REFRESH-INTERVAL;VALUE=DURATION:PT1H
X-Robots-Tag:noindex
X-PUBLISHED-TTL:PT1H
BEGIN:VTIMEZONE
TZID:Europe/Berlin
BEGIN:DAYLIGHT
TZOFFSETFROM:+0100
TZOFFSETTO:+0200
TZNAME:CEST
DTSTART:20240331T010000
END:DAYLIGHT
BEGIN:STANDARD
TZOFFSETFROM:+0200
TZOFFSETTO:+0100
TZNAME:CET
DTSTART:20241027T010000
END:STANDARD
END:VTIMEZONE
BEGIN:VEVENT
DTSTART;TZID=Europe/Berlin:20240715T133000
DTEND;TZID=Europe/Berlin:20240715T170000
DTSTAMP:20260421T150833
CREATED:20240627T111828Z
LAST-MODIFIED:20240627T111828Z
UID:7765-1721050200-1721062800@dresden-gruna.de
SUMMARY:Wir gehen in den Zoo
DESCRIPTION:Streifzug mit Blick hinter die Kulissen im Prof. Brandes Haus. \nBitte beachten!! \nAnmeldung unter: 015227717854
URL:https://dresden-gruna.de/event/wir-gehen-in-den-zoo/
LOCATION:Bürger-Treff „Grunaer Aue“ Winterbergstr.31c\, 01277 Dresden\, Winterbergstraße 31c\, Dresden\, 01277\, Deutschland
ATTACH;FMTTYPE=image/jpeg:https://dresden-gruna.de/wp-content/uploads/2024/06/1024-Zoo-Koala-Mullaya_Simone-Hofmann.jpg
ORGANIZER;CN="'In Gruna leben' e.V.":MAILTO:post@dresden-gruna.de
END:VEVENT
BEGIN:VEVENT
DTSTART;TZID=Europe/Berlin:20240715T150000
DTEND;TZID=Europe/Berlin:20240715T170000
DTSTAMP:20260421T150833
CREATED:20240627T095957Z
LAST-MODIFIED:20240701T073548Z
UID:7736-1721055600-1721062800@dresden-gruna.de
SUMMARY:Sprechzeit des Nachbarschaftskreises
DESCRIPTION:Zeit für individuelle Fragen zur Nachbarschaftshilfe und zum Zusammenleben in Gruna
URL:https://dresden-gruna.de/event/sprechzeit-des-nachbarschaftskreises-11/
LOCATION:Bürger-Treff „Grunaer Aue“ Winterbergstr.31c\, 01277 Dresden\, Winterbergstraße 31c\, Dresden\, 01277\, Deutschland
ATTACH;FMTTYPE=image/jpeg:https://dresden-gruna.de/wp-content/uploads/2022/10/Nachbarschaftskreis-Logo.jpg
ORGANIZER;CN="Sigus e.V.":MAILTO:sigus-dd@t-online.de
END:VEVENT
BEGIN:VEVENT
DTSTART;TZID=Europe/Berlin:20240715T173000
DTEND;TZID=Europe/Berlin:20240715T173000
DTSTAMP:20260421T150833
CREATED:20240707T185310Z
LAST-MODIFIED:20240707T185310Z
UID:7903-1721064600-1721064600@dresden-gruna.de
SUMMARY:Gesprächsrunde zur Fotoausstellung über den Akazienhof
DESCRIPTION:Im Akazienhof war von 1950 bis 1990 ein Kindergarten beheimatet. Diese Kindergartenzeit und die Erinnerungen daran möchten wir in Form einer Fotoausstellung festhalten. \nAm Montag\, den 15.07. laden wir unter dem Motto „Wie wir im Kindergarten spielten\, lebten\, arbeiteten …“ zu einer Gesprächsrunde in den Akazienhof ein\, um uns über die geplante Fotoausstellung auszutauschen. \nFür die Ausstellung suchen wir nach Fotos\, Zeichnungen\, Dokumente und Zeitzeugen aus der Kindergartenzeit\, die von Früher erzählen. Daraus wollen wir dann die Ausstellung zusammenstellen.\nWir bitten daher alle\, die solches Material bzw. Geschichten und Erinnerungen haben\, uns diese zu übermitteln.\nWir freuen uns auf eine rege Teilnahme an der Gesprächsrunde und an der Ausstellung! \nKontaktieren Sie uns:\nPer Telefon: 0157 51514692\nE-Mail: akazienhof@dresden-gruna.de\nPost: Stadtteilverein „In Gruna leben e.V.“ – Bürgertreff „Grunaer Aue“ auf der Winterbergstr. 31c 01277 Dresden\nOder persönlich: im Akazienhof Schneebergstr. 16 01277 Dresden
URL:https://dresden-gruna.de/event/gespraechsrunde-zur-fotoausstellung-ueber-den-akazienhof/
LOCATION:Villa Akazienhof\, Schneebergstraße 16\, Schneebergstr. 16\, Dresden\, Sachsen\, 01277\, Deutschland
CATEGORIES:Akazienhof
ATTACH;FMTTYPE=image/jpeg:https://dresden-gruna.de/wp-content/uploads/2024/06/01_Akazienhof_Ausschnitt_Rosenberg-Villa_Historie-0004-e1720378294765.jpg
END:VEVENT
END:VCALENDAR