BEGIN:VCALENDAR
VERSION:2.0
PRODID:-//In Gruna leben e.V. - ECPv6.8.3//NONSGML v1.0//EN
CALSCALE:GREGORIAN
METHOD:PUBLISH
X-ORIGINAL-URL:https://dresden-gruna.de
X-WR-CALDESC:Veranstaltungen für In Gruna leben e.V.
REFRESH-INTERVAL;VALUE=DURATION:PT1H
X-Robots-Tag:noindex
X-PUBLISHED-TTL:PT1H
BEGIN:VTIMEZONE
TZID:Europe/Berlin
BEGIN:DAYLIGHT
TZOFFSETFROM:+0100
TZOFFSETTO:+0200
TZNAME:CEST
DTSTART:20240331T010000
END:DAYLIGHT
BEGIN:STANDARD
TZOFFSETFROM:+0200
TZOFFSETTO:+0100
TZNAME:CET
DTSTART:20241027T010000
END:STANDARD
END:VTIMEZONE
BEGIN:VEVENT
DTSTART;TZID=Europe/Berlin:20240712T163000
DTEND;TZID=Europe/Berlin:20240712T171500
DTSTAMP:20260421T150833
CREATED:20240612T152225Z
LAST-MODIFIED:20240612T153940Z
UID:7579-1720801800-1720804500@dresden-gruna.de
SUMMARY:Fit im Park - Kindersport 3-5 Jahre
DESCRIPTION:Ein spielerisches Bewegungsprogramm\, das die motorischen Fähigkeiten\, Koordination und Teamfähigkeit von Kindern im Vorschulalter fördert.
URL:https://dresden-gruna.de/event/fit-im-park-kindersport-3-5-jahre-6/
LOCATION:Rothermundpark\, Dresden\, 01277
CATEGORIES:Treffen und Kurse
ATTACH;FMTTYPE=image/png:https://dresden-gruna.de/wp-content/uploads/2024/05/Fit-im-Park.png
END:VEVENT
BEGIN:VEVENT
DTSTART;TZID=Europe/Berlin:20240712T173000
DTEND;TZID=Europe/Berlin:20240712T183000
DTSTAMP:20260421T150833
CREATED:20240612T151558Z
LAST-MODIFIED:20240612T153957Z
UID:7571-1720805400-1720809000@dresden-gruna.de
SUMMARY:Fit im Park - Lass brennen!
DESCRIPTION:Ein intensives Training\, das darauf abzielt\, Kalorien zu verbrennen\, die Ausdauer zu verbessern und die Muskelkraft durch verschiedene Cardio- und Kraftübungen zu steigern. \nBitte bringe zu diesem Kurs ein Handtuch oder eine Matte mit!
URL:https://dresden-gruna.de/event/fit-im-park-lass-brennen-7/
LOCATION:Rothermundpark\, Dresden\, 01277
CATEGORIES:Treffen und Kurse
ATTACH;FMTTYPE=image/png:https://dresden-gruna.de/wp-content/uploads/2024/05/Fit-im-Park.png
END:VEVENT
END:VCALENDAR