BEGIN:VCALENDAR
VERSION:2.0
PRODID:-//In Gruna leben e.V. - ECPv6.8.3//NONSGML v1.0//EN
CALSCALE:GREGORIAN
METHOD:PUBLISH
X-ORIGINAL-URL:https://dresden-gruna.de
X-WR-CALDESC:Veranstaltungen für In Gruna leben e.V.
REFRESH-INTERVAL;VALUE=DURATION:PT1H
X-Robots-Tag:noindex
X-PUBLISHED-TTL:PT1H
BEGIN:VTIMEZONE
TZID:Europe/Berlin
BEGIN:DAYLIGHT
TZOFFSETFROM:+0100
TZOFFSETTO:+0200
TZNAME:CEST
DTSTART:20240331T010000
END:DAYLIGHT
BEGIN:STANDARD
TZOFFSETFROM:+0200
TZOFFSETTO:+0100
TZNAME:CET
DTSTART:20241027T010000
END:STANDARD
END:VTIMEZONE
BEGIN:VEVENT
DTSTART;TZID=Europe/Berlin:20240627T080000
DTEND;TZID=Europe/Berlin:20240627T170000
DTSTAMP:20260421T164758
CREATED:20240627T100249Z
LAST-MODIFIED:20240627T100249Z
UID:7741-1719475200-1719507600@dresden-gruna.de
SUMMARY:Bitte beachten im Juli findet keine Selbsthilfegruppe Eltern für Kinder statt
DESCRIPTION:
URL:https://dresden-gruna.de/event/bitte-beachten-im-juli-findet-keine-selbsthilfegruppe-eltern-fuer-kinder-statt-2/
END:VEVENT
BEGIN:VEVENT
DTSTART;TZID=Europe/Berlin:20240627T080000
DTEND;TZID=Europe/Berlin:20240627T170000
DTSTAMP:20260421T164758
CREATED:20240627T115114Z
LAST-MODIFIED:20240627T115114Z
UID:7795-1719475200-1719507600@dresden-gruna.de
SUMMARY:Bitte beachten Sie\, das im Juli kein Plenum stattfindet\, das nächste Plenum ist am 06.08.24 im Bürgertreff
DESCRIPTION:
URL:https://dresden-gruna.de/event/bitte-beachten-sie-das-im-juli-kein-plenum-stattfindet-das-naechste-plenum-ist-am-06-08-24-im-buergertreff/
LOCATION:Bürger-Treff „Grunaer Aue“ Winterbergstr.31c\, 01277 Dresden\, Winterbergstraße 31c\, Dresden\, 01277\, Deutschland
ORGANIZER;CN="'In Gruna leben' e.V.":MAILTO:post@dresden-gruna.de
END:VEVENT
BEGIN:VEVENT
DTSTART;TZID=Europe/Berlin:20240627T180000
DTEND;TZID=Europe/Berlin:20240627T190000
DTSTAMP:20260421T164758
CREATED:20240612T154246Z
LAST-MODIFIED:20240612T154643Z
UID:7591-1719511200-1719514800@dresden-gruna.de
SUMMARY:Cumanana - Afro-Latino Tanzkurs am Akazienhof
DESCRIPTION:Vom 23. Mai bis 11. Juli und im ganzen August findet jeden Donnerstag zwischen 18 und 19 Uhr im Akazienhof ein afro-lateinamerikanischer Tanzkurs statt – Cumanana.\nCumanana kombiniert die lebhaften Rhythmen und Klänge der Afro-Volksmusik aus Peru\, Brasilien und der Karibik mit wirbelnden Kreisformationen. \nDer Kurs ist kostenlos und erfordert keine Anmeldung. Alle sind herzlich eingeladen teilzunehmen! \nKursleiterin María Vásquez de Grunewald: Instagram und Kurzvorstellung
URL:https://dresden-gruna.de/event/cumanana-afro-latino-tanzkurs-2/
LOCATION:Villa Akazienhof\, Schneebergstraße 16\, Schneebergstr. 16\, Dresden\, Sachsen\, 01277\, Deutschland
CATEGORIES:Akazienhof
ATTACH;FMTTYPE=image/jpeg:https://dresden-gruna.de/wp-content/uploads/2024/05/Insta_Akazienhof_Info_Post-1-e1716141114389.jpg
END:VEVENT
END:VCALENDAR