BEGIN:VCALENDAR
VERSION:2.0
PRODID:-//In Gruna leben e.V. - ECPv6.8.3//NONSGML v1.0//EN
CALSCALE:GREGORIAN
METHOD:PUBLISH
X-ORIGINAL-URL:https://dresden-gruna.de
X-WR-CALDESC:Veranstaltungen für In Gruna leben e.V.
REFRESH-INTERVAL;VALUE=DURATION:PT1H
X-Robots-Tag:noindex
X-PUBLISHED-TTL:PT1H
BEGIN:VTIMEZONE
TZID:Europe/Berlin
BEGIN:DAYLIGHT
TZOFFSETFROM:+0100
TZOFFSETTO:+0200
TZNAME:CEST
DTSTART:20240331T010000
END:DAYLIGHT
BEGIN:STANDARD
TZOFFSETFROM:+0200
TZOFFSETTO:+0100
TZNAME:CET
DTSTART:20241027T010000
END:STANDARD
END:VTIMEZONE
BEGIN:VEVENT
DTSTART;TZID=Europe/Berlin:20240626T153000
DTEND;TZID=Europe/Berlin:20240626T163000
DTSTAMP:20260421T164716
CREATED:20240527T121753Z
LAST-MODIFIED:20240625T200118Z
UID:7346-1719415800-1719419400@dresden-gruna.de
SUMMARY:Redaktionstreffen zur Fotoausstellung über Gruna
DESCRIPTION:Vorbereitet wird eine Fotoausstellung über Gruna. \nMach mit! – Verstärke das Redaktionsteam! \nDas Reaktionsteam trifft sich am Mittwoch 15:30 in der Seniorenbegegnungsstätte „fidelio“ \nIn der Redaktion zur Fotoausstellung über Dresden-Gruna ist von der Bildsammlung\, Organisation bis Textgestaltung einiges zu tun. \nThemen sind u.a.\n– Bilder sortieren und einordnen!\n– Bilderpräsentation beraten! \n-Geplant sind auch Workshops rund um die Fotografie. \nSeid Herzlich Willkommen zum nächsten Werkstattgespräch \nWeitere Infos auf der Webseite \n  \n 
URL:https://dresden-gruna.de/event/redaktionstreffen-zur-fotoausstellung-ueber-gruna/
LOCATION:fidelio\, Papstdorfer Str. 25\, Dresden\, 01277\, Deutschland
END:VEVENT
BEGIN:VEVENT
DTSTART;TZID=Europe/Berlin:20240626T183000
DTEND;TZID=Europe/Berlin:20240626T193000
DTSTAMP:20260421T164716
CREATED:20240612T152919Z
LAST-MODIFIED:20240612T153632Z
UID:7583-1719426600-1719430200@dresden-gruna.de
SUMMARY:Fit im Park - Afro-Latino Tanz
DESCRIPTION:Ein mitreißender Tanzkurs\, der afrikanische und lateinamerikanische Tanzstile kombiniert\, um Spaß zu haben\, Kalorien zu verbrennen und das Rhythmusgefühl zu verbessern. \nDieser Kurs wird von María Vasquez de Grunewald geleitet\, welche jeden Donnerstag auch hier im Akazienhof den afro-latino Tanzkurs „Cumanana“ anbietet.
URL:https://dresden-gruna.de/event/fit-im-park-afro-latino-tanz-5/
LOCATION:Tolkewitz Sportplatz\, Tolkewitzerstr. 61\, Dresden\, 01277\, Deutschland
CATEGORIES:Treffen und Kurse
ATTACH;FMTTYPE=image/png:https://dresden-gruna.de/wp-content/uploads/2024/05/Fit-im-Park.png
END:VEVENT
END:VCALENDAR