BEGIN:VCALENDAR
VERSION:2.0
PRODID:-//In Gruna leben e.V. - ECPv6.8.3//NONSGML v1.0//EN
CALSCALE:GREGORIAN
METHOD:PUBLISH
X-ORIGINAL-URL:https://dresden-gruna.de
X-WR-CALDESC:Veranstaltungen für In Gruna leben e.V.
REFRESH-INTERVAL;VALUE=DURATION:PT1H
X-Robots-Tag:noindex
X-PUBLISHED-TTL:PT1H
BEGIN:VTIMEZONE
TZID:Europe/Berlin
BEGIN:DAYLIGHT
TZOFFSETFROM:+0100
TZOFFSETTO:+0200
TZNAME:CEST
DTSTART:20240331T010000
END:DAYLIGHT
BEGIN:STANDARD
TZOFFSETFROM:+0200
TZOFFSETTO:+0100
TZNAME:CET
DTSTART:20241027T010000
END:STANDARD
END:VTIMEZONE
BEGIN:VEVENT
DTSTART;TZID=Europe/Berlin:20240621T163000
DTEND;TZID=Europe/Berlin:20240621T171500
DTSTAMP:20260421T164645
CREATED:20240612T151711Z
LAST-MODIFIED:20240612T153604Z
UID:7573-1718987400-1718990100@dresden-gruna.de
SUMMARY:Kindersport 3-5 Jahre
DESCRIPTION:Ein spielerisches Bewegungsprogramm\, das die motorischen Fähigkeiten\, Koordination und Teamfähigkeit von Kindern im Vorschulalter fördert.
URL:https://dresden-gruna.de/event/kindersport-3-5-jahre/
LOCATION:Rothermundpark\, Dresden\, 01277
CATEGORIES:Treffen und Kurse
ATTACH;FMTTYPE=image/png:https://dresden-gruna.de/wp-content/uploads/2024/05/Fit-im-Park.png
END:VEVENT
BEGIN:VEVENT
DTSTART;TZID=Europe/Berlin:20240621T173000
DTEND;TZID=Europe/Berlin:20240621T183000
DTSTAMP:20260421T164645
CREATED:20240612T151222Z
LAST-MODIFIED:20240612T153833Z
UID:7565-1718991000-1718994600@dresden-gruna.de
SUMMARY:Fit im Park - Lass brennen!
DESCRIPTION:Ein intensives Training\, das darauf abzielt\, Kalorien zu verbrennen\, die Ausdauer zu verbessern und die Muskelkraft durch verschiedene Cardio- und Kraftübungen zu steigern. \nBitte bringe zu diesem Kurs ein Handtuch oder eine Matte mit!
URL:https://dresden-gruna.de/event/fit-im-park-lass-brennen-4/
LOCATION:Rothermundpark\, Dresden\, 01277
CATEGORIES:Treffen und Kurse
ATTACH;FMTTYPE=image/png:https://dresden-gruna.de/wp-content/uploads/2024/05/Fit-im-Park.png
END:VEVENT
BEGIN:VEVENT
DTSTART;TZID=Europe/Berlin:20240621T180000
DTEND;TZID=Europe/Berlin:20240621T190000
DTSTAMP:20260421T164645
CREATED:20240612T155851Z
LAST-MODIFIED:20240612T155851Z
UID:7600-1718992800-1718996400@dresden-gruna.de
SUMMARY:Fête de la Musique - Musikalische Darbietung am Akazienhof
DESCRIPTION:Handpan Musik zum träumen\, fallen lassen und genießen. \nAm 21. Juni ist Matthias Gittner\, ein leidenschaftlicher Percussionist am Akazienhof und spielt eigene Kompositionen und frei improvisierte Songs auf seinem Handpan. \nWebsite von Matthias Gittner: http://www.darbukadd.de/
URL:https://dresden-gruna.de/event/fete-de-la-musique-musikalische-darbietung-am-akazienhof/
LOCATION:Villa Akazienhof\, Schneebergstraße 16\, Schneebergstr. 16\, Dresden\, Sachsen\, 01277\, Deutschland
CATEGORIES:Akazienhof
ATTACH;FMTTYPE=image/jpeg:https://dresden-gruna.de/wp-content/uploads/2024/06/Fete-1-e1718207767951.jpg
END:VEVENT
BEGIN:VEVENT
DTSTART;TZID=Europe/Berlin:20240621T180000
DTEND;TZID=Europe/Berlin:20240621T190000
DTSTAMP:20260421T164645
CREATED:20240621T114311Z
LAST-MODIFIED:20240621T114311Z
UID:7667-1718992800-1718996400@dresden-gruna.de
SUMMARY:Fête de la musique im Akazienhof
DESCRIPTION:Es wird musikalisch im Akazienhof. Am Freitag ist der Perkussionist Matthias Gittner zu Gast und spielt auf seinem Handpan eigene Songs und Improvisationen.\nKommt vorbei und genießt die klangvolle Musik unter dem grünen Blätterdach des Akazienhofs!
URL:https://dresden-gruna.de/event/fete-de-la-musique-im-akazienhof/
CATEGORIES:Akazienhof,Projekte und Aktionen
ATTACH;FMTTYPE=image/jpeg:https://dresden-gruna.de/wp-content/uploads/2024/06/Fr-21_Juni_24_Fete-de-la-Musique_Akazienhof_.jpg
END:VEVENT
END:VCALENDAR