BEGIN:VCALENDAR
VERSION:2.0
PRODID:-//In Gruna leben e.V. - ECPv6.8.3//NONSGML v1.0//EN
CALSCALE:GREGORIAN
METHOD:PUBLISH
X-ORIGINAL-URL:https://dresden-gruna.de
X-WR-CALDESC:Veranstaltungen für In Gruna leben e.V.
REFRESH-INTERVAL;VALUE=DURATION:PT1H
X-Robots-Tag:noindex
X-PUBLISHED-TTL:PT1H
BEGIN:VTIMEZONE
TZID:Europe/Berlin
BEGIN:DAYLIGHT
TZOFFSETFROM:+0100
TZOFFSETTO:+0200
TZNAME:CEST
DTSTART:20240331T010000
END:DAYLIGHT
BEGIN:STANDARD
TZOFFSETFROM:+0200
TZOFFSETTO:+0100
TZNAME:CET
DTSTART:20241027T010000
END:STANDARD
END:VTIMEZONE
BEGIN:VEVENT
DTSTART;TZID=Europe/Berlin:20240610T160000
DTEND;TZID=Europe/Berlin:20240610T180000
DTSTAMP:20260421T164710
CREATED:20240530T151429Z
LAST-MODIFIED:20240530T151429Z
UID:7470-1718035200-1718042400@dresden-gruna.de
SUMMARY:Malraum am Akazienhof
DESCRIPTION:„Male was in dir ist!“ \nJeden Montag gibt es die Möglichkeit im Grünen Pavillon des Akazienhofgartens der eigenen Kreativität freien Lauf zu lassen. \nJeweils eine Stunde intuitives Malen von 16-17 Uhr und 17-18 Uhr im Akazienhof. \nAnmeldung bei der Malraumleiterin Juliane Franke\nTel.: 01520 1969994\nE-Mail: juliane.franke77@gmail.com\nwww.JulianesTraumbilderwelten.de
URL:https://dresden-gruna.de/event/malraum-am-akazienhof-4/
LOCATION:Villa Akazienhof\, Schneebergstraße 16\, Schneebergstr. 16\, Dresden\, Sachsen\, 01277\, Deutschland
ATTACH;FMTTYPE=image/jpeg:https://dresden-gruna.de/wp-content/uploads/2024/05/Malraum-2.jpg
END:VEVENT
BEGIN:VEVENT
DTSTART;TZID=Europe/Berlin:20240610T170000
DTEND;TZID=Europe/Berlin:20240610T170000
DTSTAMP:20260421T164710
CREATED:20240604T161919Z
LAST-MODIFIED:20240604T184718Z
UID:7481-1718038800-1718038800@dresden-gruna.de
SUMMARY:Grunaer PflegeCafé
DESCRIPTION:Das Grunaer PflegeCafé öffnet seine Türen für Menschen mit Unterstützungsbedarf\, ihre Angehörigen sowie Nachbarinnen und Nachbarn. \nBei uns muss niemand wegen des hohen Alters allein bleiben! \nBei dem PflegeCafé geht es um das Bemühen um Verbesserung der Lebensumstände Pflegebedürftiger\, betagter und einsamer Nachbarn. Alltagssorgen\, insbesondere zum diesmaligen Thema Einsamkeit im Alter finden hier Gehör. \nEingeladen sind Claudia Windisch von der WGJ\, Stefan Pohontsch von WG Aufbau eG. sowie ggf. Verantwortliche der Vonovia\, um sich mit der Frage zu beschäftigen\, was Wohnungsunternehmen für alleinlebende und hochbetagte Mieter tun können. \nEs laden ein:\nASB-Begegnungszentrum „Wiesenhäuser“\nEv.-Luth. Kirchgemeinde Dresden Gruna-Seidnitz\nLebendiger leben! e.V.\nNachbarschaftskreis Gruna\nSeniorenbegegnungsstätte „fidelio“ der Volkssolidarität \nAlle weiteren Infos zum PflegeCafé: 24-06-10 Pflegecafe einladung A4
URL:https://dresden-gruna.de/event/grunaer-pflegecafe/
LOCATION:Lebendiger Leben! e.V.\, Rosenbergstr. 10\, Dresden\, 01277
ATTACH;FMTTYPE=image/jpeg:https://dresden-gruna.de/wp-content/uploads/2024/06/Logo-III-e1717526829951.jpg
END:VEVENT
END:VCALENDAR