BEGIN:VCALENDAR
VERSION:2.0
PRODID:-//In Gruna leben e.V. - ECPv6.8.3//NONSGML v1.0//EN
CALSCALE:GREGORIAN
METHOD:PUBLISH
X-ORIGINAL-URL:https://dresden-gruna.de
X-WR-CALDESC:Veranstaltungen für In Gruna leben e.V.
REFRESH-INTERVAL;VALUE=DURATION:PT1H
X-Robots-Tag:noindex
X-PUBLISHED-TTL:PT1H
BEGIN:VTIMEZONE
TZID:Europe/Berlin
BEGIN:DAYLIGHT
TZOFFSETFROM:+0100
TZOFFSETTO:+0200
TZNAME:CEST
DTSTART:20240331T010000
END:DAYLIGHT
BEGIN:STANDARD
TZOFFSETFROM:+0200
TZOFFSETTO:+0100
TZNAME:CET
DTSTART:20241027T010000
END:STANDARD
END:VTIMEZONE
BEGIN:VEVENT
DTSTART;TZID=Europe/Berlin:20240606T180000
DTEND;TZID=Europe/Berlin:20240606T190000
DTSTAMP:20260421T164711
CREATED:20240527T152750Z
LAST-MODIFIED:20240527T152750Z
UID:7370-1717696800-1717700400@dresden-gruna.de
SUMMARY:Cumanana - Afro-Latino Tanzkurs am Akazienhof
DESCRIPTION:Vom 23. Mai bis 11. Juli und im ganzen August findet jeden Donnerstag zwischen 18 und 19 Uhr am Akazienhof ein afro-lateinamerikanischer Tanzkurs statt – Cumanana.\nCumanana kombiniert die lebhaften Rhythmen und Klänge der Afro-Volksmusik aus Peru\, Brasilien und der Karibik mit wirbelnden Kreisformationen. \nDer Kurs ist kostenlos und erfordert keine Anmeldung. Alle sind herzlich eingeladen teilzunehmen! \nKursleiterin María Vásquez de Grunewald: Instagram und Kurzvorstellung
URL:https://dresden-gruna.de/event/cumanana-afro-latino-tanzkurs-am-akazienhof/
LOCATION:Villa Akazienhof\, Schneebergstraße 16\, Schneebergstr. 16\, Dresden\, Sachsen\, 01277\, Deutschland
ATTACH;FMTTYPE=image/jpeg:https://dresden-gruna.de/wp-content/uploads/2024/05/Insta_Akazienhof_Info_Post-1-e1716141114389.jpg
END:VEVENT
BEGIN:VEVENT
DTSTART;TZID=Europe/Berlin:20240606T193000
DTEND;TZID=Europe/Berlin:20240606T213000
DTSTAMP:20260421T164711
CREATED:20240604T123232Z
LAST-MODIFIED:20240604T123232Z
UID:7478-1717702200-1717709400@dresden-gruna.de
SUMMARY:Mandala Malabend
DESCRIPTION:Du willst in geselliger Runde malen? Nette Gespräche haben? Inspiration erleben? Den Abend sinnvoll gestalten?\nDann sei gerne beim Mandala Malabend dabei! \nEine Anleitung zum Mandalamalen ist möglich. \nAnmeldung bei Juliane Franke\nTel.: 01520 1969994\,\nE-Mail: juliane.franke77@gmail.com\nwww.JulianesTraumbilderwelten.de \nDie Teilnahmegebühr beträgt 10€.\nGetränke gibt es ab 2\,50€
URL:https://dresden-gruna.de/event/mandala-malabend/
LOCATION:Bürger-Treff „Grunaer Aue“ Winterbergstr.31c\, 01277 Dresden\, Winterbergstraße 31c\, Dresden\, 01277\, Deutschland
ATTACH;FMTTYPE=image/jpeg:https://dresden-gruna.de/wp-content/uploads/2024/06/Mandala-Mal-Abend_Hintergrund-e1717504322434.jpg
END:VEVENT
END:VCALENDAR